BEGIN:VCALENDAR
VERSION:2.0
PRODID:-//Coramba Hotel - ECPv6.15.20//NONSGML v1.0//EN
CALSCALE:GREGORIAN
METHOD:PUBLISH
X-WR-CALNAME:Coramba Hotel
X-ORIGINAL-URL:https://thecorambahotel.com.au
X-WR-CALDESC:Events for Coramba Hotel
REFRESH-INTERVAL;VALUE=DURATION:PT1H
X-Robots-Tag:noindex
X-PUBLISHED-TTL:PT1H
BEGIN:VTIMEZONE
TZID:Australia/Sydney
BEGIN:STANDARD
TZOFFSETFROM:+1100
TZOFFSETTO:+1000
TZNAME:AEST
DTSTART:20200404T160000
END:STANDARD
BEGIN:DAYLIGHT
TZOFFSETFROM:+1000
TZOFFSETTO:+1100
TZNAME:AEDT
DTSTART:20201003T160000
END:DAYLIGHT
BEGIN:STANDARD
TZOFFSETFROM:+1100
TZOFFSETTO:+1000
TZNAME:AEST
DTSTART:20210403T160000
END:STANDARD
BEGIN:DAYLIGHT
TZOFFSETFROM:+1000
TZOFFSETTO:+1100
TZNAME:AEDT
DTSTART:20211002T160000
END:DAYLIGHT
BEGIN:STANDARD
TZOFFSETFROM:+1100
TZOFFSETTO:+1000
TZNAME:AEST
DTSTART:20220402T160000
END:STANDARD
BEGIN:DAYLIGHT
TZOFFSETFROM:+1000
TZOFFSETTO:+1100
TZNAME:AEDT
DTSTART:20221001T160000
END:DAYLIGHT
BEGIN:STANDARD
TZOFFSETFROM:+1100
TZOFFSETTO:+1000
TZNAME:AEST
DTSTART:20230401T160000
END:STANDARD
BEGIN:DAYLIGHT
TZOFFSETFROM:+1000
TZOFFSETTO:+1100
TZNAME:AEDT
DTSTART:20230930T160000
END:DAYLIGHT
END:VTIMEZONE
BEGIN:VEVENT
DTSTART;TZID=Australia/Sydney:20220410T120000
DTEND;TZID=Australia/Sydney:20220410T140000
DTSTAMP:20260421T030526
CREATED:20220324T063612Z
LAST-MODIFIED:20220324T063738Z
UID:10000578-1649592000-1649599200@thecorambahotel.com.au
SUMMARY:FREE Kids Activities | Smiley Squad
DESCRIPTION:Fun School Holiday activities! We have you covered from 12pm – 2pm during school holidays on Sunday 10Apr & Sunday 24 Apr.\n\n\n\nCome enjoy school holiday Arts & Crafts for the kiddies with the Smiley Squad  
URL:https://thecorambahotel.com.au/event/free-kids-activities-smiley-squad-3/
LOCATION:Coramba Hotel\, 17 Gale St\, Coramba\, NSW\, 2450\, Australia
CATEGORIES:Entertainment
ATTACH;FMTTYPE=image/jpeg:https://thecorambahotel.com.au/wp-content/uploads/2022/03/CH_SchoolHolsKidsActivities_APR2022_WEB.jpg
END:VEVENT
BEGIN:VEVENT
DTSTART;TZID=Australia/Sydney:20220327T130000
DTEND;TZID=Australia/Sydney:20220327T160000
DTSTAMP:20260421T030526
CREATED:20220324T061648Z
LAST-MODIFIED:20220324T061648Z
UID:10000581-1648386000-1648396800@thecorambahotel.com.au
SUMMARY:SUNDAY SESH | Chris Staff
DESCRIPTION:The Coramba Hotel present Sunday Sessions in the beer garden | Live Music from 1pm\n\n\nPlus\, our amazing Bistro menu\, Chef’s Specials – a great family day out!
URL:https://thecorambahotel.com.au/event/sunday-sesh-chris-staff/
LOCATION:Coramba Hotel\, 17 Gale St\, Coramba\, NSW\, 2450\, Australia
CATEGORIES:Entertainment
ATTACH;FMTTYPE=image/jpeg:https://thecorambahotel.com.au/wp-content/uploads/2022/03/CH_SundaySessions_MAR2022_A34-1-e1648102583811.jpg
END:VEVENT
BEGIN:VEVENT
DTSTART;TZID=Australia/Sydney:20220227T130000
DTEND;TZID=Australia/Sydney:20220227T160000
DTSTAMP:20260421T030526
CREATED:20220118T034420Z
LAST-MODIFIED:20220118T034420Z
UID:10000527-1645966800-1645977600@thecorambahotel.com.au
SUMMARY:SUNDAY SESH | Casey Alexander
DESCRIPTION:The Coramba Hotel present Sunday Sessions in the beer garden | Live Music from 1pm\n\n\nPlus\, our amazing Bistro menu\, Chef’s Specials – a great family day out!
URL:https://thecorambahotel.com.au/event/sunday-sesh-casey-alexander/
LOCATION:Coramba Hotel\, 17 Gale St\, Coramba\, NSW\, 2450\, Australia
CATEGORIES:Entertainment
ATTACH;FMTTYPE=image/jpeg:https://thecorambahotel.com.au/wp-content/uploads/2022/01/CH_SundaySessions_FEB2022_IS2-e1642477446786.jpg
END:VEVENT
BEGIN:VEVENT
DTSTART;TZID=Australia/Sydney:20220226T130000
DTEND;TZID=Australia/Sydney:20220226T160000
DTSTAMP:20260421T030526
CREATED:20220118T034137Z
LAST-MODIFIED:20220118T034137Z
UID:10000524-1645880400-1645891200@thecorambahotel.com.au
SUMMARY:Super Saturday | Georgia Cummins
DESCRIPTION:The Coramba Hotel present Super Saturday Sessions in the beer garden | Live Music | 1pm\n\n\nPlus\, our amazing Bistro menu\, Chef’s Specials – a great family day out!
URL:https://thecorambahotel.com.au/event/super-saturday-georgia-cummins/
LOCATION:Coramba Hotel\, 17 Gale St\, Coramba\, NSW\, 2450\, Australia
CATEGORIES:Entertainment
ATTACH;FMTTYPE=image/jpeg:https://thecorambahotel.com.au/wp-content/uploads/2022/01/CH_SaturdayBands_FEB2022_A34-e1642477289126.jpg
END:VEVENT
BEGIN:VEVENT
DTSTART;TZID=Australia/Sydney:20220219T130000
DTEND;TZID=Australia/Sydney:20220219T160000
DTSTAMP:20260421T030526
CREATED:20220118T033622Z
LAST-MODIFIED:20220118T033622Z
UID:10000550-1645275600-1645286400@thecorambahotel.com.au
SUMMARY:Super Saturday | Jess Swilks
DESCRIPTION:The Coramba Hotel present Super Saturday Sessions in the beer garden | Live Music\n\n\nJess Swilks is a talented Guitarist and Soulful singer from the sunny Coffs Coast. Jess  brings an upbeat vibe to each performance\, engaging everyone with her outstandingly versatile vocals and pure love for performing. \nPlus\, our amazing Bistro menu\, Chef’s Specials – a great family day out!
URL:https://thecorambahotel.com.au/event/super-saturday-jess-swilks/
LOCATION:Coramba Hotel\, 17 Gale St\, Coramba\, NSW\, 2450\, Australia
CATEGORIES:Entertainment
ATTACH;FMTTYPE=image/jpeg:https://thecorambahotel.com.au/wp-content/uploads/2022/01/CH_SaturdayBands_FEB2022_A33-1-e1642476961790.jpg
END:VEVENT
BEGIN:VEVENT
DTSTART;TZID=Australia/Sydney:20220213T130000
DTEND;TZID=Australia/Sydney:20220213T160000
DTSTAMP:20260421T030526
CREATED:20220118T034516Z
LAST-MODIFIED:20220118T034516Z
UID:10000529-1644757200-1644768000@thecorambahotel.com.au
SUMMARY:SUNDAY SESH | Slim Pickens
DESCRIPTION:The Coramba Hotel present Sunday Sessions in the beer garden | Live Music from 1pm\n\n\nPlus\, our amazing Bistro menu\, Chef’s Specials – a great family day out!
URL:https://thecorambahotel.com.au/event/sunday-sesh-slim-pickens/
LOCATION:Coramba Hotel\, 17 Gale St\, Coramba\, NSW\, 2450\, Australia
CATEGORIES:Entertainment
ATTACH;FMTTYPE=image/jpeg:https://thecorambahotel.com.au/wp-content/uploads/2022/01/CH_SundaySessions_FEB2022_A3-e1642477498980.jpg
END:VEVENT
BEGIN:VEVENT
DTSTART;TZID=Australia/Sydney:20220212T130000
DTEND;TZID=Australia/Sydney:20220212T160000
DTSTAMP:20260421T030526
CREATED:20220118T033849Z
LAST-MODIFIED:20220118T033849Z
UID:10000566-1644670800-1644681600@thecorambahotel.com.au
SUMMARY:Super Saturday | Chris Aronsten
DESCRIPTION:The Coramba Hotel present Super Saturday Sessions in the beer garden | Live Music\n\n\nChris Aronsten based in Sandy Beach\, on the beautiful Mid North Coast of NSW.  Loves travel with hismusic\, singing and playing guitar\, fiddle and mandolin. \nPlus\, our amazing Bistro menu\, Chef’s Specials – a great family day out!
URL:https://thecorambahotel.com.au/event/super-saturday-chris-aronsten/
LOCATION:Coramba Hotel\, 17 Gale St\, Coramba\, NSW\, 2450\, Australia
CATEGORIES:Entertainment
ATTACH;FMTTYPE=image/jpeg:https://thecorambahotel.com.au/wp-content/uploads/2022/01/CH_SaturdayBands_FEB2022_A32-e1642477111726.jpg
END:VEVENT
BEGIN:VEVENT
DTSTART;TZID=Australia/Sydney:20220205T180000
DTEND;TZID=Australia/Sydney:20220205T200000
DTSTAMP:20260421T030526
CREATED:20220118T034032Z
LAST-MODIFIED:20220205T045713Z
UID:10000525-1644084000-1644091200@thecorambahotel.com.au
SUMMARY:Super Saturday | Sam Dyball
DESCRIPTION:The Coramba Hotel present Super Saturday Sessions in the beer garden | Live Music\n\n\nPlus\, our amazing Bistro menu\, Chef’s Specials – a great family day out!
URL:https://thecorambahotel.com.au/event/super-saturday-sam-dyball/
LOCATION:Coramba Hotel\, 17 Gale St\, Coramba\, NSW\, 2450\, Australia
CATEGORIES:Entertainment
ATTACH;FMTTYPE=image/jpeg:https://thecorambahotel.com.au/wp-content/uploads/2022/01/CH_SaturdayBands_FEB2022_A3-1-e1642477214617.jpg
END:VEVENT
BEGIN:VEVENT
DTSTART;TZID=Australia/Sydney:20220130T130000
DTEND;TZID=Australia/Sydney:20220130T160000
DTSTAMP:20260421T030526
CREATED:20220118T034614Z
LAST-MODIFIED:20220118T034614Z
UID:10000572-1643547600-1643558400@thecorambahotel.com.au
SUMMARY:SUNDAY SESH | Minnie Marks
DESCRIPTION:The Coramba Hotel present Sunday Sessions in the beer garden | Live Music from 1pm\n\n\nPlus\, our amazing Bistro menu\, Chef’s Specials – a great family day out!
URL:https://thecorambahotel.com.au/event/sunday-sesh-minnie-marks/
LOCATION:Coramba Hotel\, 17 Gale St\, Coramba\, NSW\, 2450\, Australia
CATEGORIES:Entertainment
ATTACH;FMTTYPE=image/jpeg:https://thecorambahotel.com.au/wp-content/uploads/2022/01/CH_SundaySessions_JAN2022_A33-1-e1642477561790.jpg
END:VEVENT
BEGIN:VEVENT
DTSTART;TZID=Australia/Sydney:20220129T180000
DTEND;TZID=Australia/Sydney:20220129T210000
DTSTAMP:20260421T030526
CREATED:20220127T012950Z
LAST-MODIFIED:20220127T012950Z
UID:10000003-1643479200-1643490000@thecorambahotel.com.au
SUMMARY:Super Saturday | Marc Daley
DESCRIPTION:The Coramba Hotel present Super Saturday Sessions in the beer garden | Live Music | 1pm\n\n\nPlus\, our amazing Bistro menu\, Chef’s Specials – a great family day out!
URL:https://thecorambahotel.com.au/event/super-saturday-marc-daley/
LOCATION:Coramba Hotel\, 17 Gale St\, Coramba\, NSW\, 2450\, Australia
CATEGORIES:Entertainment
ATTACH;FMTTYPE=image/jpeg:https://thecorambahotel.com.au/wp-content/uploads/2022/01/CH_SaturdayBands_JAN2022_A33-2-e1643246980684.jpg
END:VEVENT
BEGIN:VEVENT
DTSTART;TZID=Australia/Sydney:20220123T120000
DTEND;TZID=Australia/Sydney:20220123T140000
DTSTAMP:20260421T030526
CREATED:20220118T035018Z
LAST-MODIFIED:20220118T035018Z
UID:10000575-1642939200-1642946400@thecorambahotel.com.au
SUMMARY:FREE Kids Activities | Smiley Squad
DESCRIPTION:Fun School Holiday activities! We have you covered from 12pm – 2pm every Saturday & Sunday during school holidays.\n\n\n\nCome enjoy a mix of school holiday games and activities for the kiddies with the Smiley Squad
URL:https://thecorambahotel.com.au/event/free-kids-activities-smiley-squad-2/
LOCATION:Coramba Hotel\, 17 Gale St\, Coramba\, NSW\, 2450\, Australia
CATEGORIES:Entertainment
ATTACH;FMTTYPE=image/jpeg:https://thecorambahotel.com.au/wp-content/uploads/2022/01/CH_HolidayKidsActivities_DEC-JAN_WEB.jpg
END:VEVENT
BEGIN:VEVENT
DTSTART;TZID=Australia/Sydney:20220122T120000
DTEND;TZID=Australia/Sydney:20220122T200000
DTSTAMP:20260421T030526
CREATED:20220118T034807Z
LAST-MODIFIED:20220118T034807Z
UID:10000573-1642852800-1642881600@thecorambahotel.com.au
SUMMARY:Hottest 100 Beergarden Countdown
DESCRIPTION:The Coramba Hotel hosts Triple J’s Hottest 100 for 2021 live and loud in the beergarden\, from 12pm!\n\n\nPlus\, our amazing Bistro menu\, Chef’s Specials AND Smiley Squad to keep the kids entertained from 12pm – 2pm.
URL:https://thecorambahotel.com.au/event/hottest-100-beergarden-countdown/
LOCATION:Coramba Hotel\, 17 Gale St\, Coramba\, NSW\, 2450\, Australia
CATEGORIES:Entertainment
ATTACH;FMTTYPE=image/jpeg:https://thecorambahotel.com.au/wp-content/uploads/2022/01/CH_TripleJHottest100Party_JAN2022_WEB.jpg
END:VEVENT
BEGIN:VEVENT
DTSTART;TZID=Australia/Sydney:20220122T120000
DTEND;TZID=Australia/Sydney:20220122T140000
DTSTAMP:20260421T030526
CREATED:20220118T034943Z
LAST-MODIFIED:20220118T034943Z
UID:10000574-1642852800-1642860000@thecorambahotel.com.au
SUMMARY:FREE Kids Activities | Smiley Squad
DESCRIPTION:Fun School Holiday activities! We have you covered from 12pm – 2pm every Saturday & Sunday during school holidays.\n\n\n\nCome enjoy a mix of school holiday games and activities for the kiddies with the Smiley Squad
URL:https://thecorambahotel.com.au/event/free-kids-activities-smiley-squad/
LOCATION:Coramba Hotel\, 17 Gale St\, Coramba\, NSW\, 2450\, Australia
CATEGORIES:Entertainment
ATTACH;FMTTYPE=image/jpeg:https://thecorambahotel.com.au/wp-content/uploads/2022/01/CH_HolidayKidsActivities_DEC-JAN_WEB.jpg
END:VEVENT
BEGIN:VEVENT
DTSTART;TZID=Australia/Sydney:20211231T210000
DTEND;TZID=Australia/Sydney:20211231T230000
DTSTAMP:20260421T030526
CREATED:20211206T011814Z
LAST-MODIFIED:20211206T011814Z
UID:10000060-1640984400-1640991600@thecorambahotel.com.au
SUMMARY:NYE - MICHAEL BAXTER DUO
DESCRIPTION:The Coramba Hotel present NYE with Michael Baxter Duo | Live Music\n\n\nMichael Baxter Duo are a North Coasts locals performing Country + Rock\, Poprock\, ballads and a mix of new and old songs! Ring in the New Year with the Coramba Hotel. \n\n\nPlus\, our amazing Bistro menu\, Chef’s Specials – be sure to book your spot!
URL:https://thecorambahotel.com.au/event/nye-michael-baxter-duo/
LOCATION:Coramba Hotel\, 17 Gale St\, Coramba\, NSW\, 2450\, Australia
CATEGORIES:Entertainment
ATTACH;FMTTYPE=image/png:https://thecorambahotel.com.au/wp-content/uploads/2021/12/WP-Featured-Image-Sun-19Dec-2.png
END:VEVENT
BEGIN:VEVENT
DTSTART;TZID=Australia/Sydney:20211226T130000
DTEND;TZID=Australia/Sydney:20211226T160000
DTSTAMP:20260421T030526
CREATED:20211206T011359Z
LAST-MODIFIED:20211206T011359Z
UID:10000008-1640523600-1640534400@thecorambahotel.com.au
SUMMARY:BOXING DAY SESH - Simon & Angus
DESCRIPTION:The Coramba Hotel present Sunday Sessions on Boxing Day in the beer garden | Live Music\n\n\nSimon & Angus are a local act from the Mid North Coast who play a variety of original and cover songs.  They draw their inspiration from a variety of artists including; Chet Faker\, Jimi Hendrix\, Angus and Julia Stone and Bob Dylan. \n  \n\n\nPlus\, our amazing Bistro menu\, Chef’s Specials – a great family day out!
URL:https://thecorambahotel.com.au/event/boxing-day-sesh-simon-angus/
LOCATION:Coramba Hotel\, 17 Gale St\, Coramba\, NSW\, 2450\, Australia
CATEGORIES:Entertainment
ATTACH;FMTTYPE=image/png:https://thecorambahotel.com.au/wp-content/uploads/2021/12/WP-Featured-Image-Sun-19Dec-1.png
END:VEVENT
BEGIN:VEVENT
DTSTART;TZID=Australia/Sydney:20211219T130000
DTEND;TZID=Australia/Sydney:20211219T160000
DTSTAMP:20260421T030526
CREATED:20211206T011057Z
LAST-MODIFIED:20211206T011057Z
UID:10000007-1639918800-1639929600@thecorambahotel.com.au
SUMMARY:KATIE BROOKE
DESCRIPTION:The Coramba Hotel present Sunday Sessions in the beer garden | Live Music\n\n\nKatie Brooke has been performing as a professional country music artist for over eight years\, bringing fresh contemporary country and pop to her audiences throughout NSW and South QLD. Katie brings an upbeat vibe to each performance\, engaging everyone with her outstandingly versatile vocals and pure love for performing. \nThis is one not to be missed. \n\n\nPlus\, our amazing Bistro menu\, Chef’s Specials – a great family day out!
URL:https://thecorambahotel.com.au/event/katie-brooke/
LOCATION:Coramba Hotel\, 17 Gale St\, Coramba\, NSW\, 2450\, Australia
CATEGORIES:Entertainment
ATTACH;FMTTYPE=image/png:https://thecorambahotel.com.au/wp-content/uploads/2021/12/WP-Featured-Image-Sun-19Dec.png
END:VEVENT
BEGIN:VEVENT
DTSTART;TZID=Australia/Sydney:20211218T190000
DTEND;TZID=Australia/Sydney:20211218T220000
DTSTAMP:20260421T030526
CREATED:20211206T012106Z
LAST-MODIFIED:20211206T012106Z
UID:10000061-1639854000-1639864800@thecorambahotel.com.au
SUMMARY:OPEN MIC hosted by KAILEY PALLAS
DESCRIPTION:The Coramba Hotel present Open Mic with Kailey Pallas  | Live Music\n\n\nJoin us from 7pm if you would like to perform or simply sit back\, relax with your favourite beverage and enjoy the show. \n\n\n\nPlus\, our amazing Bistro menu\, Chef’s Specials and great drinks menu.
URL:https://thecorambahotel.com.au/event/open-mic-hosted-by-kailey-pallas/
LOCATION:Coramba Hotel\, 17 Gale St\, Coramba\, NSW\, 2450\, Australia
CATEGORIES:Entertainment
ATTACH;FMTTYPE=image/jpeg:https://thecorambahotel.com.au/wp-content/uploads/2021/12/CH_OpenMicNight_DEC2021_WEB.jpg
END:VEVENT
BEGIN:VEVENT
DTSTART;TZID=Australia/Sydney:20211212T123000
DTEND;TZID=Australia/Sydney:20211212T170000
DTSTAMP:20260421T030526
CREATED:20210824T004414Z
LAST-MODIFIED:20211206T010638Z
UID:10000265-1639312200-1639328400@thecorambahotel.com.au
SUMMARY:CORAMBA CHRISTMAS BASH
DESCRIPTION:‘TIS THE SEASON TO BE JOLLY – GET IN THE FESTIVE SPIRIT WITH THE CORAMBA HOTEL! 🎅🎄 \n  \n\nFACE PAINTING from 12.30pm\nREINDER FOOD MAKING\, GAMES & PRIZES from 1pm\nSPECIAL APPEARANCE from Santa & his Elves 3pm\nFree LIVE MUSIC from Mitch Burgess from 1pm\nCOMMUNITY CHRISTMAS CAROLS from 4pm\n\n  \nPlus\, food specials\, jumping castle + much more! \nBring the kids for a fun family day out. \n 
URL:https://thecorambahotel.com.au/event/mick-bateman/
LOCATION:Coramba Hotel\, 17 Gale St\, Coramba\, NSW\, 2450\, Australia
CATEGORIES:Entertainment
ATTACH;FMTTYPE=image/jpeg:https://thecorambahotel.com.au/wp-content/uploads/2021/08/CH_XmasBushBash_DEC2021_WEB.jpg
END:VEVENT
BEGIN:VEVENT
DTSTART;TZID=Australia/Sydney:20211211T190000
DTEND;TZID=Australia/Sydney:20211211T213000
DTSTAMP:20260421T030526
CREATED:20211206T010022Z
LAST-MODIFIED:20211206T010022Z
UID:10000268-1639249200-1639258200@thecorambahotel.com.au
SUMMARY:MIGHTY OCEAN
DESCRIPTION:The Coramba Hotel present Super Saturday | Live Music\n\n\nMighty Ocean\, ex front-man for Driftwood Allies\, has dusted off his acoustic and gone solo. With a new found freedom and inspiration to weave a captivating web of vocals\, guitar and stomp box designed to cover most crowds from diners to dancers. Mighty Ocean has built on solid foundations in the coastal music scene.\n\n\n\nHaving played with such musicians as Nicky Bomba\, The Red Eyes\, Ebb n’ Flo and Richie Williams\, Mighty Ocean continues a long line of singer/surfer/song writers playing the NSW east coast.
URL:https://thecorambahotel.com.au/event/mighty-ocean/
LOCATION:Coramba Hotel\, 17 Gale St\, Coramba\, NSW\, 2450\, Australia
CATEGORIES:Entertainment
ATTACH;FMTTYPE=image/png:https://thecorambahotel.com.au/wp-content/uploads/2021/12/WP-Featured-Image-Sat-11Dec.png
END:VEVENT
BEGIN:VEVENT
DTSTART;TZID=Australia/Sydney:20211107T150000
DTEND;TZID=Australia/Sydney:20211107T180000
DTSTAMP:20260421T030526
CREATED:20211201T044044Z
LAST-MODIFIED:20211201T044156Z
UID:10000001-1636297200-1636308000@thecorambahotel.com.au
SUMMARY:The Blues Brothers
DESCRIPTION:Jake Blues r-ejoins with his brother Elwood after being released from prison\, but the duo has just days to reunite their old R&B band and save the Catholic home where the two were raised\, outrunning the police as they tear through Chicago. \n \n 
URL:https://thecorambahotel.com.au/event/the-blues-brothers/
LOCATION:Coramba Hotel\, 17 Gale St\, Coramba\, NSW\, 2450\, Australia
CATEGORIES:Entertainment
ATTACH;FMTTYPE=image/jpeg:https://thecorambahotel.com.au/wp-content/uploads/2021/12/unnamed.jpg
END:VEVENT
END:VCALENDAR