BEGIN:VCALENDAR
VERSION:2.0
PRODID:-//Coramba Hotel - ECPv6.15.20//NONSGML v1.0//EN
CALSCALE:GREGORIAN
METHOD:PUBLISH
X-WR-CALNAME:Coramba Hotel
X-ORIGINAL-URL:https://thecorambahotel.com.au
X-WR-CALDESC:Events for Coramba Hotel
REFRESH-INTERVAL;VALUE=DURATION:PT1H
X-Robots-Tag:noindex
X-PUBLISHED-TTL:PT1H
BEGIN:VTIMEZONE
TZID:Australia/Sydney
BEGIN:STANDARD
TZOFFSETFROM:+1100
TZOFFSETTO:+1000
TZNAME:AEST
DTSTART:20220402T160000
END:STANDARD
BEGIN:DAYLIGHT
TZOFFSETFROM:+1000
TZOFFSETTO:+1100
TZNAME:AEDT
DTSTART:20221001T160000
END:DAYLIGHT
BEGIN:STANDARD
TZOFFSETFROM:+1100
TZOFFSETTO:+1000
TZNAME:AEST
DTSTART:20230401T160000
END:STANDARD
BEGIN:DAYLIGHT
TZOFFSETFROM:+1000
TZOFFSETTO:+1100
TZNAME:AEDT
DTSTART:20230930T160000
END:DAYLIGHT
BEGIN:STANDARD
TZOFFSETFROM:+1100
TZOFFSETTO:+1000
TZNAME:AEST
DTSTART:20240406T160000
END:STANDARD
BEGIN:DAYLIGHT
TZOFFSETFROM:+1000
TZOFFSETTO:+1100
TZNAME:AEDT
DTSTART:20241005T160000
END:DAYLIGHT
END:VTIMEZONE
BEGIN:VEVENT
DTSTART;VALUE=DATE:20230524
DTEND;VALUE=DATE:20230525
DTSTAMP:20260420T133742
CREATED:20210902T062315Z
LAST-MODIFIED:20240428T234443Z
UID:10000297-1684886400-1684972799@thecorambahotel.com.au
SUMMARY:WEDNESDAY - 200g Rump w/ Free Middy or Wine
DESCRIPTION:Served with chips\, garden salad & your choice of sauce. w/ Free Middy or Wine \nAvailable Lunch + Dinner \n*$17.50 Members | $19.50 Non-Members
URL:https://thecorambahotel.com.au/event/rump-or-snitty-wednesdays/2023-05-24/
LOCATION:Coramba Hotel\, 17 Gale St\, Coramba\, NSW\, 2450\, Australia
CATEGORIES:Meal Deal
ATTACH;FMTTYPE=image/jpeg:https://thecorambahotel.com.au/wp-content/uploads/2021/09/CH_DailyMealDeal_MAY2023_WEB3.jpg
END:VEVENT
BEGIN:VEVENT
DTSTART;VALUE=DATE:20230523
DTEND;VALUE=DATE:20230524
DTSTAMP:20260420T133742
CREATED:20210902T060759Z
LAST-MODIFIED:20240428T234546Z
UID:10000155-1684800000-1684886399@thecorambahotel.com.au
SUMMARY:TUESDAY - Lamb Cutlets
DESCRIPTION:Succulent Cowra Lamb Cutlets crumbed and served with chips\, garden salad & gravy. \nAvailable Lunch + Dinner \n*$17.50 Members | $19.50 Non-Members
URL:https://thecorambahotel.com.au/event/lamb-cutlet-tuesdays/2023-05-23/
LOCATION:Coramba Hotel\, 17 Gale St\, Coramba\, NSW\, 2450\, Australia
CATEGORIES:Meal Deal
ATTACH;FMTTYPE=image/jpeg:https://thecorambahotel.com.au/wp-content/uploads/2021/09/CH_DailyMealDeal_MAY2023_WEB2.jpg
END:VEVENT
BEGIN:VEVENT
DTSTART;VALUE=DATE:20230522
DTEND;VALUE=DATE:20230523
DTSTAMP:20260420T133742
CREATED:20210902T061848Z
LAST-MODIFIED:20240428T234543Z
UID:10000367-1684713600-1684799999@thecorambahotel.com.au
SUMMARY:MONDAY - PIZZAS
DESCRIPTION:ALL PIZZAS\nPepperoni Napoli\, mozzarella\, chilli flakes \nMargherita Napoli\, fresh mozzarella\, basil\, olive oil (V) \nHawaiian Napoli\, mozzarella\, sliced ham\, pineapple \nBBQ Meat Napoli\, mozzarella\, smoked beef brisket\, charred\nchorizo\, pepperoni\, onion\, mozzarella\, bourbon bbq sauce \nSupreme Napoli\, mozzarella\, bacon\, pepperoni\, mushroom\,\ncapsicum\, pineapple\, kalamata olives \nPrawn & Chorizo Napoli\, mozzarella\, prawns\, charred chorizo\,\ncapsicum\, onion\, aioli\, rocket \nVegetarian Napoli\, mozzarella\, roasted QLD blue pumpkin\, goat’s\ncheese\, kalamata olives & caramelised onion (V) \n  \nAvailable Lunch + Dinner \n*$17.50 Members | $19.50 Non-Members
URL:https://thecorambahotel.com.au/event/roast-mondays-2/2023-05-22/
LOCATION:Coramba Hotel\, 17 Gale St\, Coramba\, NSW\, 2450\, Australia
CATEGORIES:Meal Deal
ATTACH;FMTTYPE=image/jpeg:https://thecorambahotel.com.au/wp-content/uploads/2021/09/CH_DailyMealDeal_NOV2023_WEB.jpg
END:VEVENT
BEGIN:VEVENT
DTSTART;TZID=Australia/Sydney:20230521T120000
DTEND;TZID=Australia/Sydney:20230521T150000
DTSTAMP:20260420T133742
CREATED:20230426T064547Z
LAST-MODIFIED:20230426T064547Z
UID:10000689-1684670400-1684681200@thecorambahotel.com.au
SUMMARY:SUNDAY SESH | HAYDEN ASHTON
DESCRIPTION:The Coramba Hotel present Sunday Sessions out on the lawn | Live Music from 12pm
URL:https://thecorambahotel.com.au/event/sunday-sesh-hayden-ashton/
LOCATION:Coramba Hotel\, 17 Gale St\, Coramba\, NSW\, 2450\, Australia
ATTACH;FMTTYPE=image/jpeg:https://thecorambahotel.com.au/wp-content/uploads/2023/04/CH_MonthlyLiveMusic_MAY2023_WEB3.jpg
END:VEVENT
BEGIN:VEVENT
DTSTART;TZID=Australia/Sydney:20230521T110000
DTEND;TZID=Australia/Sydney:20230521T150000
DTSTAMP:20260420T133742
CREATED:20230426T071053Z
LAST-MODIFIED:20230426T071053Z
UID:10000695-1684666800-1684681200@thecorambahotel.com.au
SUMMARY:PAT-A-PONY
DESCRIPTION:Bring the kids down to pat-a-pony thanks to the North Coast Equestrian Club.\nPat-a-Pony and raffles from 11am\nLive music from 12pm w/ Hayden Ashton
URL:https://thecorambahotel.com.au/event/pat-a-pony/
LOCATION:Coramba Hotel\, 17 Gale St\, Coramba\, NSW\, 2450\, Australia
CATEGORIES:Whats On
ATTACH;FMTTYPE=image/jpeg:https://thecorambahotel.com.au/wp-content/uploads/2023/04/CH_Pat-A-Pony_MAY2023_WEB-2.jpg
END:VEVENT
BEGIN:VEVENT
DTSTART;TZID=Australia/Sydney:20230519T160000
DTEND;TZID=Australia/Sydney:20230519T220000
DTSTAMP:20260420T133742
CREATED:20230111T041120Z
LAST-MODIFIED:20240323T024747Z
UID:10000611-1684512000-1684533600@thecorambahotel.com.au
SUMMARY:KNOCK OFF FRIDAYS - CORAMBA HOTEL
DESCRIPTION:Every Friday at the Coramba Hotel join us for:\n– 4-6pm Happy Hour\n– Raffles from 6pm\n– Members Draw at 7pm\n– $17.5 Members Chicken Schnitty – lunch & dinner !
URL:https://thecorambahotel.com.au/event/knock-off-fridays-coramba-hotel/2023-05-19/
LOCATION:Coramba Hotel\, 17 Gale St\, Coramba\, NSW\, 2450\, Australia
CATEGORIES:Weekly Events,Whats On
ATTACH;FMTTYPE=image/jpeg:https://thecorambahotel.com.au/wp-content/uploads/2023/01/CH_KnockOffFridays_NOV2023_WEB.jpg
END:VEVENT
BEGIN:VEVENT
DTSTART;VALUE=DATE:20230519
DTEND;VALUE=DATE:20230521
DTSTAMP:20260420T133742
CREATED:20210902T060230Z
LAST-MODIFIED:20240428T234556Z
UID:10000090-1684454400-1684627199@thecorambahotel.com.au
SUMMARY:FRIDAY - CHICKEN SCHNITTY
DESCRIPTION:w/ chips and salad \nAvailable Lunch + Dinner \n*$17.50 Members | $19.50 Non-Members \nDine In only.
URL:https://thecorambahotel.com.au/event/roast-mondays/2023-05-19/
LOCATION:Coramba Hotel\, 17 Gale St\, Coramba\, NSW\, 2450\, Australia
CATEGORIES:Meal Deal
ATTACH;FMTTYPE=image/jpeg:https://thecorambahotel.com.au/wp-content/uploads/2021/09/CH_DailyMealDeal_NOV2023_WEB5.jpg
END:VEVENT
BEGIN:VEVENT
DTSTART;VALUE=DATE:20230518
DTEND;VALUE=DATE:20230519
DTSTAMP:20260420T133742
CREATED:20210824T004115Z
LAST-MODIFIED:20240428T234549Z
UID:10000223-1684368000-1684454399@thecorambahotel.com.au
SUMMARY:THURSDAY - Fish & Chips
DESCRIPTION:Served with chips\, garden salad\, lemon and tartare sauce. \nAvailable Lunch + Dinner \n*$17.50 Members | $19.50 Non-Members
URL:https://thecorambahotel.com.au/event/parmy-thursday/2023-05-18/
LOCATION:Coramba Hotel\, 17 Gale St\, Coramba\, NSW\, 2450\, Australia
CATEGORIES:Meal Deal
ATTACH;FMTTYPE=image/jpeg:https://thecorambahotel.com.au/wp-content/uploads/2021/08/CH_DailyMealDeal_MAY2023_WEB4.jpg
END:VEVENT
BEGIN:VEVENT
DTSTART;VALUE=DATE:20230517
DTEND;VALUE=DATE:20230518
DTSTAMP:20260420T133742
CREATED:20210902T062315Z
LAST-MODIFIED:20240428T234443Z
UID:10000296-1684281600-1684367999@thecorambahotel.com.au
SUMMARY:WEDNESDAY - 200g Rump w/ Free Middy or Wine
DESCRIPTION:Served with chips\, garden salad & your choice of sauce. w/ Free Middy or Wine \nAvailable Lunch + Dinner \n*$17.50 Members | $19.50 Non-Members
URL:https://thecorambahotel.com.au/event/rump-or-snitty-wednesdays/2023-05-17/
LOCATION:Coramba Hotel\, 17 Gale St\, Coramba\, NSW\, 2450\, Australia
CATEGORIES:Meal Deal
ATTACH;FMTTYPE=image/jpeg:https://thecorambahotel.com.au/wp-content/uploads/2021/09/CH_DailyMealDeal_MAY2023_WEB3.jpg
END:VEVENT
BEGIN:VEVENT
DTSTART;VALUE=DATE:20230516
DTEND;VALUE=DATE:20230517
DTSTAMP:20260420T133742
CREATED:20210902T060759Z
LAST-MODIFIED:20240428T234546Z
UID:10000154-1684195200-1684281599@thecorambahotel.com.au
SUMMARY:TUESDAY - Lamb Cutlets
DESCRIPTION:Succulent Cowra Lamb Cutlets crumbed and served with chips\, garden salad & gravy. \nAvailable Lunch + Dinner \n*$17.50 Members | $19.50 Non-Members
URL:https://thecorambahotel.com.au/event/lamb-cutlet-tuesdays/2023-05-16/
LOCATION:Coramba Hotel\, 17 Gale St\, Coramba\, NSW\, 2450\, Australia
CATEGORIES:Meal Deal
ATTACH;FMTTYPE=image/jpeg:https://thecorambahotel.com.au/wp-content/uploads/2021/09/CH_DailyMealDeal_MAY2023_WEB2.jpg
END:VEVENT
BEGIN:VEVENT
DTSTART;VALUE=DATE:20230515
DTEND;VALUE=DATE:20230516
DTSTAMP:20260420T133742
CREATED:20210902T061848Z
LAST-MODIFIED:20240428T234543Z
UID:10000366-1684108800-1684195199@thecorambahotel.com.au
SUMMARY:MONDAY - PIZZAS
DESCRIPTION:ALL PIZZAS\nPepperoni Napoli\, mozzarella\, chilli flakes \nMargherita Napoli\, fresh mozzarella\, basil\, olive oil (V) \nHawaiian Napoli\, mozzarella\, sliced ham\, pineapple \nBBQ Meat Napoli\, mozzarella\, smoked beef brisket\, charred\nchorizo\, pepperoni\, onion\, mozzarella\, bourbon bbq sauce \nSupreme Napoli\, mozzarella\, bacon\, pepperoni\, mushroom\,\ncapsicum\, pineapple\, kalamata olives \nPrawn & Chorizo Napoli\, mozzarella\, prawns\, charred chorizo\,\ncapsicum\, onion\, aioli\, rocket \nVegetarian Napoli\, mozzarella\, roasted QLD blue pumpkin\, goat’s\ncheese\, kalamata olives & caramelised onion (V) \n  \nAvailable Lunch + Dinner \n*$17.50 Members | $19.50 Non-Members
URL:https://thecorambahotel.com.au/event/roast-mondays-2/2023-05-15/
LOCATION:Coramba Hotel\, 17 Gale St\, Coramba\, NSW\, 2450\, Australia
CATEGORIES:Meal Deal
ATTACH;FMTTYPE=image/jpeg:https://thecorambahotel.com.au/wp-content/uploads/2021/09/CH_DailyMealDeal_NOV2023_WEB.jpg
END:VEVENT
BEGIN:VEVENT
DTSTART;TZID=Australia/Sydney:20230514T120000
DTEND;TZID=Australia/Sydney:20230514T150000
DTSTAMP:20260420T133742
CREATED:20230426T064738Z
LAST-MODIFIED:20230426T064738Z
UID:10000690-1684065600-1684076400@thecorambahotel.com.au
SUMMARY:MOTHERS DAY SUNDAY SESH | BILLIE-JO PORTER
DESCRIPTION:The Coramba Hotel present Sunday Sessions out on the lawn | Live Music from 12pm
URL:https://thecorambahotel.com.au/event/mothers-day-sunday-sesh-billie-jo-porter/
LOCATION:Coramba Hotel\, 17 Gale St\, Coramba\, NSW\, 2450\, Australia
ATTACH;FMTTYPE=image/jpeg:https://thecorambahotel.com.au/wp-content/uploads/2023/04/CH_MonthlyLiveMusic_MAY2023_WEB2.jpg
END:VEVENT
BEGIN:VEVENT
DTSTART;TZID=Australia/Sydney:20230512T160000
DTEND;TZID=Australia/Sydney:20230512T220000
DTSTAMP:20260420T133742
CREATED:20230111T041120Z
LAST-MODIFIED:20240323T024747Z
UID:10000610-1683907200-1683928800@thecorambahotel.com.au
SUMMARY:KNOCK OFF FRIDAYS - CORAMBA HOTEL
DESCRIPTION:Every Friday at the Coramba Hotel join us for:\n– 4-6pm Happy Hour\n– Raffles from 6pm\n– Members Draw at 7pm\n– $17.5 Members Chicken Schnitty – lunch & dinner !
URL:https://thecorambahotel.com.au/event/knock-off-fridays-coramba-hotel/2023-05-12/
LOCATION:Coramba Hotel\, 17 Gale St\, Coramba\, NSW\, 2450\, Australia
CATEGORIES:Weekly Events,Whats On
ATTACH;FMTTYPE=image/jpeg:https://thecorambahotel.com.au/wp-content/uploads/2023/01/CH_KnockOffFridays_NOV2023_WEB.jpg
END:VEVENT
BEGIN:VEVENT
DTSTART;VALUE=DATE:20230512
DTEND;VALUE=DATE:20230514
DTSTAMP:20260420T133742
CREATED:20210902T060230Z
LAST-MODIFIED:20240428T234556Z
UID:10000089-1683849600-1684022399@thecorambahotel.com.au
SUMMARY:FRIDAY - CHICKEN SCHNITTY
DESCRIPTION:w/ chips and salad \nAvailable Lunch + Dinner \n*$17.50 Members | $19.50 Non-Members \nDine In only.
URL:https://thecorambahotel.com.au/event/roast-mondays/2023-05-12/
LOCATION:Coramba Hotel\, 17 Gale St\, Coramba\, NSW\, 2450\, Australia
CATEGORIES:Meal Deal
ATTACH;FMTTYPE=image/jpeg:https://thecorambahotel.com.au/wp-content/uploads/2021/09/CH_DailyMealDeal_NOV2023_WEB5.jpg
END:VEVENT
BEGIN:VEVENT
DTSTART;VALUE=DATE:20230511
DTEND;VALUE=DATE:20230512
DTSTAMP:20260420T133742
CREATED:20210824T004115Z
LAST-MODIFIED:20240428T234549Z
UID:10000222-1683763200-1683849599@thecorambahotel.com.au
SUMMARY:THURSDAY - Fish & Chips
DESCRIPTION:Served with chips\, garden salad\, lemon and tartare sauce. \nAvailable Lunch + Dinner \n*$17.50 Members | $19.50 Non-Members
URL:https://thecorambahotel.com.au/event/parmy-thursday/2023-05-11/
LOCATION:Coramba Hotel\, 17 Gale St\, Coramba\, NSW\, 2450\, Australia
CATEGORIES:Meal Deal
ATTACH;FMTTYPE=image/jpeg:https://thecorambahotel.com.au/wp-content/uploads/2021/08/CH_DailyMealDeal_MAY2023_WEB4.jpg
END:VEVENT
BEGIN:VEVENT
DTSTART;VALUE=DATE:20230510
DTEND;VALUE=DATE:20230511
DTSTAMP:20260420T133742
CREATED:20210902T062315Z
LAST-MODIFIED:20240428T234443Z
UID:10000295-1683676800-1683763199@thecorambahotel.com.au
SUMMARY:WEDNESDAY - 200g Rump w/ Free Middy or Wine
DESCRIPTION:Served with chips\, garden salad & your choice of sauce. w/ Free Middy or Wine \nAvailable Lunch + Dinner \n*$17.50 Members | $19.50 Non-Members
URL:https://thecorambahotel.com.au/event/rump-or-snitty-wednesdays/2023-05-10/
LOCATION:Coramba Hotel\, 17 Gale St\, Coramba\, NSW\, 2450\, Australia
CATEGORIES:Meal Deal
ATTACH;FMTTYPE=image/jpeg:https://thecorambahotel.com.au/wp-content/uploads/2021/09/CH_DailyMealDeal_MAY2023_WEB3.jpg
END:VEVENT
BEGIN:VEVENT
DTSTART;VALUE=DATE:20230509
DTEND;VALUE=DATE:20230510
DTSTAMP:20260420T133742
CREATED:20210902T060759Z
LAST-MODIFIED:20240428T234546Z
UID:10000153-1683590400-1683676799@thecorambahotel.com.au
SUMMARY:TUESDAY - Lamb Cutlets
DESCRIPTION:Succulent Cowra Lamb Cutlets crumbed and served with chips\, garden salad & gravy. \nAvailable Lunch + Dinner \n*$17.50 Members | $19.50 Non-Members
URL:https://thecorambahotel.com.au/event/lamb-cutlet-tuesdays/2023-05-09/
LOCATION:Coramba Hotel\, 17 Gale St\, Coramba\, NSW\, 2450\, Australia
CATEGORIES:Meal Deal
ATTACH;FMTTYPE=image/jpeg:https://thecorambahotel.com.au/wp-content/uploads/2021/09/CH_DailyMealDeal_MAY2023_WEB2.jpg
END:VEVENT
BEGIN:VEVENT
DTSTART;VALUE=DATE:20230508
DTEND;VALUE=DATE:20230509
DTSTAMP:20260420T133742
CREATED:20210902T061848Z
LAST-MODIFIED:20240428T234543Z
UID:10000365-1683504000-1683590399@thecorambahotel.com.au
SUMMARY:MONDAY - PIZZAS
DESCRIPTION:ALL PIZZAS\nPepperoni Napoli\, mozzarella\, chilli flakes \nMargherita Napoli\, fresh mozzarella\, basil\, olive oil (V) \nHawaiian Napoli\, mozzarella\, sliced ham\, pineapple \nBBQ Meat Napoli\, mozzarella\, smoked beef brisket\, charred\nchorizo\, pepperoni\, onion\, mozzarella\, bourbon bbq sauce \nSupreme Napoli\, mozzarella\, bacon\, pepperoni\, mushroom\,\ncapsicum\, pineapple\, kalamata olives \nPrawn & Chorizo Napoli\, mozzarella\, prawns\, charred chorizo\,\ncapsicum\, onion\, aioli\, rocket \nVegetarian Napoli\, mozzarella\, roasted QLD blue pumpkin\, goat’s\ncheese\, kalamata olives & caramelised onion (V) \n  \nAvailable Lunch + Dinner \n*$17.50 Members | $19.50 Non-Members
URL:https://thecorambahotel.com.au/event/roast-mondays-2/2023-05-08/
LOCATION:Coramba Hotel\, 17 Gale St\, Coramba\, NSW\, 2450\, Australia
CATEGORIES:Meal Deal
ATTACH;FMTTYPE=image/jpeg:https://thecorambahotel.com.au/wp-content/uploads/2021/09/CH_DailyMealDeal_NOV2023_WEB.jpg
END:VEVENT
BEGIN:VEVENT
DTSTART;TZID=Australia/Sydney:20230507T120000
DTEND;TZID=Australia/Sydney:20230507T150000
DTSTAMP:20260420T133742
CREATED:20230426T070158Z
LAST-MODIFIED:20230426T070158Z
UID:10000691-1683460800-1683471600@thecorambahotel.com.au
SUMMARY:SUNDAY SESH | DAN HOPKINS
DESCRIPTION:The Coramba Hotel present Sunday Sessions out on the lawn | Live Music from 12pm
URL:https://thecorambahotel.com.au/event/sunday-sesh-dan-hopkins/
LOCATION:Coramba Hotel\, 17 Gale St\, Coramba\, NSW\, 2450\, Australia
ATTACH;FMTTYPE=image/jpeg:https://thecorambahotel.com.au/wp-content/uploads/2023/04/CH_MonthlyLiveMusic_MAY2023_WEB-1.jpg
END:VEVENT
BEGIN:VEVENT
DTSTART;TZID=Australia/Sydney:20230505T160000
DTEND;TZID=Australia/Sydney:20230505T220000
DTSTAMP:20260420T133742
CREATED:20230111T041120Z
LAST-MODIFIED:20240323T024747Z
UID:10000609-1683302400-1683324000@thecorambahotel.com.au
SUMMARY:KNOCK OFF FRIDAYS - CORAMBA HOTEL
DESCRIPTION:Every Friday at the Coramba Hotel join us for:\n– 4-6pm Happy Hour\n– Raffles from 6pm\n– Members Draw at 7pm\n– $17.5 Members Chicken Schnitty – lunch & dinner !
URL:https://thecorambahotel.com.au/event/knock-off-fridays-coramba-hotel/2023-05-05/
LOCATION:Coramba Hotel\, 17 Gale St\, Coramba\, NSW\, 2450\, Australia
CATEGORIES:Weekly Events,Whats On
ATTACH;FMTTYPE=image/jpeg:https://thecorambahotel.com.au/wp-content/uploads/2023/01/CH_KnockOffFridays_NOV2023_WEB.jpg
END:VEVENT
BEGIN:VEVENT
DTSTART;VALUE=DATE:20230505
DTEND;VALUE=DATE:20230507
DTSTAMP:20260420T133742
CREATED:20210902T060230Z
LAST-MODIFIED:20240428T234556Z
UID:10000088-1683244800-1683417599@thecorambahotel.com.au
SUMMARY:FRIDAY - CHICKEN SCHNITTY
DESCRIPTION:w/ chips and salad \nAvailable Lunch + Dinner \n*$17.50 Members | $19.50 Non-Members \nDine In only.
URL:https://thecorambahotel.com.au/event/roast-mondays/2023-05-05/
LOCATION:Coramba Hotel\, 17 Gale St\, Coramba\, NSW\, 2450\, Australia
CATEGORIES:Meal Deal
ATTACH;FMTTYPE=image/jpeg:https://thecorambahotel.com.au/wp-content/uploads/2021/09/CH_DailyMealDeal_NOV2023_WEB5.jpg
END:VEVENT
BEGIN:VEVENT
DTSTART;VALUE=DATE:20230504
DTEND;VALUE=DATE:20230505
DTSTAMP:20260420T133742
CREATED:20210824T004115Z
LAST-MODIFIED:20240428T234549Z
UID:10000221-1683158400-1683244799@thecorambahotel.com.au
SUMMARY:THURSDAY - Fish & Chips
DESCRIPTION:Served with chips\, garden salad\, lemon and tartare sauce. \nAvailable Lunch + Dinner \n*$17.50 Members | $19.50 Non-Members
URL:https://thecorambahotel.com.au/event/parmy-thursday/2023-05-04/
LOCATION:Coramba Hotel\, 17 Gale St\, Coramba\, NSW\, 2450\, Australia
CATEGORIES:Meal Deal
ATTACH;FMTTYPE=image/jpeg:https://thecorambahotel.com.au/wp-content/uploads/2021/08/CH_DailyMealDeal_MAY2023_WEB4.jpg
END:VEVENT
BEGIN:VEVENT
DTSTART;VALUE=DATE:20230503
DTEND;VALUE=DATE:20230504
DTSTAMP:20260420T133742
CREATED:20210902T062315Z
LAST-MODIFIED:20240428T234443Z
UID:10000294-1683072000-1683158399@thecorambahotel.com.au
SUMMARY:WEDNESDAY - 200g Rump w/ Free Middy or Wine
DESCRIPTION:Served with chips\, garden salad & your choice of sauce. w/ Free Middy or Wine \nAvailable Lunch + Dinner \n*$17.50 Members | $19.50 Non-Members
URL:https://thecorambahotel.com.au/event/rump-or-snitty-wednesdays/2023-05-03/
LOCATION:Coramba Hotel\, 17 Gale St\, Coramba\, NSW\, 2450\, Australia
CATEGORIES:Meal Deal
ATTACH;FMTTYPE=image/jpeg:https://thecorambahotel.com.au/wp-content/uploads/2021/09/CH_DailyMealDeal_MAY2023_WEB3.jpg
END:VEVENT
BEGIN:VEVENT
DTSTART;VALUE=DATE:20230502
DTEND;VALUE=DATE:20230503
DTSTAMP:20260420T133742
CREATED:20210902T060759Z
LAST-MODIFIED:20240428T234546Z
UID:10000152-1682985600-1683071999@thecorambahotel.com.au
SUMMARY:TUESDAY - Lamb Cutlets
DESCRIPTION:Succulent Cowra Lamb Cutlets crumbed and served with chips\, garden salad & gravy. \nAvailable Lunch + Dinner \n*$17.50 Members | $19.50 Non-Members
URL:https://thecorambahotel.com.au/event/lamb-cutlet-tuesdays/2023-05-02/
LOCATION:Coramba Hotel\, 17 Gale St\, Coramba\, NSW\, 2450\, Australia
CATEGORIES:Meal Deal
ATTACH;FMTTYPE=image/jpeg:https://thecorambahotel.com.au/wp-content/uploads/2021/09/CH_DailyMealDeal_MAY2023_WEB2.jpg
END:VEVENT
BEGIN:VEVENT
DTSTART;VALUE=DATE:20230501
DTEND;VALUE=DATE:20230502
DTSTAMP:20260420T133742
CREATED:20210902T061848Z
LAST-MODIFIED:20240428T234543Z
UID:10000364-1682899200-1682985599@thecorambahotel.com.au
SUMMARY:MONDAY - PIZZAS
DESCRIPTION:ALL PIZZAS\nPepperoni Napoli\, mozzarella\, chilli flakes \nMargherita Napoli\, fresh mozzarella\, basil\, olive oil (V) \nHawaiian Napoli\, mozzarella\, sliced ham\, pineapple \nBBQ Meat Napoli\, mozzarella\, smoked beef brisket\, charred\nchorizo\, pepperoni\, onion\, mozzarella\, bourbon bbq sauce \nSupreme Napoli\, mozzarella\, bacon\, pepperoni\, mushroom\,\ncapsicum\, pineapple\, kalamata olives \nPrawn & Chorizo Napoli\, mozzarella\, prawns\, charred chorizo\,\ncapsicum\, onion\, aioli\, rocket \nVegetarian Napoli\, mozzarella\, roasted QLD blue pumpkin\, goat’s\ncheese\, kalamata olives & caramelised onion (V) \n  \nAvailable Lunch + Dinner \n*$17.50 Members | $19.50 Non-Members
URL:https://thecorambahotel.com.au/event/roast-mondays-2/2023-05-01/
LOCATION:Coramba Hotel\, 17 Gale St\, Coramba\, NSW\, 2450\, Australia
CATEGORIES:Meal Deal
ATTACH;FMTTYPE=image/jpeg:https://thecorambahotel.com.au/wp-content/uploads/2021/09/CH_DailyMealDeal_NOV2023_WEB.jpg
END:VEVENT
BEGIN:VEVENT
DTSTART;TZID=Australia/Sydney:20230430T120000
DTEND;TZID=Australia/Sydney:20230430T150000
DTSTAMP:20260420T133742
CREATED:20230313T032445Z
LAST-MODIFIED:20230313T032445Z
UID:10000686-1682856000-1682866800@thecorambahotel.com.au
SUMMARY:SUNDAY SESH | SAM DYBALL
DESCRIPTION:The Coramba Hotel present Sunday Sessions out on the lawn | Live Music from 12pm
URL:https://thecorambahotel.com.au/event/sunday-sesh-sam-dyball/
LOCATION:Coramba Hotel\, 17 Gale St\, Coramba\, NSW\, 2450\, Australia
CATEGORIES:Whats On
ATTACH;FMTTYPE=image/jpeg:https://thecorambahotel.com.au/wp-content/uploads/2023/03/CH_MonthlyLiveMusic_APR2023_WEB5.jpg
END:VEVENT
BEGIN:VEVENT
DTSTART;TZID=Australia/Sydney:20230428T193000
DTEND;TZID=Australia/Sydney:20230428T230000
DTSTAMP:20260420T133742
CREATED:20230313T031022Z
LAST-MODIFIED:20230313T031022Z
UID:10000511-1682710200-1682722800@thecorambahotel.com.au
SUMMARY:DRAG BINGO w/ JACINTA VELLATIO - CORAMBA HOTEL
DESCRIPTION:Come down and join us for round 2 of Drag Bingo with Jacinta Vellatio.\nKicking off at 7:30pm\, limited spaces so booking are essential to confirm your spot 6654 4216.
URL:https://thecorambahotel.com.au/event/drag-bingo-w-jacinta-vellatio-coramba-hotel/
LOCATION:Coramba Hotel\, 17 Gale St\, Coramba\, NSW\, 2450\, Australia
CATEGORIES:Whats On
ATTACH;FMTTYPE=image/jpeg:https://thecorambahotel.com.au/wp-content/uploads/2023/03/CH_DragBingo_MAR2023_WEB-1.jpg
END:VEVENT
BEGIN:VEVENT
DTSTART;TZID=Australia/Sydney:20230428T160000
DTEND;TZID=Australia/Sydney:20230428T220000
DTSTAMP:20260420T133742
CREATED:20230111T041120Z
LAST-MODIFIED:20240323T024747Z
UID:10000608-1682697600-1682719200@thecorambahotel.com.au
SUMMARY:KNOCK OFF FRIDAYS - CORAMBA HOTEL
DESCRIPTION:Every Friday at the Coramba Hotel join us for:\n– 4-6pm Happy Hour\n– Raffles from 6pm\n– Members Draw at 7pm\n– $17.5 Members Chicken Schnitty – lunch & dinner !
URL:https://thecorambahotel.com.au/event/knock-off-fridays-coramba-hotel/2023-04-28/
LOCATION:Coramba Hotel\, 17 Gale St\, Coramba\, NSW\, 2450\, Australia
CATEGORIES:Weekly Events,Whats On
ATTACH;FMTTYPE=image/jpeg:https://thecorambahotel.com.au/wp-content/uploads/2023/01/CH_KnockOffFridays_NOV2023_WEB.jpg
END:VEVENT
BEGIN:VEVENT
DTSTART;VALUE=DATE:20230428
DTEND;VALUE=DATE:20230430
DTSTAMP:20260420T133742
CREATED:20210902T060230Z
LAST-MODIFIED:20240428T234556Z
UID:10000087-1682640000-1682812799@thecorambahotel.com.au
SUMMARY:FRIDAY - CHICKEN SCHNITTY
DESCRIPTION:w/ chips and salad \nAvailable Lunch + Dinner \n*$17.50 Members | $19.50 Non-Members \nDine In only.
URL:https://thecorambahotel.com.au/event/roast-mondays/2023-04-28/
LOCATION:Coramba Hotel\, 17 Gale St\, Coramba\, NSW\, 2450\, Australia
CATEGORIES:Meal Deal
ATTACH;FMTTYPE=image/jpeg:https://thecorambahotel.com.au/wp-content/uploads/2021/09/CH_DailyMealDeal_NOV2023_WEB5.jpg
END:VEVENT
BEGIN:VEVENT
DTSTART;VALUE=DATE:20230427
DTEND;VALUE=DATE:20230428
DTSTAMP:20260420T133742
CREATED:20210824T004115Z
LAST-MODIFIED:20240428T234549Z
UID:10000220-1682553600-1682639999@thecorambahotel.com.au
SUMMARY:THURSDAY - Fish & Chips
DESCRIPTION:Served with chips\, garden salad\, lemon and tartare sauce. \nAvailable Lunch + Dinner \n*$17.50 Members | $19.50 Non-Members
URL:https://thecorambahotel.com.au/event/parmy-thursday/2023-04-27/
LOCATION:Coramba Hotel\, 17 Gale St\, Coramba\, NSW\, 2450\, Australia
CATEGORIES:Meal Deal
ATTACH;FMTTYPE=image/jpeg:https://thecorambahotel.com.au/wp-content/uploads/2021/08/CH_DailyMealDeal_MAY2023_WEB4.jpg
END:VEVENT
END:VCALENDAR