BEGIN:VCALENDAR
VERSION:2.0
PRODID:-//Coramba Hotel - ECPv6.15.20//NONSGML v1.0//EN
CALSCALE:GREGORIAN
METHOD:PUBLISH
X-WR-CALNAME:Coramba Hotel
X-ORIGINAL-URL:https://thecorambahotel.com.au
X-WR-CALDESC:Events for Coramba Hotel
REFRESH-INTERVAL;VALUE=DURATION:PT1H
X-Robots-Tag:noindex
X-PUBLISHED-TTL:PT1H
BEGIN:VTIMEZONE
TZID:Australia/Sydney
BEGIN:STANDARD
TZOFFSETFROM:+1100
TZOFFSETTO:+1000
TZNAME:AEST
DTSTART:20220402T160000
END:STANDARD
BEGIN:DAYLIGHT
TZOFFSETFROM:+1000
TZOFFSETTO:+1100
TZNAME:AEDT
DTSTART:20221001T160000
END:DAYLIGHT
BEGIN:STANDARD
TZOFFSETFROM:+1100
TZOFFSETTO:+1000
TZNAME:AEST
DTSTART:20230401T160000
END:STANDARD
BEGIN:DAYLIGHT
TZOFFSETFROM:+1000
TZOFFSETTO:+1100
TZNAME:AEDT
DTSTART:20230930T160000
END:DAYLIGHT
BEGIN:STANDARD
TZOFFSETFROM:+1100
TZOFFSETTO:+1000
TZNAME:AEST
DTSTART:20240406T160000
END:STANDARD
BEGIN:DAYLIGHT
TZOFFSETFROM:+1000
TZOFFSETTO:+1100
TZNAME:AEDT
DTSTART:20241005T160000
END:DAYLIGHT
END:VTIMEZONE
BEGIN:VEVENT
DTSTART;VALUE=DATE:20230726
DTEND;VALUE=DATE:20230727
DTSTAMP:20260420T102450
CREATED:20210902T062315Z
LAST-MODIFIED:20240428T234443Z
UID:10000306-1690329600-1690415999@thecorambahotel.com.au
SUMMARY:WEDNESDAY - 200g Rump w/ Free Middy or Wine
DESCRIPTION:Served with chips\, garden salad & your choice of sauce. w/ Free Middy or Wine \nAvailable Lunch + Dinner \n*$17.50 Members | $19.50 Non-Members
URL:https://thecorambahotel.com.au/event/rump-or-snitty-wednesdays/2023-07-26/
LOCATION:Coramba Hotel\, 17 Gale St\, Coramba\, NSW\, 2450\, Australia
CATEGORIES:Meal Deal
ATTACH;FMTTYPE=image/jpeg:https://thecorambahotel.com.au/wp-content/uploads/2021/09/CH_DailyMealDeal_MAY2023_WEB3.jpg
END:VEVENT
BEGIN:VEVENT
DTSTART;VALUE=DATE:20230725
DTEND;VALUE=DATE:20230726
DTSTAMP:20260420T102450
CREATED:20210902T060759Z
LAST-MODIFIED:20240428T234546Z
UID:10000164-1690243200-1690329599@thecorambahotel.com.au
SUMMARY:TUESDAY - Lamb Cutlets
DESCRIPTION:Succulent Cowra Lamb Cutlets crumbed and served with chips\, garden salad & gravy. \nAvailable Lunch + Dinner \n*$17.50 Members | $19.50 Non-Members
URL:https://thecorambahotel.com.au/event/lamb-cutlet-tuesdays/2023-07-25/
LOCATION:Coramba Hotel\, 17 Gale St\, Coramba\, NSW\, 2450\, Australia
CATEGORIES:Meal Deal
ATTACH;FMTTYPE=image/jpeg:https://thecorambahotel.com.au/wp-content/uploads/2021/09/CH_DailyMealDeal_MAY2023_WEB2.jpg
END:VEVENT
BEGIN:VEVENT
DTSTART;VALUE=DATE:20230724
DTEND;VALUE=DATE:20230725
DTSTAMP:20260420T102450
CREATED:20210902T061848Z
LAST-MODIFIED:20240428T234543Z
UID:10000376-1690156800-1690243199@thecorambahotel.com.au
SUMMARY:MONDAY - PIZZAS
DESCRIPTION:ALL PIZZAS\nPepperoni Napoli\, mozzarella\, chilli flakes \nMargherita Napoli\, fresh mozzarella\, basil\, olive oil (V) \nHawaiian Napoli\, mozzarella\, sliced ham\, pineapple \nBBQ Meat Napoli\, mozzarella\, smoked beef brisket\, charred\nchorizo\, pepperoni\, onion\, mozzarella\, bourbon bbq sauce \nSupreme Napoli\, mozzarella\, bacon\, pepperoni\, mushroom\,\ncapsicum\, pineapple\, kalamata olives \nPrawn & Chorizo Napoli\, mozzarella\, prawns\, charred chorizo\,\ncapsicum\, onion\, aioli\, rocket \nVegetarian Napoli\, mozzarella\, roasted QLD blue pumpkin\, goat’s\ncheese\, kalamata olives & caramelised onion (V) \n  \nAvailable Lunch + Dinner \n*$17.50 Members | $19.50 Non-Members
URL:https://thecorambahotel.com.au/event/roast-mondays-2/2023-07-24/
LOCATION:Coramba Hotel\, 17 Gale St\, Coramba\, NSW\, 2450\, Australia
CATEGORIES:Meal Deal
ATTACH;FMTTYPE=image/jpeg:https://thecorambahotel.com.au/wp-content/uploads/2021/09/CH_DailyMealDeal_NOV2023_WEB.jpg
END:VEVENT
BEGIN:VEVENT
DTSTART;TZID=Australia/Sydney:20230721T160000
DTEND;TZID=Australia/Sydney:20230721T220000
DTSTAMP:20260420T102450
CREATED:20230111T041120Z
LAST-MODIFIED:20240323T024747Z
UID:10000620-1689955200-1689976800@thecorambahotel.com.au
SUMMARY:KNOCK OFF FRIDAYS - CORAMBA HOTEL
DESCRIPTION:Every Friday at the Coramba Hotel join us for:\n– 4-6pm Happy Hour\n– Raffles from 6pm\n– Members Draw at 7pm\n– $17.5 Members Chicken Schnitty – lunch & dinner !
URL:https://thecorambahotel.com.au/event/knock-off-fridays-coramba-hotel/2023-07-21/
LOCATION:Coramba Hotel\, 17 Gale St\, Coramba\, NSW\, 2450\, Australia
CATEGORIES:Weekly Events,Whats On
ATTACH;FMTTYPE=image/jpeg:https://thecorambahotel.com.au/wp-content/uploads/2023/01/CH_KnockOffFridays_NOV2023_WEB.jpg
END:VEVENT
BEGIN:VEVENT
DTSTART;VALUE=DATE:20230721
DTEND;VALUE=DATE:20230723
DTSTAMP:20260420T102450
CREATED:20210902T060230Z
LAST-MODIFIED:20240428T234556Z
UID:10000099-1689897600-1690070399@thecorambahotel.com.au
SUMMARY:FRIDAY - CHICKEN SCHNITTY
DESCRIPTION:w/ chips and salad \nAvailable Lunch + Dinner \n*$17.50 Members | $19.50 Non-Members \nDine In only.
URL:https://thecorambahotel.com.au/event/roast-mondays/2023-07-21/
LOCATION:Coramba Hotel\, 17 Gale St\, Coramba\, NSW\, 2450\, Australia
CATEGORIES:Meal Deal
ATTACH;FMTTYPE=image/jpeg:https://thecorambahotel.com.au/wp-content/uploads/2021/09/CH_DailyMealDeal_NOV2023_WEB5.jpg
END:VEVENT
BEGIN:VEVENT
DTSTART;VALUE=DATE:20230720
DTEND;VALUE=DATE:20230721
DTSTAMP:20260420T102450
CREATED:20210824T004115Z
LAST-MODIFIED:20240428T234549Z
UID:10000232-1689811200-1689897599@thecorambahotel.com.au
SUMMARY:THURSDAY - Fish & Chips
DESCRIPTION:Served with chips\, garden salad\, lemon and tartare sauce. \nAvailable Lunch + Dinner \n*$17.50 Members | $19.50 Non-Members
URL:https://thecorambahotel.com.au/event/parmy-thursday/2023-07-20/
LOCATION:Coramba Hotel\, 17 Gale St\, Coramba\, NSW\, 2450\, Australia
CATEGORIES:Meal Deal
ATTACH;FMTTYPE=image/jpeg:https://thecorambahotel.com.au/wp-content/uploads/2021/08/CH_DailyMealDeal_MAY2023_WEB4.jpg
END:VEVENT
BEGIN:VEVENT
DTSTART;VALUE=DATE:20230719
DTEND;VALUE=DATE:20230720
DTSTAMP:20260420T102450
CREATED:20210902T062315Z
LAST-MODIFIED:20240428T234443Z
UID:10000305-1689724800-1689811199@thecorambahotel.com.au
SUMMARY:WEDNESDAY - 200g Rump w/ Free Middy or Wine
DESCRIPTION:Served with chips\, garden salad & your choice of sauce. w/ Free Middy or Wine \nAvailable Lunch + Dinner \n*$17.50 Members | $19.50 Non-Members
URL:https://thecorambahotel.com.au/event/rump-or-snitty-wednesdays/2023-07-19/
LOCATION:Coramba Hotel\, 17 Gale St\, Coramba\, NSW\, 2450\, Australia
CATEGORIES:Meal Deal
ATTACH;FMTTYPE=image/jpeg:https://thecorambahotel.com.au/wp-content/uploads/2021/09/CH_DailyMealDeal_MAY2023_WEB3.jpg
END:VEVENT
BEGIN:VEVENT
DTSTART;VALUE=DATE:20230718
DTEND;VALUE=DATE:20230719
DTSTAMP:20260420T102450
CREATED:20210902T060759Z
LAST-MODIFIED:20240428T234546Z
UID:10000163-1689638400-1689724799@thecorambahotel.com.au
SUMMARY:TUESDAY - Lamb Cutlets
DESCRIPTION:Succulent Cowra Lamb Cutlets crumbed and served with chips\, garden salad & gravy. \nAvailable Lunch + Dinner \n*$17.50 Members | $19.50 Non-Members
URL:https://thecorambahotel.com.au/event/lamb-cutlet-tuesdays/2023-07-18/
LOCATION:Coramba Hotel\, 17 Gale St\, Coramba\, NSW\, 2450\, Australia
CATEGORIES:Meal Deal
ATTACH;FMTTYPE=image/jpeg:https://thecorambahotel.com.au/wp-content/uploads/2021/09/CH_DailyMealDeal_MAY2023_WEB2.jpg
END:VEVENT
BEGIN:VEVENT
DTSTART;VALUE=DATE:20230717
DTEND;VALUE=DATE:20230718
DTSTAMP:20260420T102450
CREATED:20210902T061848Z
LAST-MODIFIED:20240428T234543Z
UID:10000375-1689552000-1689638399@thecorambahotel.com.au
SUMMARY:MONDAY - PIZZAS
DESCRIPTION:ALL PIZZAS\nPepperoni Napoli\, mozzarella\, chilli flakes \nMargherita Napoli\, fresh mozzarella\, basil\, olive oil (V) \nHawaiian Napoli\, mozzarella\, sliced ham\, pineapple \nBBQ Meat Napoli\, mozzarella\, smoked beef brisket\, charred\nchorizo\, pepperoni\, onion\, mozzarella\, bourbon bbq sauce \nSupreme Napoli\, mozzarella\, bacon\, pepperoni\, mushroom\,\ncapsicum\, pineapple\, kalamata olives \nPrawn & Chorizo Napoli\, mozzarella\, prawns\, charred chorizo\,\ncapsicum\, onion\, aioli\, rocket \nVegetarian Napoli\, mozzarella\, roasted QLD blue pumpkin\, goat’s\ncheese\, kalamata olives & caramelised onion (V) \n  \nAvailable Lunch + Dinner \n*$17.50 Members | $19.50 Non-Members
URL:https://thecorambahotel.com.au/event/roast-mondays-2/2023-07-17/
LOCATION:Coramba Hotel\, 17 Gale St\, Coramba\, NSW\, 2450\, Australia
CATEGORIES:Meal Deal
ATTACH;FMTTYPE=image/jpeg:https://thecorambahotel.com.au/wp-content/uploads/2021/09/CH_DailyMealDeal_NOV2023_WEB.jpg
END:VEVENT
BEGIN:VEVENT
DTSTART;TZID=Australia/Sydney:20230714T160000
DTEND;TZID=Australia/Sydney:20230714T220000
DTSTAMP:20260420T102450
CREATED:20230111T041120Z
LAST-MODIFIED:20240323T024747Z
UID:10000619-1689350400-1689372000@thecorambahotel.com.au
SUMMARY:KNOCK OFF FRIDAYS - CORAMBA HOTEL
DESCRIPTION:Every Friday at the Coramba Hotel join us for:\n– 4-6pm Happy Hour\n– Raffles from 6pm\n– Members Draw at 7pm\n– $17.5 Members Chicken Schnitty – lunch & dinner !
URL:https://thecorambahotel.com.au/event/knock-off-fridays-coramba-hotel/2023-07-14/
LOCATION:Coramba Hotel\, 17 Gale St\, Coramba\, NSW\, 2450\, Australia
CATEGORIES:Weekly Events,Whats On
ATTACH;FMTTYPE=image/jpeg:https://thecorambahotel.com.au/wp-content/uploads/2023/01/CH_KnockOffFridays_NOV2023_WEB.jpg
END:VEVENT
BEGIN:VEVENT
DTSTART;VALUE=DATE:20230714
DTEND;VALUE=DATE:20230716
DTSTAMP:20260420T102450
CREATED:20210902T060230Z
LAST-MODIFIED:20240428T234556Z
UID:10000098-1689292800-1689465599@thecorambahotel.com.au
SUMMARY:FRIDAY - CHICKEN SCHNITTY
DESCRIPTION:w/ chips and salad \nAvailable Lunch + Dinner \n*$17.50 Members | $19.50 Non-Members \nDine In only.
URL:https://thecorambahotel.com.au/event/roast-mondays/2023-07-14/
LOCATION:Coramba Hotel\, 17 Gale St\, Coramba\, NSW\, 2450\, Australia
CATEGORIES:Meal Deal
ATTACH;FMTTYPE=image/jpeg:https://thecorambahotel.com.au/wp-content/uploads/2021/09/CH_DailyMealDeal_NOV2023_WEB5.jpg
END:VEVENT
BEGIN:VEVENT
DTSTART;VALUE=DATE:20230713
DTEND;VALUE=DATE:20230714
DTSTAMP:20260420T102450
CREATED:20210824T004115Z
LAST-MODIFIED:20240428T234549Z
UID:10000231-1689206400-1689292799@thecorambahotel.com.au
SUMMARY:THURSDAY - Fish & Chips
DESCRIPTION:Served with chips\, garden salad\, lemon and tartare sauce. \nAvailable Lunch + Dinner \n*$17.50 Members | $19.50 Non-Members
URL:https://thecorambahotel.com.au/event/parmy-thursday/2023-07-13/
LOCATION:Coramba Hotel\, 17 Gale St\, Coramba\, NSW\, 2450\, Australia
CATEGORIES:Meal Deal
ATTACH;FMTTYPE=image/jpeg:https://thecorambahotel.com.au/wp-content/uploads/2021/08/CH_DailyMealDeal_MAY2023_WEB4.jpg
END:VEVENT
BEGIN:VEVENT
DTSTART;VALUE=DATE:20230712
DTEND;VALUE=DATE:20230713
DTSTAMP:20260420T102450
CREATED:20210902T062315Z
LAST-MODIFIED:20240428T234443Z
UID:10000304-1689120000-1689206399@thecorambahotel.com.au
SUMMARY:WEDNESDAY - 200g Rump w/ Free Middy or Wine
DESCRIPTION:Served with chips\, garden salad & your choice of sauce. w/ Free Middy or Wine \nAvailable Lunch + Dinner \n*$17.50 Members | $19.50 Non-Members
URL:https://thecorambahotel.com.au/event/rump-or-snitty-wednesdays/2023-07-12/
LOCATION:Coramba Hotel\, 17 Gale St\, Coramba\, NSW\, 2450\, Australia
CATEGORIES:Meal Deal
ATTACH;FMTTYPE=image/jpeg:https://thecorambahotel.com.au/wp-content/uploads/2021/09/CH_DailyMealDeal_MAY2023_WEB3.jpg
END:VEVENT
BEGIN:VEVENT
DTSTART;VALUE=DATE:20230711
DTEND;VALUE=DATE:20230712
DTSTAMP:20260420T102450
CREATED:20210902T060759Z
LAST-MODIFIED:20240428T234546Z
UID:10000162-1689033600-1689119999@thecorambahotel.com.au
SUMMARY:TUESDAY - Lamb Cutlets
DESCRIPTION:Succulent Cowra Lamb Cutlets crumbed and served with chips\, garden salad & gravy. \nAvailable Lunch + Dinner \n*$17.50 Members | $19.50 Non-Members
URL:https://thecorambahotel.com.au/event/lamb-cutlet-tuesdays/2023-07-11/
LOCATION:Coramba Hotel\, 17 Gale St\, Coramba\, NSW\, 2450\, Australia
CATEGORIES:Meal Deal
ATTACH;FMTTYPE=image/jpeg:https://thecorambahotel.com.au/wp-content/uploads/2021/09/CH_DailyMealDeal_MAY2023_WEB2.jpg
END:VEVENT
BEGIN:VEVENT
DTSTART;VALUE=DATE:20230710
DTEND;VALUE=DATE:20230711
DTSTAMP:20260420T102450
CREATED:20210902T061848Z
LAST-MODIFIED:20240428T234543Z
UID:10000374-1688947200-1689033599@thecorambahotel.com.au
SUMMARY:MONDAY - PIZZAS
DESCRIPTION:ALL PIZZAS\nPepperoni Napoli\, mozzarella\, chilli flakes \nMargherita Napoli\, fresh mozzarella\, basil\, olive oil (V) \nHawaiian Napoli\, mozzarella\, sliced ham\, pineapple \nBBQ Meat Napoli\, mozzarella\, smoked beef brisket\, charred\nchorizo\, pepperoni\, onion\, mozzarella\, bourbon bbq sauce \nSupreme Napoli\, mozzarella\, bacon\, pepperoni\, mushroom\,\ncapsicum\, pineapple\, kalamata olives \nPrawn & Chorizo Napoli\, mozzarella\, prawns\, charred chorizo\,\ncapsicum\, onion\, aioli\, rocket \nVegetarian Napoli\, mozzarella\, roasted QLD blue pumpkin\, goat’s\ncheese\, kalamata olives & caramelised onion (V) \n  \nAvailable Lunch + Dinner \n*$17.50 Members | $19.50 Non-Members
URL:https://thecorambahotel.com.au/event/roast-mondays-2/2023-07-10/
LOCATION:Coramba Hotel\, 17 Gale St\, Coramba\, NSW\, 2450\, Australia
CATEGORIES:Meal Deal
ATTACH;FMTTYPE=image/jpeg:https://thecorambahotel.com.au/wp-content/uploads/2021/09/CH_DailyMealDeal_NOV2023_WEB.jpg
END:VEVENT
BEGIN:VEVENT
DTSTART;TZID=Australia/Sydney:20230707T160000
DTEND;TZID=Australia/Sydney:20230707T220000
DTSTAMP:20260420T102450
CREATED:20230111T041120Z
LAST-MODIFIED:20240323T024747Z
UID:10000618-1688745600-1688767200@thecorambahotel.com.au
SUMMARY:KNOCK OFF FRIDAYS - CORAMBA HOTEL
DESCRIPTION:Every Friday at the Coramba Hotel join us for:\n– 4-6pm Happy Hour\n– Raffles from 6pm\n– Members Draw at 7pm\n– $17.5 Members Chicken Schnitty – lunch & dinner !
URL:https://thecorambahotel.com.au/event/knock-off-fridays-coramba-hotel/2023-07-07/
LOCATION:Coramba Hotel\, 17 Gale St\, Coramba\, NSW\, 2450\, Australia
CATEGORIES:Weekly Events,Whats On
ATTACH;FMTTYPE=image/jpeg:https://thecorambahotel.com.au/wp-content/uploads/2023/01/CH_KnockOffFridays_NOV2023_WEB.jpg
END:VEVENT
BEGIN:VEVENT
DTSTART;VALUE=DATE:20230707
DTEND;VALUE=DATE:20230709
DTSTAMP:20260420T102450
CREATED:20210902T060230Z
LAST-MODIFIED:20240428T234556Z
UID:10000097-1688688000-1688860799@thecorambahotel.com.au
SUMMARY:FRIDAY - CHICKEN SCHNITTY
DESCRIPTION:w/ chips and salad \nAvailable Lunch + Dinner \n*$17.50 Members | $19.50 Non-Members \nDine In only.
URL:https://thecorambahotel.com.au/event/roast-mondays/2023-07-07/
LOCATION:Coramba Hotel\, 17 Gale St\, Coramba\, NSW\, 2450\, Australia
CATEGORIES:Meal Deal
ATTACH;FMTTYPE=image/jpeg:https://thecorambahotel.com.au/wp-content/uploads/2021/09/CH_DailyMealDeal_NOV2023_WEB5.jpg
END:VEVENT
BEGIN:VEVENT
DTSTART;VALUE=DATE:20230706
DTEND;VALUE=DATE:20230707
DTSTAMP:20260420T102450
CREATED:20210824T004115Z
LAST-MODIFIED:20240428T234549Z
UID:10000230-1688601600-1688687999@thecorambahotel.com.au
SUMMARY:THURSDAY - Fish & Chips
DESCRIPTION:Served with chips\, garden salad\, lemon and tartare sauce. \nAvailable Lunch + Dinner \n*$17.50 Members | $19.50 Non-Members
URL:https://thecorambahotel.com.au/event/parmy-thursday/2023-07-06/
LOCATION:Coramba Hotel\, 17 Gale St\, Coramba\, NSW\, 2450\, Australia
CATEGORIES:Meal Deal
ATTACH;FMTTYPE=image/jpeg:https://thecorambahotel.com.au/wp-content/uploads/2021/08/CH_DailyMealDeal_MAY2023_WEB4.jpg
END:VEVENT
BEGIN:VEVENT
DTSTART;VALUE=DATE:20230705
DTEND;VALUE=DATE:20230706
DTSTAMP:20260420T102450
CREATED:20210902T062315Z
LAST-MODIFIED:20240428T234443Z
UID:10000303-1688515200-1688601599@thecorambahotel.com.au
SUMMARY:WEDNESDAY - 200g Rump w/ Free Middy or Wine
DESCRIPTION:Served with chips\, garden salad & your choice of sauce. w/ Free Middy or Wine \nAvailable Lunch + Dinner \n*$17.50 Members | $19.50 Non-Members
URL:https://thecorambahotel.com.au/event/rump-or-snitty-wednesdays/2023-07-05/
LOCATION:Coramba Hotel\, 17 Gale St\, Coramba\, NSW\, 2450\, Australia
CATEGORIES:Meal Deal
ATTACH;FMTTYPE=image/jpeg:https://thecorambahotel.com.au/wp-content/uploads/2021/09/CH_DailyMealDeal_MAY2023_WEB3.jpg
END:VEVENT
BEGIN:VEVENT
DTSTART;VALUE=DATE:20230704
DTEND;VALUE=DATE:20230705
DTSTAMP:20260420T102450
CREATED:20210902T060759Z
LAST-MODIFIED:20240428T234546Z
UID:10000161-1688428800-1688515199@thecorambahotel.com.au
SUMMARY:TUESDAY - Lamb Cutlets
DESCRIPTION:Succulent Cowra Lamb Cutlets crumbed and served with chips\, garden salad & gravy. \nAvailable Lunch + Dinner \n*$17.50 Members | $19.50 Non-Members
URL:https://thecorambahotel.com.au/event/lamb-cutlet-tuesdays/2023-07-04/
LOCATION:Coramba Hotel\, 17 Gale St\, Coramba\, NSW\, 2450\, Australia
CATEGORIES:Meal Deal
ATTACH;FMTTYPE=image/jpeg:https://thecorambahotel.com.au/wp-content/uploads/2021/09/CH_DailyMealDeal_MAY2023_WEB2.jpg
END:VEVENT
BEGIN:VEVENT
DTSTART;VALUE=DATE:20230703
DTEND;VALUE=DATE:20230704
DTSTAMP:20260420T102450
CREATED:20210902T061848Z
LAST-MODIFIED:20240428T234543Z
UID:10000373-1688342400-1688428799@thecorambahotel.com.au
SUMMARY:MONDAY - PIZZAS
DESCRIPTION:ALL PIZZAS\nPepperoni Napoli\, mozzarella\, chilli flakes \nMargherita Napoli\, fresh mozzarella\, basil\, olive oil (V) \nHawaiian Napoli\, mozzarella\, sliced ham\, pineapple \nBBQ Meat Napoli\, mozzarella\, smoked beef brisket\, charred\nchorizo\, pepperoni\, onion\, mozzarella\, bourbon bbq sauce \nSupreme Napoli\, mozzarella\, bacon\, pepperoni\, mushroom\,\ncapsicum\, pineapple\, kalamata olives \nPrawn & Chorizo Napoli\, mozzarella\, prawns\, charred chorizo\,\ncapsicum\, onion\, aioli\, rocket \nVegetarian Napoli\, mozzarella\, roasted QLD blue pumpkin\, goat’s\ncheese\, kalamata olives & caramelised onion (V) \n  \nAvailable Lunch + Dinner \n*$17.50 Members | $19.50 Non-Members
URL:https://thecorambahotel.com.au/event/roast-mondays-2/2023-07-03/
LOCATION:Coramba Hotel\, 17 Gale St\, Coramba\, NSW\, 2450\, Australia
CATEGORIES:Meal Deal
ATTACH;FMTTYPE=image/jpeg:https://thecorambahotel.com.au/wp-content/uploads/2021/09/CH_DailyMealDeal_NOV2023_WEB.jpg
END:VEVENT
BEGIN:VEVENT
DTSTART;TZID=Australia/Sydney:20230630T160000
DTEND;TZID=Australia/Sydney:20230630T220000
DTSTAMP:20260420T102450
CREATED:20230111T041120Z
LAST-MODIFIED:20240323T024747Z
UID:10000617-1688140800-1688162400@thecorambahotel.com.au
SUMMARY:KNOCK OFF FRIDAYS - CORAMBA HOTEL
DESCRIPTION:Every Friday at the Coramba Hotel join us for:\n– 4-6pm Happy Hour\n– Raffles from 6pm\n– Members Draw at 7pm\n– $17.5 Members Chicken Schnitty – lunch & dinner !
URL:https://thecorambahotel.com.au/event/knock-off-fridays-coramba-hotel/2023-06-30/
LOCATION:Coramba Hotel\, 17 Gale St\, Coramba\, NSW\, 2450\, Australia
CATEGORIES:Weekly Events,Whats On
ATTACH;FMTTYPE=image/jpeg:https://thecorambahotel.com.au/wp-content/uploads/2023/01/CH_KnockOffFridays_NOV2023_WEB.jpg
END:VEVENT
BEGIN:VEVENT
DTSTART;VALUE=DATE:20230630
DTEND;VALUE=DATE:20230702
DTSTAMP:20260420T102450
CREATED:20210902T060230Z
LAST-MODIFIED:20240428T234556Z
UID:10000096-1688083200-1688255999@thecorambahotel.com.au
SUMMARY:FRIDAY - CHICKEN SCHNITTY
DESCRIPTION:w/ chips and salad \nAvailable Lunch + Dinner \n*$17.50 Members | $19.50 Non-Members \nDine In only.
URL:https://thecorambahotel.com.au/event/roast-mondays/2023-06-30/
LOCATION:Coramba Hotel\, 17 Gale St\, Coramba\, NSW\, 2450\, Australia
CATEGORIES:Meal Deal
ATTACH;FMTTYPE=image/jpeg:https://thecorambahotel.com.au/wp-content/uploads/2021/09/CH_DailyMealDeal_NOV2023_WEB5.jpg
END:VEVENT
BEGIN:VEVENT
DTSTART;VALUE=DATE:20230629
DTEND;VALUE=DATE:20230630
DTSTAMP:20260420T102450
CREATED:20210824T004115Z
LAST-MODIFIED:20240428T234549Z
UID:10000229-1687996800-1688083199@thecorambahotel.com.au
SUMMARY:THURSDAY - Fish & Chips
DESCRIPTION:Served with chips\, garden salad\, lemon and tartare sauce. \nAvailable Lunch + Dinner \n*$17.50 Members | $19.50 Non-Members
URL:https://thecorambahotel.com.au/event/parmy-thursday/2023-06-29/
LOCATION:Coramba Hotel\, 17 Gale St\, Coramba\, NSW\, 2450\, Australia
CATEGORIES:Meal Deal
ATTACH;FMTTYPE=image/jpeg:https://thecorambahotel.com.au/wp-content/uploads/2021/08/CH_DailyMealDeal_MAY2023_WEB4.jpg
END:VEVENT
BEGIN:VEVENT
DTSTART;VALUE=DATE:20230628
DTEND;VALUE=DATE:20230629
DTSTAMP:20260420T102450
CREATED:20210902T062315Z
LAST-MODIFIED:20240428T234443Z
UID:10000302-1687910400-1687996799@thecorambahotel.com.au
SUMMARY:WEDNESDAY - 200g Rump w/ Free Middy or Wine
DESCRIPTION:Served with chips\, garden salad & your choice of sauce. w/ Free Middy or Wine \nAvailable Lunch + Dinner \n*$17.50 Members | $19.50 Non-Members
URL:https://thecorambahotel.com.au/event/rump-or-snitty-wednesdays/2023-06-28/
LOCATION:Coramba Hotel\, 17 Gale St\, Coramba\, NSW\, 2450\, Australia
CATEGORIES:Meal Deal
ATTACH;FMTTYPE=image/jpeg:https://thecorambahotel.com.au/wp-content/uploads/2021/09/CH_DailyMealDeal_MAY2023_WEB3.jpg
END:VEVENT
BEGIN:VEVENT
DTSTART;VALUE=DATE:20230627
DTEND;VALUE=DATE:20230628
DTSTAMP:20260420T102450
CREATED:20210902T060759Z
LAST-MODIFIED:20240428T234546Z
UID:10000160-1687824000-1687910399@thecorambahotel.com.au
SUMMARY:TUESDAY - Lamb Cutlets
DESCRIPTION:Succulent Cowra Lamb Cutlets crumbed and served with chips\, garden salad & gravy. \nAvailable Lunch + Dinner \n*$17.50 Members | $19.50 Non-Members
URL:https://thecorambahotel.com.au/event/lamb-cutlet-tuesdays/2023-06-27/
LOCATION:Coramba Hotel\, 17 Gale St\, Coramba\, NSW\, 2450\, Australia
CATEGORIES:Meal Deal
ATTACH;FMTTYPE=image/jpeg:https://thecorambahotel.com.au/wp-content/uploads/2021/09/CH_DailyMealDeal_MAY2023_WEB2.jpg
END:VEVENT
BEGIN:VEVENT
DTSTART;VALUE=DATE:20230626
DTEND;VALUE=DATE:20230627
DTSTAMP:20260420T102450
CREATED:20210902T061848Z
LAST-MODIFIED:20240428T234543Z
UID:10000372-1687737600-1687823999@thecorambahotel.com.au
SUMMARY:MONDAY - PIZZAS
DESCRIPTION:ALL PIZZAS\nPepperoni Napoli\, mozzarella\, chilli flakes \nMargherita Napoli\, fresh mozzarella\, basil\, olive oil (V) \nHawaiian Napoli\, mozzarella\, sliced ham\, pineapple \nBBQ Meat Napoli\, mozzarella\, smoked beef brisket\, charred\nchorizo\, pepperoni\, onion\, mozzarella\, bourbon bbq sauce \nSupreme Napoli\, mozzarella\, bacon\, pepperoni\, mushroom\,\ncapsicum\, pineapple\, kalamata olives \nPrawn & Chorizo Napoli\, mozzarella\, prawns\, charred chorizo\,\ncapsicum\, onion\, aioli\, rocket \nVegetarian Napoli\, mozzarella\, roasted QLD blue pumpkin\, goat’s\ncheese\, kalamata olives & caramelised onion (V) \n  \nAvailable Lunch + Dinner \n*$17.50 Members | $19.50 Non-Members
URL:https://thecorambahotel.com.au/event/roast-mondays-2/2023-06-26/
LOCATION:Coramba Hotel\, 17 Gale St\, Coramba\, NSW\, 2450\, Australia
CATEGORIES:Meal Deal
ATTACH;FMTTYPE=image/jpeg:https://thecorambahotel.com.au/wp-content/uploads/2021/09/CH_DailyMealDeal_NOV2023_WEB.jpg
END:VEVENT
BEGIN:VEVENT
DTSTART;TZID=Australia/Sydney:20230625T120000
DTEND;TZID=Australia/Sydney:20230625T150000
DTSTAMP:20260420T102450
CREATED:20230510T082804Z
LAST-MODIFIED:20230510T082804Z
UID:10000700-1687694400-1687705200@thecorambahotel.com.au
SUMMARY:SUNDAY SESH | MIKE BAXTER
DESCRIPTION:The Coramba Hotel present Sunday Sessions out on the lawn | Live Music from 12pm
URL:https://thecorambahotel.com.au/event/sunday-sesh-mike-baxter-2/
LOCATION:Coramba Hotel\, 17 Gale St\, Coramba\, NSW\, 2450\, Australia
CATEGORIES:Whats On
ATTACH;FMTTYPE=image/jpeg:https://thecorambahotel.com.au/wp-content/uploads/2023/05/CH_MonthlyLiveMusic_JUN2023_WEB5.jpg
END:VEVENT
BEGIN:VEVENT
DTSTART;TZID=Australia/Sydney:20230623T193000
DTEND;TZID=Australia/Sydney:20230623T230000
DTSTAMP:20260420T102450
CREATED:20230221T020836Z
LAST-MODIFIED:20230510T094301Z
UID:10000005-1687548600-1687561200@thecorambahotel.com.au
SUMMARY:ACT YOUR AGE! ft KELLY MAC\, MICHAEL HASTIE + MATTY B
DESCRIPTION:The Coramba Hotel pres. ACT YOUR AGE! ft @ComedyKellyMac + Michael Hastie + Matty B\nKelly Mac-\nA refugee from a middling law career\, Kel cut her comedy chops on brekkie radio in Coffs Harbour. In her first year she was nominated for the Australian Commercial Radio Award for Best Newcomer (she lost) and Best On-air Team (she won\, with a little help from her co-host).\nShe entered stand-up in early 2020 and performs both solo and with Take 3 at festivals and venues around Australia. Still not satisfied\, Kel entered the producer space by founding Top Dog Comedy in early 2021.\nKel brings warmth and wit to any evening\, unless “Succession” is on\, then it’s wise to leave the room quietly. With the kids full grown\, her parenting advice can be distilled down to “devon and white bread produce winners” and “never join the P & C”.\nSupporting Michael Hastie\nBookings essential\, limited spaces\n6654 4216
URL:https://thecorambahotel.com.au/event/act-your-age-ft-kelly-mac-michael-hastie/
LOCATION:Coramba Hotel\, 17 Gale St\, Coramba\, NSW\, 2450\, Australia
CATEGORIES:Weekly One Off,Whats On
ATTACH;FMTTYPE=image/jpeg:https://thecorambahotel.com.au/wp-content/uploads/2023/02/CH_ActYourAgeComedyNight_JUN2023_WEB.jpg
END:VEVENT
BEGIN:VEVENT
DTSTART;TZID=Australia/Sydney:20230623T160000
DTEND;TZID=Australia/Sydney:20230623T220000
DTSTAMP:20260420T102450
CREATED:20230111T041120Z
LAST-MODIFIED:20240323T024747Z
UID:10000616-1687536000-1687557600@thecorambahotel.com.au
SUMMARY:KNOCK OFF FRIDAYS - CORAMBA HOTEL
DESCRIPTION:Every Friday at the Coramba Hotel join us for:\n– 4-6pm Happy Hour\n– Raffles from 6pm\n– Members Draw at 7pm\n– $17.5 Members Chicken Schnitty – lunch & dinner !
URL:https://thecorambahotel.com.au/event/knock-off-fridays-coramba-hotel/2023-06-23/
LOCATION:Coramba Hotel\, 17 Gale St\, Coramba\, NSW\, 2450\, Australia
CATEGORIES:Weekly Events,Whats On
ATTACH;FMTTYPE=image/jpeg:https://thecorambahotel.com.au/wp-content/uploads/2023/01/CH_KnockOffFridays_NOV2023_WEB.jpg
END:VEVENT
END:VCALENDAR