BEGIN:VCALENDAR
VERSION:2.0
PRODID:-//Coramba Hotel - ECPv6.15.20//NONSGML v1.0//EN
CALSCALE:GREGORIAN
METHOD:PUBLISH
X-WR-CALNAME:Coramba Hotel
X-ORIGINAL-URL:https://thecorambahotel.com.au
X-WR-CALDESC:Events for Coramba Hotel
REFRESH-INTERVAL;VALUE=DURATION:PT1H
X-Robots-Tag:noindex
X-PUBLISHED-TTL:PT1H
BEGIN:VTIMEZONE
TZID:Australia/Sydney
BEGIN:STANDARD
TZOFFSETFROM:+1100
TZOFFSETTO:+1000
TZNAME:AEST
DTSTART:20300406T160000
END:STANDARD
BEGIN:DAYLIGHT
TZOFFSETFROM:+1000
TZOFFSETTO:+1100
TZNAME:AEDT
DTSTART:20301005T160000
END:DAYLIGHT
BEGIN:STANDARD
TZOFFSETFROM:+1100
TZOFFSETTO:+1000
TZNAME:AEST
DTSTART:20310405T160000
END:STANDARD
BEGIN:DAYLIGHT
TZOFFSETFROM:+1000
TZOFFSETTO:+1100
TZNAME:AEDT
DTSTART:20311004T160000
END:DAYLIGHT
BEGIN:STANDARD
TZOFFSETFROM:+1100
TZOFFSETTO:+1000
TZNAME:AEST
DTSTART:20320403T160000
END:STANDARD
BEGIN:DAYLIGHT
TZOFFSETFROM:+1000
TZOFFSETTO:+1100
TZNAME:AEDT
DTSTART:20321002T160000
END:DAYLIGHT
END:VTIMEZONE
BEGIN:VEVENT
DTSTART;TZID=Australia/Sydney:20310217T100000
DTEND;TZID=Australia/Sydney:20310217T113000
DTSTAMP:20260420T051654
CREATED:20260226T042800Z
LAST-MODIFIED:20260226T042801Z
UID:10002328-1929088800-1929094200@thecorambahotel.com.au
SUMMARY:Bingo in the Valley with Kim
DESCRIPTION:Mondays just got a whole lot more fun in the Valley 🌿 \nBingo in the Valley is on every Monday from 10am at Coramba Hotel.\nGather your friends\, grab a coffee and settle in for a relaxed morning full of laughs\, prizes and that good old country pub atmosphere we love. \nIt’s social. It’s welcoming. It’s the perfect way to start your week.\nBring the whole family and make a morning of it.
URL:https://thecorambahotel.com.au/event/bingo-in-the-valley-with-kim/2031-02-17/
LOCATION:Coramba Hotel\, 17 Gale St\, Coramba\, NSW\, 2450\, Australia
CATEGORIES:Entertainment,Whats On
ATTACH;FMTTYPE=image/jpeg:https://thecorambahotel.com.au/wp-content/uploads/2026/02/CH_MondayBingo_MAR2026_WEB2.jpg
END:VEVENT
BEGIN:VEVENT
DTSTART;VALUE=DATE:20310220
DTEND;VALUE=DATE:20310221
DTSTAMP:20260420T051654
CREATED:20260309T234406Z
LAST-MODIFIED:20260324T012846Z
UID:10002588-1929312000-1929398399@thecorambahotel.com.au
SUMMARY:Trivia Night at Coramba Hotel!
DESCRIPTION:Trivia Night is on every Thursday at Coramba Hotel with your host Kelly Mac. Grab your team\, test your knowledge and settle in for a fun night in the valley with plenty of laughs and great prizes up for grabs. Perfect for mates\, families and anyone who loves a bit of friendly competition. \n\nBook Now
URL:https://thecorambahotel.com.au/event/trivia-night-at-coramba-hotel/2031-02-20/
LOCATION:NSW
ATTACH;FMTTYPE=image/jpeg:https://thecorambahotel.com.au/wp-content/uploads/2026/03/CH_ThursdayTriviaNights_2026_WEB.jpg
END:VEVENT
BEGIN:VEVENT
DTSTART;TZID=Australia/Sydney:20310224T100000
DTEND;TZID=Australia/Sydney:20310224T113000
DTSTAMP:20260420T051654
CREATED:20260226T042800Z
LAST-MODIFIED:20260226T042801Z
UID:10002329-1929693600-1929699000@thecorambahotel.com.au
SUMMARY:Bingo in the Valley with Kim
DESCRIPTION:Mondays just got a whole lot more fun in the Valley 🌿 \nBingo in the Valley is on every Monday from 10am at Coramba Hotel.\nGather your friends\, grab a coffee and settle in for a relaxed morning full of laughs\, prizes and that good old country pub atmosphere we love. \nIt’s social. It’s welcoming. It’s the perfect way to start your week.\nBring the whole family and make a morning of it.
URL:https://thecorambahotel.com.au/event/bingo-in-the-valley-with-kim/2031-02-24/
LOCATION:Coramba Hotel\, 17 Gale St\, Coramba\, NSW\, 2450\, Australia
CATEGORIES:Entertainment,Whats On
ATTACH;FMTTYPE=image/jpeg:https://thecorambahotel.com.au/wp-content/uploads/2026/02/CH_MondayBingo_MAR2026_WEB2.jpg
END:VEVENT
BEGIN:VEVENT
DTSTART;VALUE=DATE:20310227
DTEND;VALUE=DATE:20310228
DTSTAMP:20260420T051654
CREATED:20260309T234406Z
LAST-MODIFIED:20260324T012846Z
UID:10002589-1929916800-1930003199@thecorambahotel.com.au
SUMMARY:Trivia Night at Coramba Hotel!
DESCRIPTION:Trivia Night is on every Thursday at Coramba Hotel with your host Kelly Mac. Grab your team\, test your knowledge and settle in for a fun night in the valley with plenty of laughs and great prizes up for grabs. Perfect for mates\, families and anyone who loves a bit of friendly competition. \n\nBook Now
URL:https://thecorambahotel.com.au/event/trivia-night-at-coramba-hotel/2031-02-27/
LOCATION:NSW
ATTACH;FMTTYPE=image/jpeg:https://thecorambahotel.com.au/wp-content/uploads/2026/03/CH_ThursdayTriviaNights_2026_WEB.jpg
END:VEVENT
BEGIN:VEVENT
DTSTART;TZID=Australia/Sydney:20310305T180000
DTEND;TZID=Australia/Sydney:20310305T210000
DTSTAMP:20260420T051654
CREATED:20251021T011755Z
LAST-MODIFIED:20260326T041925Z
UID:10003472-1930500000-1930510800@thecorambahotel.com.au
SUMMARY:Musical Bingo
DESCRIPTION:Musical Bingo is coming to Coramba Hotel!\nThe first Wednesday of every month.\nFrom 6PM\, Free to play \n🎁 Prizes\, drink specials & good times guaranteed\nIt’s all the fun of bingo\, but with your favourite songs.\nNo pressure – just tunes\, laughs\, and a cheeky midweek sesh. \nTable bookings welcome via thecorambahotel.com.au\nhttps://tableagent.com/coffs-harbour/the-coramba-hotel/\n#MusicalBingo #CorambaHotel
URL:https://thecorambahotel.com.au/event/%f0%9f%8e%b6-musical-bingo-is-coming-to-coramba-hotel-2/2031-03-05/
LOCATION:Coramba Hotel\, 17 Gale St\, Coramba\, NSW\, 2450\, Australia
CATEGORIES:Entertainment,Whats On
ATTACH;FMTTYPE=image/jpeg:https://thecorambahotel.com.au/wp-content/uploads/2025/10/CH_MusicalBingo_GENERIC-2025_WEB.jpg
END:VEVENT
BEGIN:VEVENT
DTSTART;VALUE=DATE:20310306
DTEND;VALUE=DATE:20310307
DTSTAMP:20260420T051654
CREATED:20260309T234406Z
LAST-MODIFIED:20260324T012846Z
UID:10002590-1930521600-1930607999@thecorambahotel.com.au
SUMMARY:Trivia Night at Coramba Hotel!
DESCRIPTION:Trivia Night is on every Thursday at Coramba Hotel with your host Kelly Mac. Grab your team\, test your knowledge and settle in for a fun night in the valley with plenty of laughs and great prizes up for grabs. Perfect for mates\, families and anyone who loves a bit of friendly competition. \n\nBook Now
URL:https://thecorambahotel.com.au/event/trivia-night-at-coramba-hotel/2031-03-06/
LOCATION:NSW
ATTACH;FMTTYPE=image/jpeg:https://thecorambahotel.com.au/wp-content/uploads/2026/03/CH_ThursdayTriviaNights_2026_WEB.jpg
END:VEVENT
BEGIN:VEVENT
DTSTART;VALUE=DATE:20310313
DTEND;VALUE=DATE:20310314
DTSTAMP:20260420T051654
CREATED:20260309T234406Z
LAST-MODIFIED:20260324T012846Z
UID:10003464-1931126400-1931212799@thecorambahotel.com.au
SUMMARY:Trivia Night at Coramba Hotel!
DESCRIPTION:Trivia Night is on every Thursday at Coramba Hotel with your host Kelly Mac. Grab your team\, test your knowledge and settle in for a fun night in the valley with plenty of laughs and great prizes up for grabs. Perfect for mates\, families and anyone who loves a bit of friendly competition. \n\nBook Now
URL:https://thecorambahotel.com.au/event/trivia-night-at-coramba-hotel/2031-03-13/
LOCATION:NSW
ATTACH;FMTTYPE=image/jpeg:https://thecorambahotel.com.au/wp-content/uploads/2026/03/CH_ThursdayTriviaNights_2026_WEB.jpg
END:VEVENT
BEGIN:VEVENT
DTSTART;VALUE=DATE:20310320
DTEND;VALUE=DATE:20310321
DTSTAMP:20260420T051654
CREATED:20260309T234406Z
LAST-MODIFIED:20260324T012846Z
UID:10003465-1931731200-1931817599@thecorambahotel.com.au
SUMMARY:Trivia Night at Coramba Hotel!
DESCRIPTION:Trivia Night is on every Thursday at Coramba Hotel with your host Kelly Mac. Grab your team\, test your knowledge and settle in for a fun night in the valley with plenty of laughs and great prizes up for grabs. Perfect for mates\, families and anyone who loves a bit of friendly competition. \n\nBook Now
URL:https://thecorambahotel.com.au/event/trivia-night-at-coramba-hotel/2031-03-20/
LOCATION:NSW
ATTACH;FMTTYPE=image/jpeg:https://thecorambahotel.com.au/wp-content/uploads/2026/03/CH_ThursdayTriviaNights_2026_WEB.jpg
END:VEVENT
END:VCALENDAR