BEGIN:VCALENDAR
VERSION:2.0
PRODID:-//Coramba Hotel - ECPv6.15.20//NONSGML v1.0//EN
CALSCALE:GREGORIAN
METHOD:PUBLISH
X-WR-CALNAME:Coramba Hotel
X-ORIGINAL-URL:https://thecorambahotel.com.au
X-WR-CALDESC:Events for Coramba Hotel
REFRESH-INTERVAL;VALUE=DURATION:PT1H
X-Robots-Tag:noindex
X-PUBLISHED-TTL:PT1H
BEGIN:VTIMEZONE
TZID:Australia/Sydney
BEGIN:STANDARD
TZOFFSETFROM:+1100
TZOFFSETTO:+1000
TZNAME:AEST
DTSTART:20290331T160000
END:STANDARD
BEGIN:DAYLIGHT
TZOFFSETFROM:+1000
TZOFFSETTO:+1100
TZNAME:AEDT
DTSTART:20291006T160000
END:DAYLIGHT
BEGIN:STANDARD
TZOFFSETFROM:+1100
TZOFFSETTO:+1000
TZNAME:AEST
DTSTART:20300406T160000
END:STANDARD
BEGIN:DAYLIGHT
TZOFFSETFROM:+1000
TZOFFSETTO:+1100
TZNAME:AEDT
DTSTART:20301005T160000
END:DAYLIGHT
BEGIN:STANDARD
TZOFFSETFROM:+1100
TZOFFSETTO:+1000
TZNAME:AEST
DTSTART:20310405T160000
END:STANDARD
BEGIN:DAYLIGHT
TZOFFSETFROM:+1000
TZOFFSETTO:+1100
TZNAME:AEDT
DTSTART:20311004T160000
END:DAYLIGHT
BEGIN:STANDARD
TZOFFSETFROM:+1100
TZOFFSETTO:+1000
TZNAME:AEST
DTSTART:20320403T160000
END:STANDARD
BEGIN:DAYLIGHT
TZOFFSETFROM:+1000
TZOFFSETTO:+1100
TZNAME:AEDT
DTSTART:20321002T160000
END:DAYLIGHT
END:VTIMEZONE
BEGIN:VEVENT
DTSTART;TZID=Australia/Sydney:20301209T100000
DTEND;TZID=Australia/Sydney:20301209T113000
DTSTAMP:20260420T110202
CREATED:20260226T042800Z
LAST-MODIFIED:20260226T042801Z
UID:10002318-1923040800-1923046200@thecorambahotel.com.au
SUMMARY:Bingo in the Valley with Kim
DESCRIPTION:Mondays just got a whole lot more fun in the Valley 🌿 \nBingo in the Valley is on every Monday from 10am at Coramba Hotel.\nGather your friends\, grab a coffee and settle in for a relaxed morning full of laughs\, prizes and that good old country pub atmosphere we love. \nIt’s social. It’s welcoming. It’s the perfect way to start your week.\nBring the whole family and make a morning of it.
URL:https://thecorambahotel.com.au/event/bingo-in-the-valley-with-kim/2030-12-09/
LOCATION:Coramba Hotel\, 17 Gale St\, Coramba\, NSW\, 2450\, Australia
CATEGORIES:Entertainment,Whats On
ATTACH;FMTTYPE=image/jpeg:https://thecorambahotel.com.au/wp-content/uploads/2026/02/CH_MondayBingo_MAR2026_WEB2.jpg
END:VEVENT
BEGIN:VEVENT
DTSTART;VALUE=DATE:20301212
DTEND;VALUE=DATE:20301213
DTSTAMP:20260420T110202
CREATED:20260309T234406Z
LAST-MODIFIED:20260324T012846Z
UID:10002578-1923264000-1923350399@thecorambahotel.com.au
SUMMARY:Trivia Night at Coramba Hotel!
DESCRIPTION:Trivia Night is on every Thursday at Coramba Hotel with your host Kelly Mac. Grab your team\, test your knowledge and settle in for a fun night in the valley with plenty of laughs and great prizes up for grabs. Perfect for mates\, families and anyone who loves a bit of friendly competition. \n\nBook Now
URL:https://thecorambahotel.com.au/event/trivia-night-at-coramba-hotel/2030-12-12/
LOCATION:NSW
ATTACH;FMTTYPE=image/jpeg:https://thecorambahotel.com.au/wp-content/uploads/2026/03/CH_ThursdayTriviaNights_2026_WEB.jpg
END:VEVENT
BEGIN:VEVENT
DTSTART;TZID=Australia/Sydney:20301216T100000
DTEND;TZID=Australia/Sydney:20301216T113000
DTSTAMP:20260420T110202
CREATED:20260226T042800Z
LAST-MODIFIED:20260226T042801Z
UID:10002319-1923645600-1923651000@thecorambahotel.com.au
SUMMARY:Bingo in the Valley with Kim
DESCRIPTION:Mondays just got a whole lot more fun in the Valley 🌿 \nBingo in the Valley is on every Monday from 10am at Coramba Hotel.\nGather your friends\, grab a coffee and settle in for a relaxed morning full of laughs\, prizes and that good old country pub atmosphere we love. \nIt’s social. It’s welcoming. It’s the perfect way to start your week.\nBring the whole family and make a morning of it.
URL:https://thecorambahotel.com.au/event/bingo-in-the-valley-with-kim/2030-12-16/
LOCATION:Coramba Hotel\, 17 Gale St\, Coramba\, NSW\, 2450\, Australia
CATEGORIES:Entertainment,Whats On
ATTACH;FMTTYPE=image/jpeg:https://thecorambahotel.com.au/wp-content/uploads/2026/02/CH_MondayBingo_MAR2026_WEB2.jpg
END:VEVENT
BEGIN:VEVENT
DTSTART;VALUE=DATE:20301219
DTEND;VALUE=DATE:20301220
DTSTAMP:20260420T110202
CREATED:20260309T234406Z
LAST-MODIFIED:20260324T012846Z
UID:10002579-1923868800-1923955199@thecorambahotel.com.au
SUMMARY:Trivia Night at Coramba Hotel!
DESCRIPTION:Trivia Night is on every Thursday at Coramba Hotel with your host Kelly Mac. Grab your team\, test your knowledge and settle in for a fun night in the valley with plenty of laughs and great prizes up for grabs. Perfect for mates\, families and anyone who loves a bit of friendly competition. \n\nBook Now
URL:https://thecorambahotel.com.au/event/trivia-night-at-coramba-hotel/2030-12-19/
LOCATION:NSW
ATTACH;FMTTYPE=image/jpeg:https://thecorambahotel.com.au/wp-content/uploads/2026/03/CH_ThursdayTriviaNights_2026_WEB.jpg
END:VEVENT
BEGIN:VEVENT
DTSTART;TZID=Australia/Sydney:20301223T100000
DTEND;TZID=Australia/Sydney:20301223T113000
DTSTAMP:20260420T110202
CREATED:20260226T042800Z
LAST-MODIFIED:20260226T042801Z
UID:10002320-1924250400-1924255800@thecorambahotel.com.au
SUMMARY:Bingo in the Valley with Kim
DESCRIPTION:Mondays just got a whole lot more fun in the Valley 🌿 \nBingo in the Valley is on every Monday from 10am at Coramba Hotel.\nGather your friends\, grab a coffee and settle in for a relaxed morning full of laughs\, prizes and that good old country pub atmosphere we love. \nIt’s social. It’s welcoming. It’s the perfect way to start your week.\nBring the whole family and make a morning of it.
URL:https://thecorambahotel.com.au/event/bingo-in-the-valley-with-kim/2030-12-23/
LOCATION:Coramba Hotel\, 17 Gale St\, Coramba\, NSW\, 2450\, Australia
CATEGORIES:Entertainment,Whats On
ATTACH;FMTTYPE=image/jpeg:https://thecorambahotel.com.au/wp-content/uploads/2026/02/CH_MondayBingo_MAR2026_WEB2.jpg
END:VEVENT
BEGIN:VEVENT
DTSTART;VALUE=DATE:20301226
DTEND;VALUE=DATE:20301227
DTSTAMP:20260420T110202
CREATED:20260309T234406Z
LAST-MODIFIED:20260324T012846Z
UID:10002580-1924473600-1924559999@thecorambahotel.com.au
SUMMARY:Trivia Night at Coramba Hotel!
DESCRIPTION:Trivia Night is on every Thursday at Coramba Hotel with your host Kelly Mac. Grab your team\, test your knowledge and settle in for a fun night in the valley with plenty of laughs and great prizes up for grabs. Perfect for mates\, families and anyone who loves a bit of friendly competition. \n\nBook Now
URL:https://thecorambahotel.com.au/event/trivia-night-at-coramba-hotel/2030-12-26/
LOCATION:NSW
ATTACH;FMTTYPE=image/jpeg:https://thecorambahotel.com.au/wp-content/uploads/2026/03/CH_ThursdayTriviaNights_2026_WEB.jpg
END:VEVENT
BEGIN:VEVENT
DTSTART;TZID=Australia/Sydney:20301230T100000
DTEND;TZID=Australia/Sydney:20301230T113000
DTSTAMP:20260420T110202
CREATED:20260226T042800Z
LAST-MODIFIED:20260226T042801Z
UID:10002321-1924855200-1924860600@thecorambahotel.com.au
SUMMARY:Bingo in the Valley with Kim
DESCRIPTION:Mondays just got a whole lot more fun in the Valley 🌿 \nBingo in the Valley is on every Monday from 10am at Coramba Hotel.\nGather your friends\, grab a coffee and settle in for a relaxed morning full of laughs\, prizes and that good old country pub atmosphere we love. \nIt’s social. It’s welcoming. It’s the perfect way to start your week.\nBring the whole family and make a morning of it.
URL:https://thecorambahotel.com.au/event/bingo-in-the-valley-with-kim/2030-12-30/
LOCATION:Coramba Hotel\, 17 Gale St\, Coramba\, NSW\, 2450\, Australia
CATEGORIES:Entertainment,Whats On
ATTACH;FMTTYPE=image/jpeg:https://thecorambahotel.com.au/wp-content/uploads/2026/02/CH_MondayBingo_MAR2026_WEB2.jpg
END:VEVENT
BEGIN:VEVENT
DTSTART;TZID=Australia/Sydney:20310101T180000
DTEND;TZID=Australia/Sydney:20310101T210000
DTSTAMP:20260420T110202
CREATED:20251021T011755Z
LAST-MODIFIED:20260326T041925Z
UID:10003470-1925056800-1925067600@thecorambahotel.com.au
SUMMARY:Musical Bingo
DESCRIPTION:Musical Bingo is coming to Coramba Hotel!\nThe first Wednesday of every month.\nFrom 6PM\, Free to play \n🎁 Prizes\, drink specials & good times guaranteed\nIt’s all the fun of bingo\, but with your favourite songs.\nNo pressure – just tunes\, laughs\, and a cheeky midweek sesh. \nTable bookings welcome via thecorambahotel.com.au\nhttps://tableagent.com/coffs-harbour/the-coramba-hotel/\n#MusicalBingo #CorambaHotel
URL:https://thecorambahotel.com.au/event/%f0%9f%8e%b6-musical-bingo-is-coming-to-coramba-hotel-2/2031-01-01/
LOCATION:Coramba Hotel\, 17 Gale St\, Coramba\, NSW\, 2450\, Australia
CATEGORIES:Entertainment,Whats On
ATTACH;FMTTYPE=image/jpeg:https://thecorambahotel.com.au/wp-content/uploads/2025/10/CH_MusicalBingo_GENERIC-2025_WEB.jpg
END:VEVENT
BEGIN:VEVENT
DTSTART;VALUE=DATE:20310102
DTEND;VALUE=DATE:20310103
DTSTAMP:20260420T110202
CREATED:20260309T234406Z
LAST-MODIFIED:20260324T012846Z
UID:10002581-1925078400-1925164799@thecorambahotel.com.au
SUMMARY:Trivia Night at Coramba Hotel!
DESCRIPTION:Trivia Night is on every Thursday at Coramba Hotel with your host Kelly Mac. Grab your team\, test your knowledge and settle in for a fun night in the valley with plenty of laughs and great prizes up for grabs. Perfect for mates\, families and anyone who loves a bit of friendly competition. \n\nBook Now
URL:https://thecorambahotel.com.au/event/trivia-night-at-coramba-hotel/2031-01-02/
LOCATION:NSW
ATTACH;FMTTYPE=image/jpeg:https://thecorambahotel.com.au/wp-content/uploads/2026/03/CH_ThursdayTriviaNights_2026_WEB.jpg
END:VEVENT
BEGIN:VEVENT
DTSTART;TZID=Australia/Sydney:20310106T100000
DTEND;TZID=Australia/Sydney:20310106T113000
DTSTAMP:20260420T110202
CREATED:20260226T042800Z
LAST-MODIFIED:20260226T042801Z
UID:10002322-1925460000-1925465400@thecorambahotel.com.au
SUMMARY:Bingo in the Valley with Kim
DESCRIPTION:Mondays just got a whole lot more fun in the Valley 🌿 \nBingo in the Valley is on every Monday from 10am at Coramba Hotel.\nGather your friends\, grab a coffee and settle in for a relaxed morning full of laughs\, prizes and that good old country pub atmosphere we love. \nIt’s social. It’s welcoming. It’s the perfect way to start your week.\nBring the whole family and make a morning of it.
URL:https://thecorambahotel.com.au/event/bingo-in-the-valley-with-kim/2031-01-06/
LOCATION:Coramba Hotel\, 17 Gale St\, Coramba\, NSW\, 2450\, Australia
CATEGORIES:Entertainment,Whats On
ATTACH;FMTTYPE=image/jpeg:https://thecorambahotel.com.au/wp-content/uploads/2026/02/CH_MondayBingo_MAR2026_WEB2.jpg
END:VEVENT
BEGIN:VEVENT
DTSTART;VALUE=DATE:20310109
DTEND;VALUE=DATE:20310110
DTSTAMP:20260420T110202
CREATED:20260309T234406Z
LAST-MODIFIED:20260324T012846Z
UID:10002582-1925683200-1925769599@thecorambahotel.com.au
SUMMARY:Trivia Night at Coramba Hotel!
DESCRIPTION:Trivia Night is on every Thursday at Coramba Hotel with your host Kelly Mac. Grab your team\, test your knowledge and settle in for a fun night in the valley with plenty of laughs and great prizes up for grabs. Perfect for mates\, families and anyone who loves a bit of friendly competition. \n\nBook Now
URL:https://thecorambahotel.com.au/event/trivia-night-at-coramba-hotel/2031-01-09/
LOCATION:NSW
ATTACH;FMTTYPE=image/jpeg:https://thecorambahotel.com.au/wp-content/uploads/2026/03/CH_ThursdayTriviaNights_2026_WEB.jpg
END:VEVENT
BEGIN:VEVENT
DTSTART;TZID=Australia/Sydney:20310113T100000
DTEND;TZID=Australia/Sydney:20310113T113000
DTSTAMP:20260420T110202
CREATED:20260226T042800Z
LAST-MODIFIED:20260226T042801Z
UID:10002323-1926064800-1926070200@thecorambahotel.com.au
SUMMARY:Bingo in the Valley with Kim
DESCRIPTION:Mondays just got a whole lot more fun in the Valley 🌿 \nBingo in the Valley is on every Monday from 10am at Coramba Hotel.\nGather your friends\, grab a coffee and settle in for a relaxed morning full of laughs\, prizes and that good old country pub atmosphere we love. \nIt’s social. It’s welcoming. It’s the perfect way to start your week.\nBring the whole family and make a morning of it.
URL:https://thecorambahotel.com.au/event/bingo-in-the-valley-with-kim/2031-01-13/
LOCATION:Coramba Hotel\, 17 Gale St\, Coramba\, NSW\, 2450\, Australia
CATEGORIES:Entertainment,Whats On
ATTACH;FMTTYPE=image/jpeg:https://thecorambahotel.com.au/wp-content/uploads/2026/02/CH_MondayBingo_MAR2026_WEB2.jpg
END:VEVENT
BEGIN:VEVENT
DTSTART;VALUE=DATE:20310116
DTEND;VALUE=DATE:20310117
DTSTAMP:20260420T110202
CREATED:20260309T234406Z
LAST-MODIFIED:20260324T012846Z
UID:10002583-1926288000-1926374399@thecorambahotel.com.au
SUMMARY:Trivia Night at Coramba Hotel!
DESCRIPTION:Trivia Night is on every Thursday at Coramba Hotel with your host Kelly Mac. Grab your team\, test your knowledge and settle in for a fun night in the valley with plenty of laughs and great prizes up for grabs. Perfect for mates\, families and anyone who loves a bit of friendly competition. \n\nBook Now
URL:https://thecorambahotel.com.au/event/trivia-night-at-coramba-hotel/2031-01-16/
LOCATION:NSW
ATTACH;FMTTYPE=image/jpeg:https://thecorambahotel.com.au/wp-content/uploads/2026/03/CH_ThursdayTriviaNights_2026_WEB.jpg
END:VEVENT
BEGIN:VEVENT
DTSTART;TZID=Australia/Sydney:20310120T100000
DTEND;TZID=Australia/Sydney:20310120T113000
DTSTAMP:20260420T110202
CREATED:20260226T042800Z
LAST-MODIFIED:20260226T042801Z
UID:10002324-1926669600-1926675000@thecorambahotel.com.au
SUMMARY:Bingo in the Valley with Kim
DESCRIPTION:Mondays just got a whole lot more fun in the Valley 🌿 \nBingo in the Valley is on every Monday from 10am at Coramba Hotel.\nGather your friends\, grab a coffee and settle in for a relaxed morning full of laughs\, prizes and that good old country pub atmosphere we love. \nIt’s social. It’s welcoming. It’s the perfect way to start your week.\nBring the whole family and make a morning of it.
URL:https://thecorambahotel.com.au/event/bingo-in-the-valley-with-kim/2031-01-20/
LOCATION:Coramba Hotel\, 17 Gale St\, Coramba\, NSW\, 2450\, Australia
CATEGORIES:Entertainment,Whats On
ATTACH;FMTTYPE=image/jpeg:https://thecorambahotel.com.au/wp-content/uploads/2026/02/CH_MondayBingo_MAR2026_WEB2.jpg
END:VEVENT
BEGIN:VEVENT
DTSTART;VALUE=DATE:20310123
DTEND;VALUE=DATE:20310124
DTSTAMP:20260420T110202
CREATED:20260309T234406Z
LAST-MODIFIED:20260324T012846Z
UID:10002584-1926892800-1926979199@thecorambahotel.com.au
SUMMARY:Trivia Night at Coramba Hotel!
DESCRIPTION:Trivia Night is on every Thursday at Coramba Hotel with your host Kelly Mac. Grab your team\, test your knowledge and settle in for a fun night in the valley with plenty of laughs and great prizes up for grabs. Perfect for mates\, families and anyone who loves a bit of friendly competition. \n\nBook Now
URL:https://thecorambahotel.com.au/event/trivia-night-at-coramba-hotel/2031-01-23/
LOCATION:NSW
ATTACH;FMTTYPE=image/jpeg:https://thecorambahotel.com.au/wp-content/uploads/2026/03/CH_ThursdayTriviaNights_2026_WEB.jpg
END:VEVENT
BEGIN:VEVENT
DTSTART;TZID=Australia/Sydney:20310127T100000
DTEND;TZID=Australia/Sydney:20310127T113000
DTSTAMP:20260420T110202
CREATED:20260226T042800Z
LAST-MODIFIED:20260226T042801Z
UID:10002325-1927274400-1927279800@thecorambahotel.com.au
SUMMARY:Bingo in the Valley with Kim
DESCRIPTION:Mondays just got a whole lot more fun in the Valley 🌿 \nBingo in the Valley is on every Monday from 10am at Coramba Hotel.\nGather your friends\, grab a coffee and settle in for a relaxed morning full of laughs\, prizes and that good old country pub atmosphere we love. \nIt’s social. It’s welcoming. It’s the perfect way to start your week.\nBring the whole family and make a morning of it.
URL:https://thecorambahotel.com.au/event/bingo-in-the-valley-with-kim/2031-01-27/
LOCATION:Coramba Hotel\, 17 Gale St\, Coramba\, NSW\, 2450\, Australia
CATEGORIES:Entertainment,Whats On
ATTACH;FMTTYPE=image/jpeg:https://thecorambahotel.com.au/wp-content/uploads/2026/02/CH_MondayBingo_MAR2026_WEB2.jpg
END:VEVENT
BEGIN:VEVENT
DTSTART;VALUE=DATE:20310130
DTEND;VALUE=DATE:20310131
DTSTAMP:20260420T110202
CREATED:20260309T234406Z
LAST-MODIFIED:20260324T012846Z
UID:10002585-1927497600-1927583999@thecorambahotel.com.au
SUMMARY:Trivia Night at Coramba Hotel!
DESCRIPTION:Trivia Night is on every Thursday at Coramba Hotel with your host Kelly Mac. Grab your team\, test your knowledge and settle in for a fun night in the valley with plenty of laughs and great prizes up for grabs. Perfect for mates\, families and anyone who loves a bit of friendly competition. \n\nBook Now
URL:https://thecorambahotel.com.au/event/trivia-night-at-coramba-hotel/2031-01-30/
LOCATION:NSW
ATTACH;FMTTYPE=image/jpeg:https://thecorambahotel.com.au/wp-content/uploads/2026/03/CH_ThursdayTriviaNights_2026_WEB.jpg
END:VEVENT
BEGIN:VEVENT
DTSTART;TZID=Australia/Sydney:20310203T100000
DTEND;TZID=Australia/Sydney:20310203T113000
DTSTAMP:20260420T110202
CREATED:20260226T042800Z
LAST-MODIFIED:20260226T042801Z
UID:10002326-1927879200-1927884600@thecorambahotel.com.au
SUMMARY:Bingo in the Valley with Kim
DESCRIPTION:Mondays just got a whole lot more fun in the Valley 🌿 \nBingo in the Valley is on every Monday from 10am at Coramba Hotel.\nGather your friends\, grab a coffee and settle in for a relaxed morning full of laughs\, prizes and that good old country pub atmosphere we love. \nIt’s social. It’s welcoming. It’s the perfect way to start your week.\nBring the whole family and make a morning of it.
URL:https://thecorambahotel.com.au/event/bingo-in-the-valley-with-kim/2031-02-03/
LOCATION:Coramba Hotel\, 17 Gale St\, Coramba\, NSW\, 2450\, Australia
CATEGORIES:Entertainment,Whats On
ATTACH;FMTTYPE=image/jpeg:https://thecorambahotel.com.au/wp-content/uploads/2026/02/CH_MondayBingo_MAR2026_WEB2.jpg
END:VEVENT
BEGIN:VEVENT
DTSTART;TZID=Australia/Sydney:20310205T180000
DTEND;TZID=Australia/Sydney:20310205T210000
DTSTAMP:20260420T110202
CREATED:20251021T011755Z
LAST-MODIFIED:20260326T041925Z
UID:10003471-1928080800-1928091600@thecorambahotel.com.au
SUMMARY:Musical Bingo
DESCRIPTION:Musical Bingo is coming to Coramba Hotel!\nThe first Wednesday of every month.\nFrom 6PM\, Free to play \n🎁 Prizes\, drink specials & good times guaranteed\nIt’s all the fun of bingo\, but with your favourite songs.\nNo pressure – just tunes\, laughs\, and a cheeky midweek sesh. \nTable bookings welcome via thecorambahotel.com.au\nhttps://tableagent.com/coffs-harbour/the-coramba-hotel/\n#MusicalBingo #CorambaHotel
URL:https://thecorambahotel.com.au/event/%f0%9f%8e%b6-musical-bingo-is-coming-to-coramba-hotel-2/2031-02-05/
LOCATION:Coramba Hotel\, 17 Gale St\, Coramba\, NSW\, 2450\, Australia
CATEGORIES:Entertainment,Whats On
ATTACH;FMTTYPE=image/jpeg:https://thecorambahotel.com.au/wp-content/uploads/2025/10/CH_MusicalBingo_GENERIC-2025_WEB.jpg
END:VEVENT
BEGIN:VEVENT
DTSTART;VALUE=DATE:20310206
DTEND;VALUE=DATE:20310207
DTSTAMP:20260420T110202
CREATED:20260309T234406Z
LAST-MODIFIED:20260324T012846Z
UID:10002586-1928102400-1928188799@thecorambahotel.com.au
SUMMARY:Trivia Night at Coramba Hotel!
DESCRIPTION:Trivia Night is on every Thursday at Coramba Hotel with your host Kelly Mac. Grab your team\, test your knowledge and settle in for a fun night in the valley with plenty of laughs and great prizes up for grabs. Perfect for mates\, families and anyone who loves a bit of friendly competition. \n\nBook Now
URL:https://thecorambahotel.com.au/event/trivia-night-at-coramba-hotel/2031-02-06/
LOCATION:NSW
ATTACH;FMTTYPE=image/jpeg:https://thecorambahotel.com.au/wp-content/uploads/2026/03/CH_ThursdayTriviaNights_2026_WEB.jpg
END:VEVENT
BEGIN:VEVENT
DTSTART;TZID=Australia/Sydney:20310210T100000
DTEND;TZID=Australia/Sydney:20310210T113000
DTSTAMP:20260420T110202
CREATED:20260226T042800Z
LAST-MODIFIED:20260226T042801Z
UID:10002327-1928484000-1928489400@thecorambahotel.com.au
SUMMARY:Bingo in the Valley with Kim
DESCRIPTION:Mondays just got a whole lot more fun in the Valley 🌿 \nBingo in the Valley is on every Monday from 10am at Coramba Hotel.\nGather your friends\, grab a coffee and settle in for a relaxed morning full of laughs\, prizes and that good old country pub atmosphere we love. \nIt’s social. It’s welcoming. It’s the perfect way to start your week.\nBring the whole family and make a morning of it.
URL:https://thecorambahotel.com.au/event/bingo-in-the-valley-with-kim/2031-02-10/
LOCATION:Coramba Hotel\, 17 Gale St\, Coramba\, NSW\, 2450\, Australia
CATEGORIES:Entertainment,Whats On
ATTACH;FMTTYPE=image/jpeg:https://thecorambahotel.com.au/wp-content/uploads/2026/02/CH_MondayBingo_MAR2026_WEB2.jpg
END:VEVENT
BEGIN:VEVENT
DTSTART;VALUE=DATE:20310213
DTEND;VALUE=DATE:20310214
DTSTAMP:20260420T110202
CREATED:20260309T234406Z
LAST-MODIFIED:20260324T012846Z
UID:10002587-1928707200-1928793599@thecorambahotel.com.au
SUMMARY:Trivia Night at Coramba Hotel!
DESCRIPTION:Trivia Night is on every Thursday at Coramba Hotel with your host Kelly Mac. Grab your team\, test your knowledge and settle in for a fun night in the valley with plenty of laughs and great prizes up for grabs. Perfect for mates\, families and anyone who loves a bit of friendly competition. \n\nBook Now
URL:https://thecorambahotel.com.au/event/trivia-night-at-coramba-hotel/2031-02-13/
LOCATION:NSW
ATTACH;FMTTYPE=image/jpeg:https://thecorambahotel.com.au/wp-content/uploads/2026/03/CH_ThursdayTriviaNights_2026_WEB.jpg
END:VEVENT
BEGIN:VEVENT
DTSTART;TZID=Australia/Sydney:20310217T100000
DTEND;TZID=Australia/Sydney:20310217T113000
DTSTAMP:20260420T110202
CREATED:20260226T042800Z
LAST-MODIFIED:20260226T042801Z
UID:10002328-1929088800-1929094200@thecorambahotel.com.au
SUMMARY:Bingo in the Valley with Kim
DESCRIPTION:Mondays just got a whole lot more fun in the Valley 🌿 \nBingo in the Valley is on every Monday from 10am at Coramba Hotel.\nGather your friends\, grab a coffee and settle in for a relaxed morning full of laughs\, prizes and that good old country pub atmosphere we love. \nIt’s social. It’s welcoming. It’s the perfect way to start your week.\nBring the whole family and make a morning of it.
URL:https://thecorambahotel.com.au/event/bingo-in-the-valley-with-kim/2031-02-17/
LOCATION:Coramba Hotel\, 17 Gale St\, Coramba\, NSW\, 2450\, Australia
CATEGORIES:Entertainment,Whats On
ATTACH;FMTTYPE=image/jpeg:https://thecorambahotel.com.au/wp-content/uploads/2026/02/CH_MondayBingo_MAR2026_WEB2.jpg
END:VEVENT
BEGIN:VEVENT
DTSTART;VALUE=DATE:20310220
DTEND;VALUE=DATE:20310221
DTSTAMP:20260420T110202
CREATED:20260309T234406Z
LAST-MODIFIED:20260324T012846Z
UID:10002588-1929312000-1929398399@thecorambahotel.com.au
SUMMARY:Trivia Night at Coramba Hotel!
DESCRIPTION:Trivia Night is on every Thursday at Coramba Hotel with your host Kelly Mac. Grab your team\, test your knowledge and settle in for a fun night in the valley with plenty of laughs and great prizes up for grabs. Perfect for mates\, families and anyone who loves a bit of friendly competition. \n\nBook Now
URL:https://thecorambahotel.com.au/event/trivia-night-at-coramba-hotel/2031-02-20/
LOCATION:NSW
ATTACH;FMTTYPE=image/jpeg:https://thecorambahotel.com.au/wp-content/uploads/2026/03/CH_ThursdayTriviaNights_2026_WEB.jpg
END:VEVENT
BEGIN:VEVENT
DTSTART;TZID=Australia/Sydney:20310224T100000
DTEND;TZID=Australia/Sydney:20310224T113000
DTSTAMP:20260420T110202
CREATED:20260226T042800Z
LAST-MODIFIED:20260226T042801Z
UID:10002329-1929693600-1929699000@thecorambahotel.com.au
SUMMARY:Bingo in the Valley with Kim
DESCRIPTION:Mondays just got a whole lot more fun in the Valley 🌿 \nBingo in the Valley is on every Monday from 10am at Coramba Hotel.\nGather your friends\, grab a coffee and settle in for a relaxed morning full of laughs\, prizes and that good old country pub atmosphere we love. \nIt’s social. It’s welcoming. It’s the perfect way to start your week.\nBring the whole family and make a morning of it.
URL:https://thecorambahotel.com.au/event/bingo-in-the-valley-with-kim/2031-02-24/
LOCATION:Coramba Hotel\, 17 Gale St\, Coramba\, NSW\, 2450\, Australia
CATEGORIES:Entertainment,Whats On
ATTACH;FMTTYPE=image/jpeg:https://thecorambahotel.com.au/wp-content/uploads/2026/02/CH_MondayBingo_MAR2026_WEB2.jpg
END:VEVENT
BEGIN:VEVENT
DTSTART;VALUE=DATE:20310227
DTEND;VALUE=DATE:20310228
DTSTAMP:20260420T110202
CREATED:20260309T234406Z
LAST-MODIFIED:20260324T012846Z
UID:10002589-1929916800-1930003199@thecorambahotel.com.au
SUMMARY:Trivia Night at Coramba Hotel!
DESCRIPTION:Trivia Night is on every Thursday at Coramba Hotel with your host Kelly Mac. Grab your team\, test your knowledge and settle in for a fun night in the valley with plenty of laughs and great prizes up for grabs. Perfect for mates\, families and anyone who loves a bit of friendly competition. \n\nBook Now
URL:https://thecorambahotel.com.au/event/trivia-night-at-coramba-hotel/2031-02-27/
LOCATION:NSW
ATTACH;FMTTYPE=image/jpeg:https://thecorambahotel.com.au/wp-content/uploads/2026/03/CH_ThursdayTriviaNights_2026_WEB.jpg
END:VEVENT
BEGIN:VEVENT
DTSTART;TZID=Australia/Sydney:20310305T180000
DTEND;TZID=Australia/Sydney:20310305T210000
DTSTAMP:20260420T110202
CREATED:20251021T011755Z
LAST-MODIFIED:20260326T041925Z
UID:10003472-1930500000-1930510800@thecorambahotel.com.au
SUMMARY:Musical Bingo
DESCRIPTION:Musical Bingo is coming to Coramba Hotel!\nThe first Wednesday of every month.\nFrom 6PM\, Free to play \n🎁 Prizes\, drink specials & good times guaranteed\nIt’s all the fun of bingo\, but with your favourite songs.\nNo pressure – just tunes\, laughs\, and a cheeky midweek sesh. \nTable bookings welcome via thecorambahotel.com.au\nhttps://tableagent.com/coffs-harbour/the-coramba-hotel/\n#MusicalBingo #CorambaHotel
URL:https://thecorambahotel.com.au/event/%f0%9f%8e%b6-musical-bingo-is-coming-to-coramba-hotel-2/2031-03-05/
LOCATION:Coramba Hotel\, 17 Gale St\, Coramba\, NSW\, 2450\, Australia
CATEGORIES:Entertainment,Whats On
ATTACH;FMTTYPE=image/jpeg:https://thecorambahotel.com.au/wp-content/uploads/2025/10/CH_MusicalBingo_GENERIC-2025_WEB.jpg
END:VEVENT
BEGIN:VEVENT
DTSTART;VALUE=DATE:20310306
DTEND;VALUE=DATE:20310307
DTSTAMP:20260420T110202
CREATED:20260309T234406Z
LAST-MODIFIED:20260324T012846Z
UID:10002590-1930521600-1930607999@thecorambahotel.com.au
SUMMARY:Trivia Night at Coramba Hotel!
DESCRIPTION:Trivia Night is on every Thursday at Coramba Hotel with your host Kelly Mac. Grab your team\, test your knowledge and settle in for a fun night in the valley with plenty of laughs and great prizes up for grabs. Perfect for mates\, families and anyone who loves a bit of friendly competition. \n\nBook Now
URL:https://thecorambahotel.com.au/event/trivia-night-at-coramba-hotel/2031-03-06/
LOCATION:NSW
ATTACH;FMTTYPE=image/jpeg:https://thecorambahotel.com.au/wp-content/uploads/2026/03/CH_ThursdayTriviaNights_2026_WEB.jpg
END:VEVENT
BEGIN:VEVENT
DTSTART;VALUE=DATE:20310313
DTEND;VALUE=DATE:20310314
DTSTAMP:20260420T110202
CREATED:20260309T234406Z
LAST-MODIFIED:20260324T012846Z
UID:10003464-1931126400-1931212799@thecorambahotel.com.au
SUMMARY:Trivia Night at Coramba Hotel!
DESCRIPTION:Trivia Night is on every Thursday at Coramba Hotel with your host Kelly Mac. Grab your team\, test your knowledge and settle in for a fun night in the valley with plenty of laughs and great prizes up for grabs. Perfect for mates\, families and anyone who loves a bit of friendly competition. \n\nBook Now
URL:https://thecorambahotel.com.au/event/trivia-night-at-coramba-hotel/2031-03-13/
LOCATION:NSW
ATTACH;FMTTYPE=image/jpeg:https://thecorambahotel.com.au/wp-content/uploads/2026/03/CH_ThursdayTriviaNights_2026_WEB.jpg
END:VEVENT
BEGIN:VEVENT
DTSTART;VALUE=DATE:20310320
DTEND;VALUE=DATE:20310321
DTSTAMP:20260420T110202
CREATED:20260309T234406Z
LAST-MODIFIED:20260324T012846Z
UID:10003465-1931731200-1931817599@thecorambahotel.com.au
SUMMARY:Trivia Night at Coramba Hotel!
DESCRIPTION:Trivia Night is on every Thursday at Coramba Hotel with your host Kelly Mac. Grab your team\, test your knowledge and settle in for a fun night in the valley with plenty of laughs and great prizes up for grabs. Perfect for mates\, families and anyone who loves a bit of friendly competition. \n\nBook Now
URL:https://thecorambahotel.com.au/event/trivia-night-at-coramba-hotel/2031-03-20/
LOCATION:NSW
ATTACH;FMTTYPE=image/jpeg:https://thecorambahotel.com.au/wp-content/uploads/2026/03/CH_ThursdayTriviaNights_2026_WEB.jpg
END:VEVENT
END:VCALENDAR