BEGIN:VCALENDAR
VERSION:2.0
PRODID:-//Coramba Hotel - ECPv6.15.20//NONSGML v1.0//EN
CALSCALE:GREGORIAN
METHOD:PUBLISH
X-WR-CALNAME:Coramba Hotel
X-ORIGINAL-URL:https://thecorambahotel.com.au
X-WR-CALDESC:Events for Coramba Hotel
REFRESH-INTERVAL;VALUE=DURATION:PT1H
X-Robots-Tag:noindex
X-PUBLISHED-TTL:PT1H
BEGIN:VTIMEZONE
TZID:Australia/Sydney
BEGIN:STANDARD
TZOFFSETFROM:+1100
TZOFFSETTO:+1000
TZNAME:AEST
DTSTART:20220402T160000
END:STANDARD
BEGIN:DAYLIGHT
TZOFFSETFROM:+1000
TZOFFSETTO:+1100
TZNAME:AEDT
DTSTART:20221001T160000
END:DAYLIGHT
BEGIN:STANDARD
TZOFFSETFROM:+1100
TZOFFSETTO:+1000
TZNAME:AEST
DTSTART:20230401T160000
END:STANDARD
BEGIN:DAYLIGHT
TZOFFSETFROM:+1000
TZOFFSETTO:+1100
TZNAME:AEDT
DTSTART:20230930T160000
END:DAYLIGHT
BEGIN:STANDARD
TZOFFSETFROM:+1100
TZOFFSETTO:+1000
TZNAME:AEST
DTSTART:20240406T160000
END:STANDARD
BEGIN:DAYLIGHT
TZOFFSETFROM:+1000
TZOFFSETTO:+1100
TZNAME:AEDT
DTSTART:20241005T160000
END:DAYLIGHT
END:VTIMEZONE
BEGIN:VEVENT
DTSTART;TZID=Australia/Sydney:20231124T160000
DTEND;TZID=Australia/Sydney:20231124T220000
DTSTAMP:20260420T013800
CREATED:20230111T041120Z
LAST-MODIFIED:20240323T024747Z
UID:10000638-1700841600-1700863200@thecorambahotel.com.au
SUMMARY:KNOCK OFF FRIDAYS - CORAMBA HOTEL
DESCRIPTION:Every Friday at the Coramba Hotel join us for:\n– 4-6pm Happy Hour\n– Raffles from 6pm\n– Members Draw at 7pm\n– $17.5 Members Chicken Schnitty – lunch & dinner !
URL:https://thecorambahotel.com.au/event/knock-off-fridays-coramba-hotel/2023-11-24/
LOCATION:Coramba Hotel\, 17 Gale St\, Coramba\, NSW\, 2450\, Australia
CATEGORIES:Weekly Events,Whats On
ATTACH;FMTTYPE=image/jpeg:https://thecorambahotel.com.au/wp-content/uploads/2023/01/CH_KnockOffFridays_NOV2023_WEB.jpg
END:VEVENT
BEGIN:VEVENT
DTSTART;VALUE=DATE:20231124
DTEND;VALUE=DATE:20231126
DTSTAMP:20260420T013800
CREATED:20210902T060230Z
LAST-MODIFIED:20240428T234556Z
UID:10000117-1700784000-1700956799@thecorambahotel.com.au
SUMMARY:FRIDAY - CHICKEN SCHNITTY
DESCRIPTION:w/ chips and salad \nAvailable Lunch + Dinner \n*$17.50 Members | $19.50 Non-Members \nDine In only.
URL:https://thecorambahotel.com.au/event/roast-mondays/2023-11-24/
LOCATION:Coramba Hotel\, 17 Gale St\, Coramba\, NSW\, 2450\, Australia
CATEGORIES:Meal Deal
ATTACH;FMTTYPE=image/jpeg:https://thecorambahotel.com.au/wp-content/uploads/2021/09/CH_DailyMealDeal_NOV2023_WEB5.jpg
END:VEVENT
BEGIN:VEVENT
DTSTART;VALUE=DATE:20231123
DTEND;VALUE=DATE:20231124
DTSTAMP:20260420T013800
CREATED:20210824T004115Z
LAST-MODIFIED:20240428T234549Z
UID:10000250-1700697600-1700783999@thecorambahotel.com.au
SUMMARY:THURSDAY - Fish & Chips
DESCRIPTION:Served with chips\, garden salad\, lemon and tartare sauce. \nAvailable Lunch + Dinner \n*$17.50 Members | $19.50 Non-Members
URL:https://thecorambahotel.com.au/event/parmy-thursday/2023-11-23/
LOCATION:Coramba Hotel\, 17 Gale St\, Coramba\, NSW\, 2450\, Australia
CATEGORIES:Meal Deal
ATTACH;FMTTYPE=image/jpeg:https://thecorambahotel.com.au/wp-content/uploads/2021/08/CH_DailyMealDeal_MAY2023_WEB4.jpg
END:VEVENT
BEGIN:VEVENT
DTSTART;VALUE=DATE:20231122
DTEND;VALUE=DATE:20231123
DTSTAMP:20260420T013800
CREATED:20230829T062208Z
LAST-MODIFIED:20230829T072429Z
UID:10000562-1700611200-1700697599@thecorambahotel.com.au
SUMMARY:FREE MIDDY WEDNESDAYS*
DESCRIPTION:*One free Middy\, 150ml Wine or Soft Drink per adult meal purchased. Available Lunch + Dinner. Dine in only.
URL:https://thecorambahotel.com.au/event/free-middy-wednesdays/2023-11-22/
LOCATION:Coramba Hotel\, 17 Gale St\, Coramba\, NSW\, 2450\, Australia
CATEGORIES:Whats On
ATTACH;FMTTYPE=image/jpeg:https://thecorambahotel.com.au/wp-content/uploads/2023/08/CH_FreeMiddyWednesdays_AUG2023_WEB-1.jpg
END:VEVENT
BEGIN:VEVENT
DTSTART;VALUE=DATE:20231122
DTEND;VALUE=DATE:20231123
DTSTAMP:20260420T013800
CREATED:20210902T062315Z
LAST-MODIFIED:20240428T234443Z
UID:10000323-1700611200-1700697599@thecorambahotel.com.au
SUMMARY:WEDNESDAY - 200g Rump w/ Free Middy or Wine
DESCRIPTION:Served with chips\, garden salad & your choice of sauce. w/ Free Middy or Wine \nAvailable Lunch + Dinner \n*$17.50 Members | $19.50 Non-Members
URL:https://thecorambahotel.com.au/event/rump-or-snitty-wednesdays/2023-11-22/
LOCATION:Coramba Hotel\, 17 Gale St\, Coramba\, NSW\, 2450\, Australia
CATEGORIES:Meal Deal
ATTACH;FMTTYPE=image/jpeg:https://thecorambahotel.com.au/wp-content/uploads/2021/09/CH_DailyMealDeal_MAY2023_WEB3.jpg
END:VEVENT
BEGIN:VEVENT
DTSTART;VALUE=DATE:20231121
DTEND;VALUE=DATE:20231122
DTSTAMP:20260420T013800
CREATED:20210902T060759Z
LAST-MODIFIED:20240428T234546Z
UID:10000181-1700524800-1700611199@thecorambahotel.com.au
SUMMARY:TUESDAY - Lamb Cutlets
DESCRIPTION:Succulent Cowra Lamb Cutlets crumbed and served with chips\, garden salad & gravy. \nAvailable Lunch + Dinner \n*$17.50 Members | $19.50 Non-Members
URL:https://thecorambahotel.com.au/event/lamb-cutlet-tuesdays/2023-11-21/
LOCATION:Coramba Hotel\, 17 Gale St\, Coramba\, NSW\, 2450\, Australia
CATEGORIES:Meal Deal
ATTACH;FMTTYPE=image/jpeg:https://thecorambahotel.com.au/wp-content/uploads/2021/09/CH_DailyMealDeal_MAY2023_WEB2.jpg
END:VEVENT
BEGIN:VEVENT
DTSTART;VALUE=DATE:20231120
DTEND;VALUE=DATE:20231121
DTSTAMP:20260420T013800
CREATED:20230829T061857Z
LAST-MODIFIED:20230829T061857Z
UID:10000545-1700438400-1700524799@thecorambahotel.com.au
SUMMARY:KIDS EAT FREE MONDAYS
DESCRIPTION:*One free kids meal per adult meal purchased. Available Lunch + Dinner. Dine in only.
URL:https://thecorambahotel.com.au/event/kids-eat-free-mondays/2023-11-20/
LOCATION:Coramba Hotel\, 17 Gale St\, Coramba\, NSW\, 2450\, Australia
CATEGORIES:Whats On
ATTACH;FMTTYPE=image/jpeg:https://thecorambahotel.com.au/wp-content/uploads/2023/08/CH_KidsEatFreeMondays_AUG2023_WEB-1.jpg
END:VEVENT
BEGIN:VEVENT
DTSTART;VALUE=DATE:20231120
DTEND;VALUE=DATE:20231121
DTSTAMP:20260420T013800
CREATED:20210902T061848Z
LAST-MODIFIED:20240428T234543Z
UID:10000393-1700438400-1700524799@thecorambahotel.com.au
SUMMARY:MONDAY - PIZZAS
DESCRIPTION:ALL PIZZAS\nPepperoni Napoli\, mozzarella\, chilli flakes \nMargherita Napoli\, fresh mozzarella\, basil\, olive oil (V) \nHawaiian Napoli\, mozzarella\, sliced ham\, pineapple \nBBQ Meat Napoli\, mozzarella\, smoked beef brisket\, charred\nchorizo\, pepperoni\, onion\, mozzarella\, bourbon bbq sauce \nSupreme Napoli\, mozzarella\, bacon\, pepperoni\, mushroom\,\ncapsicum\, pineapple\, kalamata olives \nPrawn & Chorizo Napoli\, mozzarella\, prawns\, charred chorizo\,\ncapsicum\, onion\, aioli\, rocket \nVegetarian Napoli\, mozzarella\, roasted QLD blue pumpkin\, goat’s\ncheese\, kalamata olives & caramelised onion (V) \n  \nAvailable Lunch + Dinner \n*$17.50 Members | $19.50 Non-Members
URL:https://thecorambahotel.com.au/event/roast-mondays-2/2023-11-20/
LOCATION:Coramba Hotel\, 17 Gale St\, Coramba\, NSW\, 2450\, Australia
CATEGORIES:Meal Deal
ATTACH;FMTTYPE=image/jpeg:https://thecorambahotel.com.au/wp-content/uploads/2021/09/CH_DailyMealDeal_NOV2023_WEB.jpg
END:VEVENT
BEGIN:VEVENT
DTSTART;TZID=Australia/Sydney:20231119T120000
DTEND;TZID=Australia/Sydney:20231119T150000
DTSTAMP:20260420T013800
CREATED:20230922T015958Z
LAST-MODIFIED:20230922T015958Z
UID:10000567-1700395200-1700406000@thecorambahotel.com.au
SUMMARY:SUNDAY SESH | JOSH MATHESON
DESCRIPTION:The Coramba Hotel present Sunday Sessions out on the lawn | Live Music from 12pm
URL:https://thecorambahotel.com.au/event/sunday-sesh-josh-matheson-4/
LOCATION:Coramba Hotel\, 17 Gale St\, Coramba\, NSW\, 2450\, Australia
CATEGORIES:Whats On
ATTACH;FMTTYPE=image/jpeg:https://thecorambahotel.com.au/wp-content/uploads/2023/09/CH_MonthlyLiveMusic_NOV2023_WEB3.jpg
END:VEVENT
BEGIN:VEVENT
DTSTART;TZID=Australia/Sydney:20231118T100000
DTEND;TZID=Australia/Sydney:20231118T220000
DTSTAMP:20260420T013800
CREATED:20231101T055101Z
LAST-MODIFIED:20231101T055101Z
UID:10000722-1700301600-1700344800@thecorambahotel.com.au
SUMMARY:FAMILY FUN DAY + PLAYGROUND GRAND OPENING | CORAMBA HOTEL
DESCRIPTION:Join us for a day of family fun and celebrate the grand opening of our brand new playground at the Coramba Hotel! \n\nDate: Saturday\, 18 November\nTime: 12 pm – 3 pm\n\nBring the whole family and enjoy the exciting entertainment provided by the Smiley Squad from 12 pm to 3 pm. Watch as the kids have a blast with face painting\, balloon twisting\, and interactive games. Plus\, to beat the heat\, we’ll be giving away free icy poles throughout the day!\n\nExplore our newly constructed playground\, complete with slides\, swings\, and climbing frames\, providing endless fun for the little ones. It’s the perfect opportunity to create lasting memories and enjoy quality time together.\n\nDon’t miss out on this fantastic family event and the chance to experience our new playground. Join us at the Coramba Hotel for a day filled with laughter\, entertainment\, and icy treats!  #CorambaHotel #FamilyFunDay #NewPlayground #SmileySquad
URL:https://thecorambahotel.com.au/event/family-fun-day-playground-grand-opening-coramba-hotel/
LOCATION:Coramba Hotel\, 17 Gale St\, Coramba\, NSW\, 2450\, Australia
CATEGORIES:Whats On
ATTACH;FMTTYPE=image/jpeg:https://thecorambahotel.com.au/wp-content/uploads/2023/11/CH_FamilyFunDay_NOV2023_WEB.jpg
END:VEVENT
BEGIN:VEVENT
DTSTART;TZID=Australia/Sydney:20231117T193000
DTEND;TZID=Australia/Sydney:20231117T223000
DTSTAMP:20260420T013800
CREATED:20231110T055326Z
LAST-MODIFIED:20231110T055326Z
UID:10000732-1700249400-1700260200@thecorambahotel.com.au
SUMMARY:SOLID GOLD DISCO ft DJ BISHO | CORAMBA HOTEL
DESCRIPTION:Get ready to boogie the night away at the Coramba Hotel’s Solid Gold Disco featuring DJ Bisho! \nDate: Friday\, 17 November\nTime: 7:30 pm onwards\nJoin us for a night of non-stop dancing as DJ Bisho spins all your favorite dance classics from the golden era. From disco anthems to groovy hits\, get ready to hit the dance floor and show off your moves. The party will be going strong all night long!\nGather your friends\, put on your dancing shoes\, and get ready to relive the magic of the disco era. It’s time to let loose and have a blast at the Coramba Hotel’s Solid Gold Disco!  #SolidGoldDisco #CorambaHotel #DanceClassics #DJBisho
URL:https://thecorambahotel.com.au/event/solid-gold-disco-ft-dj-bisho-coramba-hotel/
LOCATION:NSW
CATEGORIES:Whats On
ATTACH;FMTTYPE=image/jpeg:https://thecorambahotel.com.au/wp-content/uploads/2023/11/CH_SolidGoldDiscoNight_NOV2023_WEB-1.jpg
END:VEVENT
BEGIN:VEVENT
DTSTART;TZID=Australia/Sydney:20231117T160000
DTEND;TZID=Australia/Sydney:20231117T220000
DTSTAMP:20260420T013800
CREATED:20230111T041120Z
LAST-MODIFIED:20240323T024747Z
UID:10000637-1700236800-1700258400@thecorambahotel.com.au
SUMMARY:KNOCK OFF FRIDAYS - CORAMBA HOTEL
DESCRIPTION:Every Friday at the Coramba Hotel join us for:\n– 4-6pm Happy Hour\n– Raffles from 6pm\n– Members Draw at 7pm\n– $17.5 Members Chicken Schnitty – lunch & dinner !
URL:https://thecorambahotel.com.au/event/knock-off-fridays-coramba-hotel/2023-11-17/
LOCATION:Coramba Hotel\, 17 Gale St\, Coramba\, NSW\, 2450\, Australia
CATEGORIES:Weekly Events,Whats On
ATTACH;FMTTYPE=image/jpeg:https://thecorambahotel.com.au/wp-content/uploads/2023/01/CH_KnockOffFridays_NOV2023_WEB.jpg
END:VEVENT
BEGIN:VEVENT
DTSTART;VALUE=DATE:20231117
DTEND;VALUE=DATE:20231119
DTSTAMP:20260420T013800
CREATED:20210902T060230Z
LAST-MODIFIED:20240428T234556Z
UID:10000116-1700179200-1700351999@thecorambahotel.com.au
SUMMARY:FRIDAY - CHICKEN SCHNITTY
DESCRIPTION:w/ chips and salad \nAvailable Lunch + Dinner \n*$17.50 Members | $19.50 Non-Members \nDine In only.
URL:https://thecorambahotel.com.au/event/roast-mondays/2023-11-17/
LOCATION:Coramba Hotel\, 17 Gale St\, Coramba\, NSW\, 2450\, Australia
CATEGORIES:Meal Deal
ATTACH;FMTTYPE=image/jpeg:https://thecorambahotel.com.au/wp-content/uploads/2021/09/CH_DailyMealDeal_NOV2023_WEB5.jpg
END:VEVENT
BEGIN:VEVENT
DTSTART;VALUE=DATE:20231116
DTEND;VALUE=DATE:20231117
DTSTAMP:20260420T013800
CREATED:20210824T004115Z
LAST-MODIFIED:20240428T234549Z
UID:10000249-1700092800-1700179199@thecorambahotel.com.au
SUMMARY:THURSDAY - Fish & Chips
DESCRIPTION:Served with chips\, garden salad\, lemon and tartare sauce. \nAvailable Lunch + Dinner \n*$17.50 Members | $19.50 Non-Members
URL:https://thecorambahotel.com.au/event/parmy-thursday/2023-11-16/
LOCATION:Coramba Hotel\, 17 Gale St\, Coramba\, NSW\, 2450\, Australia
CATEGORIES:Meal Deal
ATTACH;FMTTYPE=image/jpeg:https://thecorambahotel.com.au/wp-content/uploads/2021/08/CH_DailyMealDeal_MAY2023_WEB4.jpg
END:VEVENT
BEGIN:VEVENT
DTSTART;VALUE=DATE:20231115
DTEND;VALUE=DATE:20231116
DTSTAMP:20260420T013800
CREATED:20230829T062208Z
LAST-MODIFIED:20230829T072429Z
UID:10000561-1700006400-1700092799@thecorambahotel.com.au
SUMMARY:FREE MIDDY WEDNESDAYS*
DESCRIPTION:*One free Middy\, 150ml Wine or Soft Drink per adult meal purchased. Available Lunch + Dinner. Dine in only.
URL:https://thecorambahotel.com.au/event/free-middy-wednesdays/2023-11-15/
LOCATION:Coramba Hotel\, 17 Gale St\, Coramba\, NSW\, 2450\, Australia
CATEGORIES:Whats On
ATTACH;FMTTYPE=image/jpeg:https://thecorambahotel.com.au/wp-content/uploads/2023/08/CH_FreeMiddyWednesdays_AUG2023_WEB-1.jpg
END:VEVENT
BEGIN:VEVENT
DTSTART;VALUE=DATE:20231115
DTEND;VALUE=DATE:20231116
DTSTAMP:20260420T013800
CREATED:20210902T062315Z
LAST-MODIFIED:20240428T234443Z
UID:10000322-1700006400-1700092799@thecorambahotel.com.au
SUMMARY:WEDNESDAY - 200g Rump w/ Free Middy or Wine
DESCRIPTION:Served with chips\, garden salad & your choice of sauce. w/ Free Middy or Wine \nAvailable Lunch + Dinner \n*$17.50 Members | $19.50 Non-Members
URL:https://thecorambahotel.com.au/event/rump-or-snitty-wednesdays/2023-11-15/
LOCATION:Coramba Hotel\, 17 Gale St\, Coramba\, NSW\, 2450\, Australia
CATEGORIES:Meal Deal
ATTACH;FMTTYPE=image/jpeg:https://thecorambahotel.com.au/wp-content/uploads/2021/09/CH_DailyMealDeal_MAY2023_WEB3.jpg
END:VEVENT
BEGIN:VEVENT
DTSTART;VALUE=DATE:20231114
DTEND;VALUE=DATE:20231115
DTSTAMP:20260420T013800
CREATED:20210902T060759Z
LAST-MODIFIED:20240428T234546Z
UID:10000180-1699920000-1700006399@thecorambahotel.com.au
SUMMARY:TUESDAY - Lamb Cutlets
DESCRIPTION:Succulent Cowra Lamb Cutlets crumbed and served with chips\, garden salad & gravy. \nAvailable Lunch + Dinner \n*$17.50 Members | $19.50 Non-Members
URL:https://thecorambahotel.com.au/event/lamb-cutlet-tuesdays/2023-11-14/
LOCATION:Coramba Hotel\, 17 Gale St\, Coramba\, NSW\, 2450\, Australia
CATEGORIES:Meal Deal
ATTACH;FMTTYPE=image/jpeg:https://thecorambahotel.com.au/wp-content/uploads/2021/09/CH_DailyMealDeal_MAY2023_WEB2.jpg
END:VEVENT
BEGIN:VEVENT
DTSTART;VALUE=DATE:20231113
DTEND;VALUE=DATE:20231114
DTSTAMP:20260420T013800
CREATED:20230829T061857Z
LAST-MODIFIED:20230829T061857Z
UID:10000544-1699833600-1699919999@thecorambahotel.com.au
SUMMARY:KIDS EAT FREE MONDAYS
DESCRIPTION:*One free kids meal per adult meal purchased. Available Lunch + Dinner. Dine in only.
URL:https://thecorambahotel.com.au/event/kids-eat-free-mondays/2023-11-13/
LOCATION:Coramba Hotel\, 17 Gale St\, Coramba\, NSW\, 2450\, Australia
CATEGORIES:Whats On
ATTACH;FMTTYPE=image/jpeg:https://thecorambahotel.com.au/wp-content/uploads/2023/08/CH_KidsEatFreeMondays_AUG2023_WEB-1.jpg
END:VEVENT
BEGIN:VEVENT
DTSTART;VALUE=DATE:20231113
DTEND;VALUE=DATE:20231114
DTSTAMP:20260420T013800
CREATED:20210902T061848Z
LAST-MODIFIED:20240428T234543Z
UID:10000392-1699833600-1699919999@thecorambahotel.com.au
SUMMARY:MONDAY - PIZZAS
DESCRIPTION:ALL PIZZAS\nPepperoni Napoli\, mozzarella\, chilli flakes \nMargherita Napoli\, fresh mozzarella\, basil\, olive oil (V) \nHawaiian Napoli\, mozzarella\, sliced ham\, pineapple \nBBQ Meat Napoli\, mozzarella\, smoked beef brisket\, charred\nchorizo\, pepperoni\, onion\, mozzarella\, bourbon bbq sauce \nSupreme Napoli\, mozzarella\, bacon\, pepperoni\, mushroom\,\ncapsicum\, pineapple\, kalamata olives \nPrawn & Chorizo Napoli\, mozzarella\, prawns\, charred chorizo\,\ncapsicum\, onion\, aioli\, rocket \nVegetarian Napoli\, mozzarella\, roasted QLD blue pumpkin\, goat’s\ncheese\, kalamata olives & caramelised onion (V) \n  \nAvailable Lunch + Dinner \n*$17.50 Members | $19.50 Non-Members
URL:https://thecorambahotel.com.au/event/roast-mondays-2/2023-11-13/
LOCATION:Coramba Hotel\, 17 Gale St\, Coramba\, NSW\, 2450\, Australia
CATEGORIES:Meal Deal
ATTACH;FMTTYPE=image/jpeg:https://thecorambahotel.com.au/wp-content/uploads/2021/09/CH_DailyMealDeal_NOV2023_WEB.jpg
END:VEVENT
BEGIN:VEVENT
DTSTART;TZID=Australia/Sydney:20231112T120000
DTEND;TZID=Australia/Sydney:20231112T150000
DTSTAMP:20260420T013800
CREATED:20230922T015453Z
LAST-MODIFIED:20230922T015622Z
UID:10000571-1699790400-1699801200@thecorambahotel.com.au
SUMMARY:SUNDAY SESH | DAN HOPKINS
DESCRIPTION:The Coramba Hotel present Sunday Sessions out on the lawn | Live Music from 12pm
URL:https://thecorambahotel.com.au/event/sunday-sesh-dan-hopkins-2/
LOCATION:Coramba Hotel\, 17 Gale St\, Coramba\, NSW\, 2450\, Australia
CATEGORIES:Whats On
ATTACH;FMTTYPE=image/jpeg:https://thecorambahotel.com.au/wp-content/uploads/2023/09/CH_MonthlyLiveMusic_NOV2023_WEB2.jpg
END:VEVENT
BEGIN:VEVENT
DTSTART;TZID=Australia/Sydney:20231111T170000
DTEND;TZID=Australia/Sydney:20231111T230000
DTSTAMP:20260420T013800
CREATED:20231101T054735Z
LAST-MODIFIED:20231101T054850Z
UID:10000721-1699722000-1699743600@thecorambahotel.com.au
SUMMARY:40TH ANNIVERSARY OF THE ORARA VALLEY AXEMEN DINNER | CORAMBA HOTEL
DESCRIPTION:Join us in celebrating 40 years of the Orara Valley Axemen Rugby League Club at a special dinner event! \n\nDate: Saturday\, 11 November\nTime: 5 pm\nVenue: Coramba Hotel\n\nEnjoy a night filled with live music by Matt Devitt in the Chris Staff band\, while indulging in a delicious buffet dinner. Don’t miss your chance to win exciting prizes through raffles and explore the club’s rich history with displayed memorabilia. Plus\, grab some exclusive merchandise and participate in fun games!\n\nSecure your tickets now at coffscoasttickets.com.au. Let’s make this celebration one to remember! \n\n #OraraValleyAxemen #40YearsCelebration #RugbyLeague #CorambaHotel
URL:https://thecorambahotel.com.au/event/40th-anniversary-of-the-orara-valley-axemen-dinner-coramba-hotel/
LOCATION:Coramba Hotel\, 17 Gale St\, Coramba\, NSW\, 2450\, Australia
CATEGORIES:Whats On
ATTACH;FMTTYPE=image/jpeg:https://thecorambahotel.com.au/wp-content/uploads/2023/11/CH_Axemen40thDinner_NOV2023_WEB-1.jpg
END:VEVENT
BEGIN:VEVENT
DTSTART;TZID=Australia/Sydney:20231110T160000
DTEND;TZID=Australia/Sydney:20231110T220000
DTSTAMP:20260420T013800
CREATED:20230111T041120Z
LAST-MODIFIED:20240323T024747Z
UID:10000636-1699632000-1699653600@thecorambahotel.com.au
SUMMARY:KNOCK OFF FRIDAYS - CORAMBA HOTEL
DESCRIPTION:Every Friday at the Coramba Hotel join us for:\n– 4-6pm Happy Hour\n– Raffles from 6pm\n– Members Draw at 7pm\n– $17.5 Members Chicken Schnitty – lunch & dinner !
URL:https://thecorambahotel.com.au/event/knock-off-fridays-coramba-hotel/2023-11-10/
LOCATION:Coramba Hotel\, 17 Gale St\, Coramba\, NSW\, 2450\, Australia
CATEGORIES:Weekly Events,Whats On
ATTACH;FMTTYPE=image/jpeg:https://thecorambahotel.com.au/wp-content/uploads/2023/01/CH_KnockOffFridays_NOV2023_WEB.jpg
END:VEVENT
BEGIN:VEVENT
DTSTART;VALUE=DATE:20231110
DTEND;VALUE=DATE:20231112
DTSTAMP:20260420T013800
CREATED:20210902T060230Z
LAST-MODIFIED:20240428T234556Z
UID:10000115-1699574400-1699747199@thecorambahotel.com.au
SUMMARY:FRIDAY - CHICKEN SCHNITTY
DESCRIPTION:w/ chips and salad \nAvailable Lunch + Dinner \n*$17.50 Members | $19.50 Non-Members \nDine In only.
URL:https://thecorambahotel.com.au/event/roast-mondays/2023-11-10/
LOCATION:Coramba Hotel\, 17 Gale St\, Coramba\, NSW\, 2450\, Australia
CATEGORIES:Meal Deal
ATTACH;FMTTYPE=image/jpeg:https://thecorambahotel.com.au/wp-content/uploads/2021/09/CH_DailyMealDeal_NOV2023_WEB5.jpg
END:VEVENT
BEGIN:VEVENT
DTSTART;VALUE=DATE:20231109
DTEND;VALUE=DATE:20231110
DTSTAMP:20260420T013800
CREATED:20210824T004115Z
LAST-MODIFIED:20240428T234549Z
UID:10000248-1699488000-1699574399@thecorambahotel.com.au
SUMMARY:THURSDAY - Fish & Chips
DESCRIPTION:Served with chips\, garden salad\, lemon and tartare sauce. \nAvailable Lunch + Dinner \n*$17.50 Members | $19.50 Non-Members
URL:https://thecorambahotel.com.au/event/parmy-thursday/2023-11-09/
LOCATION:Coramba Hotel\, 17 Gale St\, Coramba\, NSW\, 2450\, Australia
CATEGORIES:Meal Deal
ATTACH;FMTTYPE=image/jpeg:https://thecorambahotel.com.au/wp-content/uploads/2021/08/CH_DailyMealDeal_MAY2023_WEB4.jpg
END:VEVENT
BEGIN:VEVENT
DTSTART;VALUE=DATE:20231108
DTEND;VALUE=DATE:20231109
DTSTAMP:20260420T013800
CREATED:20230829T062208Z
LAST-MODIFIED:20230829T072429Z
UID:10000560-1699401600-1699487999@thecorambahotel.com.au
SUMMARY:FREE MIDDY WEDNESDAYS*
DESCRIPTION:*One free Middy\, 150ml Wine or Soft Drink per adult meal purchased. Available Lunch + Dinner. Dine in only.
URL:https://thecorambahotel.com.au/event/free-middy-wednesdays/2023-11-08/
LOCATION:Coramba Hotel\, 17 Gale St\, Coramba\, NSW\, 2450\, Australia
CATEGORIES:Whats On
ATTACH;FMTTYPE=image/jpeg:https://thecorambahotel.com.au/wp-content/uploads/2023/08/CH_FreeMiddyWednesdays_AUG2023_WEB-1.jpg
END:VEVENT
BEGIN:VEVENT
DTSTART;VALUE=DATE:20231108
DTEND;VALUE=DATE:20231109
DTSTAMP:20260420T013800
CREATED:20210902T062315Z
LAST-MODIFIED:20240428T234443Z
UID:10000321-1699401600-1699487999@thecorambahotel.com.au
SUMMARY:WEDNESDAY - 200g Rump w/ Free Middy or Wine
DESCRIPTION:Served with chips\, garden salad & your choice of sauce. w/ Free Middy or Wine \nAvailable Lunch + Dinner \n*$17.50 Members | $19.50 Non-Members
URL:https://thecorambahotel.com.au/event/rump-or-snitty-wednesdays/2023-11-08/
LOCATION:Coramba Hotel\, 17 Gale St\, Coramba\, NSW\, 2450\, Australia
CATEGORIES:Meal Deal
ATTACH;FMTTYPE=image/jpeg:https://thecorambahotel.com.au/wp-content/uploads/2021/09/CH_DailyMealDeal_MAY2023_WEB3.jpg
END:VEVENT
BEGIN:VEVENT
DTSTART;VALUE=DATE:20231107
DTEND;VALUE=DATE:20231108
DTSTAMP:20260420T013800
CREATED:20231101T054436Z
LAST-MODIFIED:20231101T054436Z
UID:10000508-1699315200-1699401599@thecorambahotel.com.au
SUMMARY:MELBOURNE CUP 2023 | CORAMBA HOTEL
DESCRIPTION:Join us at the Coramba Hotel for an unforgettable Melbourne Cup experience! \n\nKick off the festivities with $8 pints from 10 am till 11 am. Indulge in a delicious main meal and receive a complimentary glass of bubbles\, beer\, or wine. Our full tab service will be available from 10 am\, so you can place your bets and cheer on your favourite horses. Don’t miss out on the excitement of sweepstakes\, with great prizes up for grab!\n\nGather your friends and dress to impress for a day of racing\, fun\, and great company. Book your spot now and let’s celebrate the Melbourne Cup in style at the Coramba Hotel!  #MelbourneCup #CorambaHotel #RacingFever #Sweepstakes\nBookings recommended on 6654 4216
URL:https://thecorambahotel.com.au/event/melbourne-cup-2023-coramba-hotel/
LOCATION:Coramba Hotel\, 17 Gale St\, Coramba\, NSW\, 2450\, Australia
CATEGORIES:Whats On
ATTACH;FMTTYPE=image/jpeg:https://thecorambahotel.com.au/wp-content/uploads/2023/11/CH_MelbourneCup_NOV2023_WEB.jpg
END:VEVENT
BEGIN:VEVENT
DTSTART;VALUE=DATE:20231107
DTEND;VALUE=DATE:20231108
DTSTAMP:20260420T013800
CREATED:20210902T060759Z
LAST-MODIFIED:20240428T234546Z
UID:10000179-1699315200-1699401599@thecorambahotel.com.au
SUMMARY:TUESDAY - Lamb Cutlets
DESCRIPTION:Succulent Cowra Lamb Cutlets crumbed and served with chips\, garden salad & gravy. \nAvailable Lunch + Dinner \n*$17.50 Members | $19.50 Non-Members
URL:https://thecorambahotel.com.au/event/lamb-cutlet-tuesdays/2023-11-07/
LOCATION:Coramba Hotel\, 17 Gale St\, Coramba\, NSW\, 2450\, Australia
CATEGORIES:Meal Deal
ATTACH;FMTTYPE=image/jpeg:https://thecorambahotel.com.au/wp-content/uploads/2021/09/CH_DailyMealDeal_MAY2023_WEB2.jpg
END:VEVENT
BEGIN:VEVENT
DTSTART;VALUE=DATE:20231106
DTEND;VALUE=DATE:20231107
DTSTAMP:20260420T013800
CREATED:20230829T061857Z
LAST-MODIFIED:20230829T061857Z
UID:10000543-1699228800-1699315199@thecorambahotel.com.au
SUMMARY:KIDS EAT FREE MONDAYS
DESCRIPTION:*One free kids meal per adult meal purchased. Available Lunch + Dinner. Dine in only.
URL:https://thecorambahotel.com.au/event/kids-eat-free-mondays/2023-11-06/
LOCATION:Coramba Hotel\, 17 Gale St\, Coramba\, NSW\, 2450\, Australia
CATEGORIES:Whats On
ATTACH;FMTTYPE=image/jpeg:https://thecorambahotel.com.au/wp-content/uploads/2023/08/CH_KidsEatFreeMondays_AUG2023_WEB-1.jpg
END:VEVENT
BEGIN:VEVENT
DTSTART;VALUE=DATE:20231106
DTEND;VALUE=DATE:20231107
DTSTAMP:20260420T013800
CREATED:20210902T061848Z
LAST-MODIFIED:20240428T234543Z
UID:10000391-1699228800-1699315199@thecorambahotel.com.au
SUMMARY:MONDAY - PIZZAS
DESCRIPTION:ALL PIZZAS\nPepperoni Napoli\, mozzarella\, chilli flakes \nMargherita Napoli\, fresh mozzarella\, basil\, olive oil (V) \nHawaiian Napoli\, mozzarella\, sliced ham\, pineapple \nBBQ Meat Napoli\, mozzarella\, smoked beef brisket\, charred\nchorizo\, pepperoni\, onion\, mozzarella\, bourbon bbq sauce \nSupreme Napoli\, mozzarella\, bacon\, pepperoni\, mushroom\,\ncapsicum\, pineapple\, kalamata olives \nPrawn & Chorizo Napoli\, mozzarella\, prawns\, charred chorizo\,\ncapsicum\, onion\, aioli\, rocket \nVegetarian Napoli\, mozzarella\, roasted QLD blue pumpkin\, goat’s\ncheese\, kalamata olives & caramelised onion (V) \n  \nAvailable Lunch + Dinner \n*$17.50 Members | $19.50 Non-Members
URL:https://thecorambahotel.com.au/event/roast-mondays-2/2023-11-06/
LOCATION:Coramba Hotel\, 17 Gale St\, Coramba\, NSW\, 2450\, Australia
CATEGORIES:Meal Deal
ATTACH;FMTTYPE=image/jpeg:https://thecorambahotel.com.au/wp-content/uploads/2021/09/CH_DailyMealDeal_NOV2023_WEB.jpg
END:VEVENT
END:VCALENDAR