BEGIN:VCALENDAR
VERSION:2.0
PRODID:-//Coramba Hotel - ECPv6.15.20//NONSGML v1.0//EN
CALSCALE:GREGORIAN
METHOD:PUBLISH
X-WR-CALNAME:Coramba Hotel
X-ORIGINAL-URL:https://thecorambahotel.com.au
X-WR-CALDESC:Events for Coramba Hotel
REFRESH-INTERVAL;VALUE=DURATION:PT1H
X-Robots-Tag:noindex
X-PUBLISHED-TTL:PT1H
BEGIN:VTIMEZONE
TZID:Australia/Sydney
BEGIN:STANDARD
TZOFFSETFROM:+1100
TZOFFSETTO:+1000
TZNAME:AEST
DTSTART:20290331T160000
END:STANDARD
BEGIN:DAYLIGHT
TZOFFSETFROM:+1000
TZOFFSETTO:+1100
TZNAME:AEDT
DTSTART:20291006T160000
END:DAYLIGHT
BEGIN:STANDARD
TZOFFSETFROM:+1100
TZOFFSETTO:+1000
TZNAME:AEST
DTSTART:20300406T160000
END:STANDARD
BEGIN:DAYLIGHT
TZOFFSETFROM:+1000
TZOFFSETTO:+1100
TZNAME:AEDT
DTSTART:20301005T160000
END:DAYLIGHT
BEGIN:STANDARD
TZOFFSETFROM:+1100
TZOFFSETTO:+1000
TZNAME:AEST
DTSTART:20310405T160000
END:STANDARD
BEGIN:DAYLIGHT
TZOFFSETFROM:+1000
TZOFFSETTO:+1100
TZNAME:AEDT
DTSTART:20311004T160000
END:DAYLIGHT
END:VTIMEZONE
BEGIN:VEVENT
DTSTART;TZID=Australia/Sydney:20300812T100000
DTEND;TZID=Australia/Sydney:20300812T113000
DTSTAMP:20260420T033018
CREATED:20260226T042800Z
LAST-MODIFIED:20260226T042801Z
UID:10002301-1912759200-1912764600@thecorambahotel.com.au
SUMMARY:Bingo in the Valley with Kim
DESCRIPTION:Mondays just got a whole lot more fun in the Valley 🌿 \nBingo in the Valley is on every Monday from 10am at Coramba Hotel.\nGather your friends\, grab a coffee and settle in for a relaxed morning full of laughs\, prizes and that good old country pub atmosphere we love. \nIt’s social. It’s welcoming. It’s the perfect way to start your week.\nBring the whole family and make a morning of it.
URL:https://thecorambahotel.com.au/event/bingo-in-the-valley-with-kim/2030-08-12/
LOCATION:Coramba Hotel\, 17 Gale St\, Coramba\, NSW\, 2450\, Australia
CATEGORIES:Entertainment,Whats On
ATTACH;FMTTYPE=image/jpeg:https://thecorambahotel.com.au/wp-content/uploads/2026/02/CH_MondayBingo_MAR2026_WEB2.jpg
END:VEVENT
BEGIN:VEVENT
DTSTART;VALUE=DATE:20300815
DTEND;VALUE=DATE:20300816
DTSTAMP:20260420T033018
CREATED:20260309T234406Z
LAST-MODIFIED:20260324T012846Z
UID:10002561-1912982400-1913068799@thecorambahotel.com.au
SUMMARY:Trivia Night at Coramba Hotel!
DESCRIPTION:Trivia Night is on every Thursday at Coramba Hotel with your host Kelly Mac. Grab your team\, test your knowledge and settle in for a fun night in the valley with plenty of laughs and great prizes up for grabs. Perfect for mates\, families and anyone who loves a bit of friendly competition. \n\nBook Now
URL:https://thecorambahotel.com.au/event/trivia-night-at-coramba-hotel/2030-08-15/
LOCATION:NSW
ATTACH;FMTTYPE=image/jpeg:https://thecorambahotel.com.au/wp-content/uploads/2026/03/CH_ThursdayTriviaNights_2026_WEB.jpg
END:VEVENT
BEGIN:VEVENT
DTSTART;TZID=Australia/Sydney:20300819T100000
DTEND;TZID=Australia/Sydney:20300819T113000
DTSTAMP:20260420T033018
CREATED:20260226T042800Z
LAST-MODIFIED:20260226T042801Z
UID:10002302-1913364000-1913369400@thecorambahotel.com.au
SUMMARY:Bingo in the Valley with Kim
DESCRIPTION:Mondays just got a whole lot more fun in the Valley 🌿 \nBingo in the Valley is on every Monday from 10am at Coramba Hotel.\nGather your friends\, grab a coffee and settle in for a relaxed morning full of laughs\, prizes and that good old country pub atmosphere we love. \nIt’s social. It’s welcoming. It’s the perfect way to start your week.\nBring the whole family and make a morning of it.
URL:https://thecorambahotel.com.au/event/bingo-in-the-valley-with-kim/2030-08-19/
LOCATION:Coramba Hotel\, 17 Gale St\, Coramba\, NSW\, 2450\, Australia
CATEGORIES:Entertainment,Whats On
ATTACH;FMTTYPE=image/jpeg:https://thecorambahotel.com.au/wp-content/uploads/2026/02/CH_MondayBingo_MAR2026_WEB2.jpg
END:VEVENT
BEGIN:VEVENT
DTSTART;VALUE=DATE:20300822
DTEND;VALUE=DATE:20300823
DTSTAMP:20260420T033018
CREATED:20260309T234406Z
LAST-MODIFIED:20260324T012846Z
UID:10002562-1913587200-1913673599@thecorambahotel.com.au
SUMMARY:Trivia Night at Coramba Hotel!
DESCRIPTION:Trivia Night is on every Thursday at Coramba Hotel with your host Kelly Mac. Grab your team\, test your knowledge and settle in for a fun night in the valley with plenty of laughs and great prizes up for grabs. Perfect for mates\, families and anyone who loves a bit of friendly competition. \n\nBook Now
URL:https://thecorambahotel.com.au/event/trivia-night-at-coramba-hotel/2030-08-22/
LOCATION:NSW
ATTACH;FMTTYPE=image/jpeg:https://thecorambahotel.com.au/wp-content/uploads/2026/03/CH_ThursdayTriviaNights_2026_WEB.jpg
END:VEVENT
BEGIN:VEVENT
DTSTART;TZID=Australia/Sydney:20300826T100000
DTEND;TZID=Australia/Sydney:20300826T113000
DTSTAMP:20260420T033018
CREATED:20260226T042800Z
LAST-MODIFIED:20260226T042801Z
UID:10002303-1913968800-1913974200@thecorambahotel.com.au
SUMMARY:Bingo in the Valley with Kim
DESCRIPTION:Mondays just got a whole lot more fun in the Valley 🌿 \nBingo in the Valley is on every Monday from 10am at Coramba Hotel.\nGather your friends\, grab a coffee and settle in for a relaxed morning full of laughs\, prizes and that good old country pub atmosphere we love. \nIt’s social. It’s welcoming. It’s the perfect way to start your week.\nBring the whole family and make a morning of it.
URL:https://thecorambahotel.com.au/event/bingo-in-the-valley-with-kim/2030-08-26/
LOCATION:Coramba Hotel\, 17 Gale St\, Coramba\, NSW\, 2450\, Australia
CATEGORIES:Entertainment,Whats On
ATTACH;FMTTYPE=image/jpeg:https://thecorambahotel.com.au/wp-content/uploads/2026/02/CH_MondayBingo_MAR2026_WEB2.jpg
END:VEVENT
BEGIN:VEVENT
DTSTART;VALUE=DATE:20300829
DTEND;VALUE=DATE:20300830
DTSTAMP:20260420T033018
CREATED:20260309T234406Z
LAST-MODIFIED:20260324T012846Z
UID:10002563-1914192000-1914278399@thecorambahotel.com.au
SUMMARY:Trivia Night at Coramba Hotel!
DESCRIPTION:Trivia Night is on every Thursday at Coramba Hotel with your host Kelly Mac. Grab your team\, test your knowledge and settle in for a fun night in the valley with plenty of laughs and great prizes up for grabs. Perfect for mates\, families and anyone who loves a bit of friendly competition. \n\nBook Now
URL:https://thecorambahotel.com.au/event/trivia-night-at-coramba-hotel/2030-08-29/
LOCATION:NSW
ATTACH;FMTTYPE=image/jpeg:https://thecorambahotel.com.au/wp-content/uploads/2026/03/CH_ThursdayTriviaNights_2026_WEB.jpg
END:VEVENT
BEGIN:VEVENT
DTSTART;TZID=Australia/Sydney:20300902T100000
DTEND;TZID=Australia/Sydney:20300902T113000
DTSTAMP:20260420T033018
CREATED:20260226T042800Z
LAST-MODIFIED:20260226T042801Z
UID:10002304-1914573600-1914579000@thecorambahotel.com.au
SUMMARY:Bingo in the Valley with Kim
DESCRIPTION:Mondays just got a whole lot more fun in the Valley 🌿 \nBingo in the Valley is on every Monday from 10am at Coramba Hotel.\nGather your friends\, grab a coffee and settle in for a relaxed morning full of laughs\, prizes and that good old country pub atmosphere we love. \nIt’s social. It’s welcoming. It’s the perfect way to start your week.\nBring the whole family and make a morning of it.
URL:https://thecorambahotel.com.au/event/bingo-in-the-valley-with-kim/2030-09-02/
LOCATION:Coramba Hotel\, 17 Gale St\, Coramba\, NSW\, 2450\, Australia
CATEGORIES:Entertainment,Whats On
ATTACH;FMTTYPE=image/jpeg:https://thecorambahotel.com.au/wp-content/uploads/2026/02/CH_MondayBingo_MAR2026_WEB2.jpg
END:VEVENT
BEGIN:VEVENT
DTSTART;TZID=Australia/Sydney:20300904T180000
DTEND;TZID=Australia/Sydney:20300904T210000
DTSTAMP:20260420T033018
CREATED:20251021T011755Z
LAST-MODIFIED:20260326T041925Z
UID:10001761-1914775200-1914786000@thecorambahotel.com.au
SUMMARY:Musical Bingo
DESCRIPTION:Musical Bingo is coming to Coramba Hotel!\nThe first Wednesday of every month.\nFrom 6PM\, Free to play \n🎁 Prizes\, drink specials & good times guaranteed\nIt’s all the fun of bingo\, but with your favourite songs.\nNo pressure – just tunes\, laughs\, and a cheeky midweek sesh. \nTable bookings welcome via thecorambahotel.com.au\nhttps://tableagent.com/coffs-harbour/the-coramba-hotel/\n#MusicalBingo #CorambaHotel
URL:https://thecorambahotel.com.au/event/%f0%9f%8e%b6-musical-bingo-is-coming-to-coramba-hotel-2/2030-09-04/
LOCATION:Coramba Hotel\, 17 Gale St\, Coramba\, NSW\, 2450\, Australia
CATEGORIES:Entertainment,Whats On
ATTACH;FMTTYPE=image/jpeg:https://thecorambahotel.com.au/wp-content/uploads/2025/10/CH_MusicalBingo_GENERIC-2025_WEB.jpg
END:VEVENT
BEGIN:VEVENT
DTSTART;VALUE=DATE:20300905
DTEND;VALUE=DATE:20300906
DTSTAMP:20260420T033018
CREATED:20260309T234406Z
LAST-MODIFIED:20260324T012846Z
UID:10002564-1914796800-1914883199@thecorambahotel.com.au
SUMMARY:Trivia Night at Coramba Hotel!
DESCRIPTION:Trivia Night is on every Thursday at Coramba Hotel with your host Kelly Mac. Grab your team\, test your knowledge and settle in for a fun night in the valley with plenty of laughs and great prizes up for grabs. Perfect for mates\, families and anyone who loves a bit of friendly competition. \n\nBook Now
URL:https://thecorambahotel.com.au/event/trivia-night-at-coramba-hotel/2030-09-05/
LOCATION:NSW
ATTACH;FMTTYPE=image/jpeg:https://thecorambahotel.com.au/wp-content/uploads/2026/03/CH_ThursdayTriviaNights_2026_WEB.jpg
END:VEVENT
BEGIN:VEVENT
DTSTART;TZID=Australia/Sydney:20300909T100000
DTEND;TZID=Australia/Sydney:20300909T113000
DTSTAMP:20260420T033018
CREATED:20260226T042800Z
LAST-MODIFIED:20260226T042801Z
UID:10002305-1915178400-1915183800@thecorambahotel.com.au
SUMMARY:Bingo in the Valley with Kim
DESCRIPTION:Mondays just got a whole lot more fun in the Valley 🌿 \nBingo in the Valley is on every Monday from 10am at Coramba Hotel.\nGather your friends\, grab a coffee and settle in for a relaxed morning full of laughs\, prizes and that good old country pub atmosphere we love. \nIt’s social. It’s welcoming. It’s the perfect way to start your week.\nBring the whole family and make a morning of it.
URL:https://thecorambahotel.com.au/event/bingo-in-the-valley-with-kim/2030-09-09/
LOCATION:Coramba Hotel\, 17 Gale St\, Coramba\, NSW\, 2450\, Australia
CATEGORIES:Entertainment,Whats On
ATTACH;FMTTYPE=image/jpeg:https://thecorambahotel.com.au/wp-content/uploads/2026/02/CH_MondayBingo_MAR2026_WEB2.jpg
END:VEVENT
BEGIN:VEVENT
DTSTART;VALUE=DATE:20300912
DTEND;VALUE=DATE:20300913
DTSTAMP:20260420T033018
CREATED:20260309T234406Z
LAST-MODIFIED:20260324T012846Z
UID:10002565-1915401600-1915487999@thecorambahotel.com.au
SUMMARY:Trivia Night at Coramba Hotel!
DESCRIPTION:Trivia Night is on every Thursday at Coramba Hotel with your host Kelly Mac. Grab your team\, test your knowledge and settle in for a fun night in the valley with plenty of laughs and great prizes up for grabs. Perfect for mates\, families and anyone who loves a bit of friendly competition. \n\nBook Now
URL:https://thecorambahotel.com.au/event/trivia-night-at-coramba-hotel/2030-09-12/
LOCATION:NSW
ATTACH;FMTTYPE=image/jpeg:https://thecorambahotel.com.au/wp-content/uploads/2026/03/CH_ThursdayTriviaNights_2026_WEB.jpg
END:VEVENT
BEGIN:VEVENT
DTSTART;TZID=Australia/Sydney:20300916T100000
DTEND;TZID=Australia/Sydney:20300916T113000
DTSTAMP:20260420T033018
CREATED:20260226T042800Z
LAST-MODIFIED:20260226T042801Z
UID:10002306-1915783200-1915788600@thecorambahotel.com.au
SUMMARY:Bingo in the Valley with Kim
DESCRIPTION:Mondays just got a whole lot more fun in the Valley 🌿 \nBingo in the Valley is on every Monday from 10am at Coramba Hotel.\nGather your friends\, grab a coffee and settle in for a relaxed morning full of laughs\, prizes and that good old country pub atmosphere we love. \nIt’s social. It’s welcoming. It’s the perfect way to start your week.\nBring the whole family and make a morning of it.
URL:https://thecorambahotel.com.au/event/bingo-in-the-valley-with-kim/2030-09-16/
LOCATION:Coramba Hotel\, 17 Gale St\, Coramba\, NSW\, 2450\, Australia
CATEGORIES:Entertainment,Whats On
ATTACH;FMTTYPE=image/jpeg:https://thecorambahotel.com.au/wp-content/uploads/2026/02/CH_MondayBingo_MAR2026_WEB2.jpg
END:VEVENT
BEGIN:VEVENT
DTSTART;VALUE=DATE:20300919
DTEND;VALUE=DATE:20300920
DTSTAMP:20260420T033018
CREATED:20260309T234406Z
LAST-MODIFIED:20260324T012846Z
UID:10002566-1916006400-1916092799@thecorambahotel.com.au
SUMMARY:Trivia Night at Coramba Hotel!
DESCRIPTION:Trivia Night is on every Thursday at Coramba Hotel with your host Kelly Mac. Grab your team\, test your knowledge and settle in for a fun night in the valley with plenty of laughs and great prizes up for grabs. Perfect for mates\, families and anyone who loves a bit of friendly competition. \n\nBook Now
URL:https://thecorambahotel.com.au/event/trivia-night-at-coramba-hotel/2030-09-19/
LOCATION:NSW
ATTACH;FMTTYPE=image/jpeg:https://thecorambahotel.com.au/wp-content/uploads/2026/03/CH_ThursdayTriviaNights_2026_WEB.jpg
END:VEVENT
BEGIN:VEVENT
DTSTART;TZID=Australia/Sydney:20300923T100000
DTEND;TZID=Australia/Sydney:20300923T113000
DTSTAMP:20260420T033018
CREATED:20260226T042800Z
LAST-MODIFIED:20260226T042801Z
UID:10002307-1916388000-1916393400@thecorambahotel.com.au
SUMMARY:Bingo in the Valley with Kim
DESCRIPTION:Mondays just got a whole lot more fun in the Valley 🌿 \nBingo in the Valley is on every Monday from 10am at Coramba Hotel.\nGather your friends\, grab a coffee and settle in for a relaxed morning full of laughs\, prizes and that good old country pub atmosphere we love. \nIt’s social. It’s welcoming. It’s the perfect way to start your week.\nBring the whole family and make a morning of it.
URL:https://thecorambahotel.com.au/event/bingo-in-the-valley-with-kim/2030-09-23/
LOCATION:Coramba Hotel\, 17 Gale St\, Coramba\, NSW\, 2450\, Australia
CATEGORIES:Entertainment,Whats On
ATTACH;FMTTYPE=image/jpeg:https://thecorambahotel.com.au/wp-content/uploads/2026/02/CH_MondayBingo_MAR2026_WEB2.jpg
END:VEVENT
BEGIN:VEVENT
DTSTART;VALUE=DATE:20300926
DTEND;VALUE=DATE:20300927
DTSTAMP:20260420T033018
CREATED:20260309T234406Z
LAST-MODIFIED:20260324T012846Z
UID:10002567-1916611200-1916697599@thecorambahotel.com.au
SUMMARY:Trivia Night at Coramba Hotel!
DESCRIPTION:Trivia Night is on every Thursday at Coramba Hotel with your host Kelly Mac. Grab your team\, test your knowledge and settle in for a fun night in the valley with plenty of laughs and great prizes up for grabs. Perfect for mates\, families and anyone who loves a bit of friendly competition. \n\nBook Now
URL:https://thecorambahotel.com.au/event/trivia-night-at-coramba-hotel/2030-09-26/
LOCATION:NSW
ATTACH;FMTTYPE=image/jpeg:https://thecorambahotel.com.au/wp-content/uploads/2026/03/CH_ThursdayTriviaNights_2026_WEB.jpg
END:VEVENT
BEGIN:VEVENT
DTSTART;TZID=Australia/Sydney:20300930T100000
DTEND;TZID=Australia/Sydney:20300930T113000
DTSTAMP:20260420T033018
CREATED:20260226T042800Z
LAST-MODIFIED:20260226T042801Z
UID:10002308-1916992800-1916998200@thecorambahotel.com.au
SUMMARY:Bingo in the Valley with Kim
DESCRIPTION:Mondays just got a whole lot more fun in the Valley 🌿 \nBingo in the Valley is on every Monday from 10am at Coramba Hotel.\nGather your friends\, grab a coffee and settle in for a relaxed morning full of laughs\, prizes and that good old country pub atmosphere we love. \nIt’s social. It’s welcoming. It’s the perfect way to start your week.\nBring the whole family and make a morning of it.
URL:https://thecorambahotel.com.au/event/bingo-in-the-valley-with-kim/2030-09-30/
LOCATION:Coramba Hotel\, 17 Gale St\, Coramba\, NSW\, 2450\, Australia
CATEGORIES:Entertainment,Whats On
ATTACH;FMTTYPE=image/jpeg:https://thecorambahotel.com.au/wp-content/uploads/2026/02/CH_MondayBingo_MAR2026_WEB2.jpg
END:VEVENT
BEGIN:VEVENT
DTSTART;TZID=Australia/Sydney:20301002T180000
DTEND;TZID=Australia/Sydney:20301002T210000
DTSTAMP:20260420T033018
CREATED:20251021T011755Z
LAST-MODIFIED:20260326T041925Z
UID:10001762-1917194400-1917205200@thecorambahotel.com.au
SUMMARY:Musical Bingo
DESCRIPTION:Musical Bingo is coming to Coramba Hotel!\nThe first Wednesday of every month.\nFrom 6PM\, Free to play \n🎁 Prizes\, drink specials & good times guaranteed\nIt’s all the fun of bingo\, but with your favourite songs.\nNo pressure – just tunes\, laughs\, and a cheeky midweek sesh. \nTable bookings welcome via thecorambahotel.com.au\nhttps://tableagent.com/coffs-harbour/the-coramba-hotel/\n#MusicalBingo #CorambaHotel
URL:https://thecorambahotel.com.au/event/%f0%9f%8e%b6-musical-bingo-is-coming-to-coramba-hotel-2/2030-10-02/
LOCATION:Coramba Hotel\, 17 Gale St\, Coramba\, NSW\, 2450\, Australia
CATEGORIES:Entertainment,Whats On
ATTACH;FMTTYPE=image/jpeg:https://thecorambahotel.com.au/wp-content/uploads/2025/10/CH_MusicalBingo_GENERIC-2025_WEB.jpg
END:VEVENT
BEGIN:VEVENT
DTSTART;VALUE=DATE:20301003
DTEND;VALUE=DATE:20301004
DTSTAMP:20260420T033018
CREATED:20260309T234406Z
LAST-MODIFIED:20260324T012846Z
UID:10002568-1917216000-1917302399@thecorambahotel.com.au
SUMMARY:Trivia Night at Coramba Hotel!
DESCRIPTION:Trivia Night is on every Thursday at Coramba Hotel with your host Kelly Mac. Grab your team\, test your knowledge and settle in for a fun night in the valley with plenty of laughs and great prizes up for grabs. Perfect for mates\, families and anyone who loves a bit of friendly competition. \n\nBook Now
URL:https://thecorambahotel.com.au/event/trivia-night-at-coramba-hotel/2030-10-03/
LOCATION:NSW
ATTACH;FMTTYPE=image/jpeg:https://thecorambahotel.com.au/wp-content/uploads/2026/03/CH_ThursdayTriviaNights_2026_WEB.jpg
END:VEVENT
BEGIN:VEVENT
DTSTART;TZID=Australia/Sydney:20301007T100000
DTEND;TZID=Australia/Sydney:20301007T113000
DTSTAMP:20260420T033018
CREATED:20260226T042800Z
LAST-MODIFIED:20260226T042801Z
UID:10002309-1917597600-1917603000@thecorambahotel.com.au
SUMMARY:Bingo in the Valley with Kim
DESCRIPTION:Mondays just got a whole lot more fun in the Valley 🌿 \nBingo in the Valley is on every Monday from 10am at Coramba Hotel.\nGather your friends\, grab a coffee and settle in for a relaxed morning full of laughs\, prizes and that good old country pub atmosphere we love. \nIt’s social. It’s welcoming. It’s the perfect way to start your week.\nBring the whole family and make a morning of it.
URL:https://thecorambahotel.com.au/event/bingo-in-the-valley-with-kim/2030-10-07/
LOCATION:Coramba Hotel\, 17 Gale St\, Coramba\, NSW\, 2450\, Australia
CATEGORIES:Entertainment,Whats On
ATTACH;FMTTYPE=image/jpeg:https://thecorambahotel.com.au/wp-content/uploads/2026/02/CH_MondayBingo_MAR2026_WEB2.jpg
END:VEVENT
BEGIN:VEVENT
DTSTART;VALUE=DATE:20301010
DTEND;VALUE=DATE:20301011
DTSTAMP:20260420T033018
CREATED:20260309T234406Z
LAST-MODIFIED:20260324T012846Z
UID:10002569-1917820800-1917907199@thecorambahotel.com.au
SUMMARY:Trivia Night at Coramba Hotel!
DESCRIPTION:Trivia Night is on every Thursday at Coramba Hotel with your host Kelly Mac. Grab your team\, test your knowledge and settle in for a fun night in the valley with plenty of laughs and great prizes up for grabs. Perfect for mates\, families and anyone who loves a bit of friendly competition. \n\nBook Now
URL:https://thecorambahotel.com.au/event/trivia-night-at-coramba-hotel/2030-10-10/
LOCATION:NSW
ATTACH;FMTTYPE=image/jpeg:https://thecorambahotel.com.au/wp-content/uploads/2026/03/CH_ThursdayTriviaNights_2026_WEB.jpg
END:VEVENT
BEGIN:VEVENT
DTSTART;TZID=Australia/Sydney:20301014T100000
DTEND;TZID=Australia/Sydney:20301014T113000
DTSTAMP:20260420T033018
CREATED:20260226T042800Z
LAST-MODIFIED:20260226T042801Z
UID:10002310-1918202400-1918207800@thecorambahotel.com.au
SUMMARY:Bingo in the Valley with Kim
DESCRIPTION:Mondays just got a whole lot more fun in the Valley 🌿 \nBingo in the Valley is on every Monday from 10am at Coramba Hotel.\nGather your friends\, grab a coffee and settle in for a relaxed morning full of laughs\, prizes and that good old country pub atmosphere we love. \nIt’s social. It’s welcoming. It’s the perfect way to start your week.\nBring the whole family and make a morning of it.
URL:https://thecorambahotel.com.au/event/bingo-in-the-valley-with-kim/2030-10-14/
LOCATION:Coramba Hotel\, 17 Gale St\, Coramba\, NSW\, 2450\, Australia
CATEGORIES:Entertainment,Whats On
ATTACH;FMTTYPE=image/jpeg:https://thecorambahotel.com.au/wp-content/uploads/2026/02/CH_MondayBingo_MAR2026_WEB2.jpg
END:VEVENT
BEGIN:VEVENT
DTSTART;VALUE=DATE:20301017
DTEND;VALUE=DATE:20301018
DTSTAMP:20260420T033018
CREATED:20260309T234406Z
LAST-MODIFIED:20260324T012846Z
UID:10002570-1918425600-1918511999@thecorambahotel.com.au
SUMMARY:Trivia Night at Coramba Hotel!
DESCRIPTION:Trivia Night is on every Thursday at Coramba Hotel with your host Kelly Mac. Grab your team\, test your knowledge and settle in for a fun night in the valley with plenty of laughs and great prizes up for grabs. Perfect for mates\, families and anyone who loves a bit of friendly competition. \n\nBook Now
URL:https://thecorambahotel.com.au/event/trivia-night-at-coramba-hotel/2030-10-17/
LOCATION:NSW
ATTACH;FMTTYPE=image/jpeg:https://thecorambahotel.com.au/wp-content/uploads/2026/03/CH_ThursdayTriviaNights_2026_WEB.jpg
END:VEVENT
BEGIN:VEVENT
DTSTART;TZID=Australia/Sydney:20301021T100000
DTEND;TZID=Australia/Sydney:20301021T113000
DTSTAMP:20260420T033018
CREATED:20260226T042800Z
LAST-MODIFIED:20260226T042801Z
UID:10002311-1918807200-1918812600@thecorambahotel.com.au
SUMMARY:Bingo in the Valley with Kim
DESCRIPTION:Mondays just got a whole lot more fun in the Valley 🌿 \nBingo in the Valley is on every Monday from 10am at Coramba Hotel.\nGather your friends\, grab a coffee and settle in for a relaxed morning full of laughs\, prizes and that good old country pub atmosphere we love. \nIt’s social. It’s welcoming. It’s the perfect way to start your week.\nBring the whole family and make a morning of it.
URL:https://thecorambahotel.com.au/event/bingo-in-the-valley-with-kim/2030-10-21/
LOCATION:Coramba Hotel\, 17 Gale St\, Coramba\, NSW\, 2450\, Australia
CATEGORIES:Entertainment,Whats On
ATTACH;FMTTYPE=image/jpeg:https://thecorambahotel.com.au/wp-content/uploads/2026/02/CH_MondayBingo_MAR2026_WEB2.jpg
END:VEVENT
BEGIN:VEVENT
DTSTART;VALUE=DATE:20301024
DTEND;VALUE=DATE:20301025
DTSTAMP:20260420T033018
CREATED:20260309T234406Z
LAST-MODIFIED:20260324T012846Z
UID:10002571-1919030400-1919116799@thecorambahotel.com.au
SUMMARY:Trivia Night at Coramba Hotel!
DESCRIPTION:Trivia Night is on every Thursday at Coramba Hotel with your host Kelly Mac. Grab your team\, test your knowledge and settle in for a fun night in the valley with plenty of laughs and great prizes up for grabs. Perfect for mates\, families and anyone who loves a bit of friendly competition. \n\nBook Now
URL:https://thecorambahotel.com.au/event/trivia-night-at-coramba-hotel/2030-10-24/
LOCATION:NSW
ATTACH;FMTTYPE=image/jpeg:https://thecorambahotel.com.au/wp-content/uploads/2026/03/CH_ThursdayTriviaNights_2026_WEB.jpg
END:VEVENT
BEGIN:VEVENT
DTSTART;TZID=Australia/Sydney:20301028T100000
DTEND;TZID=Australia/Sydney:20301028T113000
DTSTAMP:20260420T033018
CREATED:20260226T042800Z
LAST-MODIFIED:20260226T042801Z
UID:10002312-1919412000-1919417400@thecorambahotel.com.au
SUMMARY:Bingo in the Valley with Kim
DESCRIPTION:Mondays just got a whole lot more fun in the Valley 🌿 \nBingo in the Valley is on every Monday from 10am at Coramba Hotel.\nGather your friends\, grab a coffee and settle in for a relaxed morning full of laughs\, prizes and that good old country pub atmosphere we love. \nIt’s social. It’s welcoming. It’s the perfect way to start your week.\nBring the whole family and make a morning of it.
URL:https://thecorambahotel.com.au/event/bingo-in-the-valley-with-kim/2030-10-28/
LOCATION:Coramba Hotel\, 17 Gale St\, Coramba\, NSW\, 2450\, Australia
CATEGORIES:Entertainment,Whats On
ATTACH;FMTTYPE=image/jpeg:https://thecorambahotel.com.au/wp-content/uploads/2026/02/CH_MondayBingo_MAR2026_WEB2.jpg
END:VEVENT
BEGIN:VEVENT
DTSTART;VALUE=DATE:20301031
DTEND;VALUE=DATE:20301101
DTSTAMP:20260420T033018
CREATED:20260309T234406Z
LAST-MODIFIED:20260324T012846Z
UID:10002572-1919635200-1919721599@thecorambahotel.com.au
SUMMARY:Trivia Night at Coramba Hotel!
DESCRIPTION:Trivia Night is on every Thursday at Coramba Hotel with your host Kelly Mac. Grab your team\, test your knowledge and settle in for a fun night in the valley with plenty of laughs and great prizes up for grabs. Perfect for mates\, families and anyone who loves a bit of friendly competition. \n\nBook Now
URL:https://thecorambahotel.com.au/event/trivia-night-at-coramba-hotel/2030-10-31/
LOCATION:NSW
ATTACH;FMTTYPE=image/jpeg:https://thecorambahotel.com.au/wp-content/uploads/2026/03/CH_ThursdayTriviaNights_2026_WEB.jpg
END:VEVENT
BEGIN:VEVENT
DTSTART;TZID=Australia/Sydney:20301104T100000
DTEND;TZID=Australia/Sydney:20301104T113000
DTSTAMP:20260420T033018
CREATED:20260226T042800Z
LAST-MODIFIED:20260226T042801Z
UID:10002313-1920016800-1920022200@thecorambahotel.com.au
SUMMARY:Bingo in the Valley with Kim
DESCRIPTION:Mondays just got a whole lot more fun in the Valley 🌿 \nBingo in the Valley is on every Monday from 10am at Coramba Hotel.\nGather your friends\, grab a coffee and settle in for a relaxed morning full of laughs\, prizes and that good old country pub atmosphere we love. \nIt’s social. It’s welcoming. It’s the perfect way to start your week.\nBring the whole family and make a morning of it.
URL:https://thecorambahotel.com.au/event/bingo-in-the-valley-with-kim/2030-11-04/
LOCATION:Coramba Hotel\, 17 Gale St\, Coramba\, NSW\, 2450\, Australia
CATEGORIES:Entertainment,Whats On
ATTACH;FMTTYPE=image/jpeg:https://thecorambahotel.com.au/wp-content/uploads/2026/02/CH_MondayBingo_MAR2026_WEB2.jpg
END:VEVENT
BEGIN:VEVENT
DTSTART;TZID=Australia/Sydney:20301106T180000
DTEND;TZID=Australia/Sydney:20301106T210000
DTSTAMP:20260420T033018
CREATED:20251021T011755Z
LAST-MODIFIED:20260326T041925Z
UID:10003468-1920218400-1920229200@thecorambahotel.com.au
SUMMARY:Musical Bingo
DESCRIPTION:Musical Bingo is coming to Coramba Hotel!\nThe first Wednesday of every month.\nFrom 6PM\, Free to play \n🎁 Prizes\, drink specials & good times guaranteed\nIt’s all the fun of bingo\, but with your favourite songs.\nNo pressure – just tunes\, laughs\, and a cheeky midweek sesh. \nTable bookings welcome via thecorambahotel.com.au\nhttps://tableagent.com/coffs-harbour/the-coramba-hotel/\n#MusicalBingo #CorambaHotel
URL:https://thecorambahotel.com.au/event/%f0%9f%8e%b6-musical-bingo-is-coming-to-coramba-hotel-2/2030-11-06/
LOCATION:Coramba Hotel\, 17 Gale St\, Coramba\, NSW\, 2450\, Australia
CATEGORIES:Entertainment,Whats On
ATTACH;FMTTYPE=image/jpeg:https://thecorambahotel.com.au/wp-content/uploads/2025/10/CH_MusicalBingo_GENERIC-2025_WEB.jpg
END:VEVENT
BEGIN:VEVENT
DTSTART;VALUE=DATE:20301107
DTEND;VALUE=DATE:20301108
DTSTAMP:20260420T033018
CREATED:20260309T234406Z
LAST-MODIFIED:20260324T012846Z
UID:10002573-1920240000-1920326399@thecorambahotel.com.au
SUMMARY:Trivia Night at Coramba Hotel!
DESCRIPTION:Trivia Night is on every Thursday at Coramba Hotel with your host Kelly Mac. Grab your team\, test your knowledge and settle in for a fun night in the valley with plenty of laughs and great prizes up for grabs. Perfect for mates\, families and anyone who loves a bit of friendly competition. \n\nBook Now
URL:https://thecorambahotel.com.au/event/trivia-night-at-coramba-hotel/2030-11-07/
LOCATION:NSW
ATTACH;FMTTYPE=image/jpeg:https://thecorambahotel.com.au/wp-content/uploads/2026/03/CH_ThursdayTriviaNights_2026_WEB.jpg
END:VEVENT
BEGIN:VEVENT
DTSTART;TZID=Australia/Sydney:20301111T100000
DTEND;TZID=Australia/Sydney:20301111T113000
DTSTAMP:20260420T033018
CREATED:20260226T042800Z
LAST-MODIFIED:20260226T042801Z
UID:10002314-1920621600-1920627000@thecorambahotel.com.au
SUMMARY:Bingo in the Valley with Kim
DESCRIPTION:Mondays just got a whole lot more fun in the Valley 🌿 \nBingo in the Valley is on every Monday from 10am at Coramba Hotel.\nGather your friends\, grab a coffee and settle in for a relaxed morning full of laughs\, prizes and that good old country pub atmosphere we love. \nIt’s social. It’s welcoming. It’s the perfect way to start your week.\nBring the whole family and make a morning of it.
URL:https://thecorambahotel.com.au/event/bingo-in-the-valley-with-kim/2030-11-11/
LOCATION:Coramba Hotel\, 17 Gale St\, Coramba\, NSW\, 2450\, Australia
CATEGORIES:Entertainment,Whats On
ATTACH;FMTTYPE=image/jpeg:https://thecorambahotel.com.au/wp-content/uploads/2026/02/CH_MondayBingo_MAR2026_WEB2.jpg
END:VEVENT
END:VCALENDAR