BEGIN:VCALENDAR
VERSION:2.0
PRODID:-//Coramba Hotel - ECPv6.15.20//NONSGML v1.0//EN
CALSCALE:GREGORIAN
METHOD:PUBLISH
X-ORIGINAL-URL:https://thecorambahotel.com.au
X-WR-CALDESC:Events for Coramba Hotel
REFRESH-INTERVAL;VALUE=DURATION:PT1H
X-Robots-Tag:noindex
X-PUBLISHED-TTL:PT1H
BEGIN:VTIMEZONE
TZID:Australia/Sydney
BEGIN:STANDARD
TZOFFSETFROM:+1100
TZOFFSETTO:+1000
TZNAME:AEST
DTSTART:20250405T160000
END:STANDARD
BEGIN:DAYLIGHT
TZOFFSETFROM:+1000
TZOFFSETTO:+1100
TZNAME:AEDT
DTSTART:20251004T160000
END:DAYLIGHT
BEGIN:STANDARD
TZOFFSETFROM:+1100
TZOFFSETTO:+1000
TZNAME:AEST
DTSTART:20260404T160000
END:STANDARD
BEGIN:DAYLIGHT
TZOFFSETFROM:+1000
TZOFFSETTO:+1100
TZNAME:AEDT
DTSTART:20261003T160000
END:DAYLIGHT
BEGIN:STANDARD
TZOFFSETFROM:+1100
TZOFFSETTO:+1000
TZNAME:AEST
DTSTART:20270403T160000
END:STANDARD
BEGIN:DAYLIGHT
TZOFFSETFROM:+1000
TZOFFSETTO:+1100
TZNAME:AEDT
DTSTART:20271002T160000
END:DAYLIGHT
END:VTIMEZONE
BEGIN:VEVENT
DTSTART;TZID=Australia/Sydney:20260516T140000
DTEND;TZID=Australia/Sydney:20260516T170000
DTSTAMP:20260423T215320
CREATED:20260326T035300Z
LAST-MODIFIED:20260326T035300Z
UID:10003467-1778940000-1778950800@thecorambahotel.com.au
SUMMARY:Casamigos Tequila Masterclass
DESCRIPTION:Tequila lovers this one’s for you 🍋 \nJoin us at Coramba Hotel for a Casamigos Tequila Masterclass hosted by Steven Harrod from Diageo. Learn the art of tequila\, enjoy cocktail making and indulge in canapés in a relaxed afternoon in the valley. \nSaturday 16 May2pm to 4pmCoramba Hotel \nIncludesCasamigos tequila masterclassCocktail makingCanapés$59 per person \nLimited spots available. Book nowwww.trybooking.com/DKVSS
URL:https://thecorambahotel.com.au/event/casamigos-tequila-masterclass/
CATEGORIES:Entertainment,Whats On
ATTACH;FMTTYPE=image/jpeg:https://thecorambahotel.com.au/wp-content/uploads/2026/03/CH_TequilaMasterclass_MAY2026_WEB.jpg
END:VEVENT
END:VCALENDAR