BEGIN:VCALENDAR
VERSION:2.0
PRODID:-//Coramba Hotel - ECPv6.15.20//NONSGML v1.0//EN
CALSCALE:GREGORIAN
METHOD:PUBLISH
X-WR-CALNAME:Coramba Hotel
X-ORIGINAL-URL:https://thecorambahotel.com.au
X-WR-CALDESC:Events for Coramba Hotel
REFRESH-INTERVAL;VALUE=DURATION:PT1H
X-Robots-Tag:noindex
X-PUBLISHED-TTL:PT1H
BEGIN:VTIMEZONE
TZID:Australia/Sydney
BEGIN:STANDARD
TZOFFSETFROM:+1100
TZOFFSETTO:+1000
TZNAME:AEST
DTSTART:20250405T160000
END:STANDARD
BEGIN:DAYLIGHT
TZOFFSETFROM:+1000
TZOFFSETTO:+1100
TZNAME:AEDT
DTSTART:20251004T160000
END:DAYLIGHT
BEGIN:STANDARD
TZOFFSETFROM:+1100
TZOFFSETTO:+1000
TZNAME:AEST
DTSTART:20260404T160000
END:STANDARD
BEGIN:DAYLIGHT
TZOFFSETFROM:+1000
TZOFFSETTO:+1100
TZNAME:AEDT
DTSTART:20261003T160000
END:DAYLIGHT
BEGIN:STANDARD
TZOFFSETFROM:+1100
TZOFFSETTO:+1000
TZNAME:AEST
DTSTART:20270403T160000
END:STANDARD
BEGIN:DAYLIGHT
TZOFFSETFROM:+1000
TZOFFSETTO:+1100
TZNAME:AEDT
DTSTART:20271002T160000
END:DAYLIGHT
END:VTIMEZONE
BEGIN:VEVENT
DTSTART;TZID=Australia/Sydney:20260315T110000
DTEND;TZID=Australia/Sydney:20260315T180000
DTSTAMP:20260425T045441
CREATED:20260226T035312Z
LAST-MODIFIED:20260226T035312Z
UID:10002066-1773572400-1773597600@thecorambahotel.com.au
SUMMARY:Celebrate St Patrick’s Day the DVINE way
DESCRIPTION:Celebrate St Patrick’s Day the DVINE way — curated\, hosted and completely taken care of.\nYour day begins at the Hoey Moey with bubbles\, before we head into the lush Coffs hinterland for a swim at the Magic Pools in Upper Orara. From there\, we’ll make our way to the iconic Coramba Hotel for live music and an Irish-inspired lunch with your drink included. We’ll wrap things up back at the Hoey Moey with VIP access and cocktails to finish the day in style.\nNo planning. No driving. No stress.\nJust good company\, beautiful places and seamless hospitality — hosted by your very own DVINE Fun Director. \nInclusions:\n• Return transport\n• Bottle of bubbles\n• Visit to the Magic Pools\n• Lunch at Coramba Hotel\n• One drink with lunch (ale\, wine or soft drink)\n• VIP access at Hoey Moey\n• Two cocktails on return\n• Cold bottled water\n• Hosted by your DVINE Fun Director \n🎟️ Tickets: $159pp\n🚍 Seats: Strictly limited to 22\n🔗 Book here: https://www.dvinexperiences.com/coffs-harbour-experiences/\nThis is not a tour. It’s a DVINE Experience.
URL:https://thecorambahotel.com.au/event/celebrate-st-patricks-day-the-dvine-way/
LOCATION:Coramba Hotel\, 17 Gale St\, Coramba\, NSW\, 2450\, Australia
CATEGORIES:Entertainment,Whats On
ATTACH;FMTTYPE=image/jpeg:https://thecorambahotel.com.au/wp-content/uploads/2026/02/641521846_850659238009505_3845741327727603406_n.jpg
END:VEVENT
BEGIN:VEVENT
DTSTART;TZID=Australia/Sydney:20260315T120000
DTEND;TZID=Australia/Sydney:20260315T160000
DTSTAMP:20260425T045441
CREATED:20260226T032521Z
LAST-MODIFIED:20260226T032521Z
UID:10002062-1773576000-1773590400@thecorambahotel.com.au
SUMMARY:Raku - Sunday Session
DESCRIPTION:Raku O’Gaia has an uncanny ability to engage the very soul of an audience. \nAn incredible performer with a wonderful energy –  \nPlaying at the Coramba Hotel’s Sunday Session!
URL:https://thecorambahotel.com.au/event/raku-sunday-session-2/
LOCATION:Coramba Hotel\, 17 Gale St\, Coramba\, NSW\, 2450\, Australia
CATEGORIES:Entertainment
ATTACH;FMTTYPE=image/jpeg:https://thecorambahotel.com.au/wp-content/uploads/2026/02/CH_CombinedSundaySesh_MAR2026_WEB.jpg
END:VEVENT
END:VCALENDAR